{"text_format":"3","workbook":"xlsx","n_sheets":9,"sheets":["Foglio Informativo","danni_inv. a utilizz. durevole","danni_inv. a utilizz. non durev","danni_totale investimenti","vita_inv. a utilizz. durevole","vita_inv. a utilizz. non durev","vita_totale investimenti","mese corrente","dati cumulati da 1 gen"],"not_rendered":{"macros":1,"defined_names":52},"read":"whole","date_system":"1900"}

{"sheet":"Foglio Informativo","index":0,"n_rows":33,"n_cols":11,"rows_kept":33,"merged":[[3,2,3,8]]}
[]
[]
[null,null,"Inserire il nome dell'impresa:",{"$nulls":6},"e il codice*:"]
[]
[]
[null,null,"Data di riferimento",null,"31/01/2019"]
[]
[]
[{"$nulls":10},0]
[{"$nulls":10},0]
[{"$nulls":10},0]
[{"$nulls":10},0]
[{"$nulls":10},0]
[]
[{"$nulls":10},0]
[null,"* codice IVASS su 3 cifre (ad es. per A124S indicare 124); cfr. file Compag.xls",{"$nulls":8},0]
[{"$nulls":10},0]
[{"$nulls":10},0]
[{"$nulls":10},0]
[]
[]
[{"$nulls":10},0]
[{"$nulls":10},0]
[{"$nulls":10},0]
[{"$nulls":10},0]
[]
[{"$nulls":10},0]
[{"$nulls":10},0]
[{"$nulls":10},0]
[{"$nulls":10},0]
[{"$nulls":10},0]
[{"$nulls":10},0]
[{"$nulls":10},0]

{"sheet":"danni_inv. a utilizz. durevole","index":1,"n_rows":41,"n_cols":17,"rows_kept":41,"merged":[[0,0,0,6],[0,7,0,9],[2,4,2,5],[38,0,38,12],[39,0,39,16],[40,0,40,16]]}
[{"$f":"\"Società: \" &'Foglio Informativo'!C4","v":"Società: "},{"$nulls":6},{"$f":"\"Codice: \"&'Foglio Informativo'!J4","v":"Codice: "},{"$nulls":6},"",null,"Modello 1.1"]
[{"$f":"O1","v":""}]
["Gestione danni - Investimenti a utilizzo durevole",{"$nulls":3},{"$f":"'Foglio Informativo'!C6&\":\"","v":"Data di riferimento:"},null,{"$f":"'Foglio Informativo'!E6","v":"31/01/2019"},{"$nulls":9},"(valori in migliaia di Euro)"]
[]
[{"$nulls":3},"Valore di carico (1)",null,"Valore corrente (2)",null,"Plusvalenze latenti",null,"Minusvalenze",null,"Saldo plus - minusvalenze",null,"Rettifiche di valore (3)",null,null,"Rivalutazioni ex lege e riprese di valore (4) "]
[]
["C.I","Terreni e fabbricati  (A) ………………………………"," ",{"v":1,"d":"    1"},0,{"v":31,"d":"  31"},0,{"v":61,"d":"  61"},0,{"v":91,"d":"   91"},0,{"v":121,"d":" 121"},{"$f":"I7-K7","v":0},151,0,{"v":181,"d":" 181"},0]
["C.II.1","Azioni e quote di imprese del gruppo e altre imprese partecipate ….……....………",null,{"$f":"D7+1","v":{"v":2,"d":"    2"}},{"$f":"SUM(E9:E13)","v":{"v":0,"d":"0 "}},{"$f":"F7+1","v":{"v":32,"d":"  32"}},{"$f":"SUM(G9:G13)","v":{"v":0,"d":"0 "}},{"$f":"H7+1","v":{"v":62,"d":"  62"}},{"$f":"SUM(I9:I13)","v":{"v":0,"d":"0 "}},{"$f":"J7+1","v":{"v":92,"d":"   92"}},{"$f":"SUM(K9:K13)","v":{"v":0,"d":"0 "}},{"$f":"L7+1","v":{"v":122,"d":" 122"}},0,152,{"$f":"SUM(O9:O13)","v":0},182,{"$f":"SUM(Q9:Q13)","v":0}]
[null,"a) controllanti ………………………………….."," ",{"$f":"D8+1","v":{"v":3,"d":"    3"}},0,{"$f":"F8+1","v":{"v":33,"d":"  33"}},0,{"$f":"H8+1","v":{"v":63,"d":"  63"}},0,{"$f":"J8+1","v":{"v":93,"d":"   93"}},0,{"$f":"L8+1","v":{"v":123,"d":" 123"}},0,153,0,{"v":183,"d":" 183"},0]
[null,"b) controllate ………………………………….."," ",{"v":4,"d":"    4"},0,{"$f":"F9+1","v":{"v":34,"d":"  34"}},0,{"$f":"H9+1","v":{"v":64,"d":"  64"}},0,{"$f":"J9+1","v":{"v":94,"d":"   94"}},0,{"$f":"L9+1","v":{"v":124,"d":" 124"}},0,154,0,184,0]
[null,"c) consociate ………………………………….."," ",{"$f":"D10+1","v":{"v":5,"d":"    5"}},0,{"v":35,"d":"  35"},0,{"v":65,"d":"  65"},0,{"v":95,"d":"   95"},0,{"v":125,"d":" 125"},0,155,0,{"v":185,"d":" 185"},0]
[null,"d) collegate ………………………………….."," ",{"v":6,"d":"    6"},0,{"v":36,"d":"  36"},0,{"v":66,"d":"  66"},0,{"v":96,"d":"   96"},0,{"v":126,"d":" 126"},0,156,0,186,0]
[null,"e) altre ………………………………..……….."," ",{"$f":"D12+1","v":{"v":7,"d":"    7"}},0,{"$f":"F12+1","v":{"v":37,"d":"  37"}},0,{"$f":"H12+1","v":{"v":67,"d":"  67"}},0,{"$f":"J12+1","v":{"v":97,"d":"   97"}},0,{"$f":"L12+1","v":{"v":127,"d":" 127"}},0,157,0,{"v":187,"d":" 187"},0]
["C.II.2","Obbligazioni emesse da imprese del gruppo e altre imprese partecipate ………..………",null,{"v":8,"d":"    8"},{"$f":"SUM(E15:E19)","v":{"v":0,"d":"0 "}},{"v":38,"d":"  38"},{"$f":"SUM(G15:G19)","v":{"v":0,"d":"0 "}},{"v":68,"d":"  68"},{"$f":"SUM(I15:I19)","v":{"v":0,"d":"0 "}},{"v":98,"d":"   98"},{"$f":"SUM(K15:K19)","v":{"v":0,"d":"0 "}},{"v":128,"d":" 128"},0,158,{"$f":"SUM(O15:O19)","v":0},188,{"$f":"SUM(Q15:Q19)","v":0}]
[null,"a) controllanti ………………………………….."," ",{"v":9,"d":"    9"},0,{"v":39,"d":"  39"},0,{"v":69,"d":"  69"},0,{"v":99,"d":"   99"},0,{"v":129,"d":" 129"},0,159,0,{"v":189,"d":" 189"},0]
[null,"b) controllate ………………………………….."," ",{"v":10,"d":"  10"},0,{"v":40,"d":"  40"},0,{"v":70,"d":"  70"},0,{"v":100,"d":" 100"},0,{"v":130,"d":" 130"},0,160,0,190,0]
[null,"c) consociate ………………………………….."," ",{"v":11,"d":"  11"},0,{"v":41,"d":"  41"},0,{"v":71,"d":"  71"},0,{"v":101,"d":" 101"},0,{"v":131,"d":" 131"},0,161,0,{"v":191,"d":" 191"},0]
[null,"d) collegate ………………………………….."," ",{"v":12,"d":"  12"},0,{"v":42,"d":"  42"},0,{"v":72,"d":"  72"},0,{"v":102,"d":" 102"},0,{"v":132,"d":" 132"},0,162,0,192,0]
[null,"e) altre ………………………………..……….."," ",{"v":13,"d":"  13"},0,{"v":43,"d":"  43"},0,{"v":73,"d":"  73"},0,{"v":103,"d":" 103"},0,{"v":133,"d":" 133"},0,163,0,{"v":193,"d":" 193"},0]
["Totale C.II.1 e C.II.2 (B) ……………………………………..",null," ",{"v":14,"d":"  14"},{"$f":"SUM(E8,E14)","v":{"v":0,"d":"0 "}},{"v":44,"d":"  44"},{"$f":"SUM(G8,G14)","v":{"v":0,"d":"0 "}},{"v":74,"d":"  74"},{"$f":"SUM(I8,I14)","v":{"v":0,"d":"0 "}},{"v":104,"d":" 104"},{"$f":"SUM(K8,K14)","v":{"v":0,"d":"0 "}},{"v":134,"d":" 134"},0,164,{"$f":"SUM(O8,O14)","v":0},194,{"$f":"SUM(Q8,Q14)","v":0}]
["C.III.1","Azioni e quote di imprese: ......................................................................................................................"," ",{"v":15,"d":"  15"},{"$f":"SUM(E22:E24)","v":{"v":0,"d":"0 "}},{"v":45,"d":"  45"},{"$f":"SUM(G22:G24)","v":{"v":0,"d":"0 "}},{"v":75,"d":"  75"},{"$f":"SUM(I22:I24)","v":{"v":0,"d":"0 "}},{"v":105,"d":" 105"},{"$f":"SUM(K22:K24)","v":{"v":0,"d":"0 "}},{"v":135,"d":" 135"},0,165,{"$f":"SUM(O22:O24)","v":0},{"v":195,"d":" 195"},{"$f":"SUM(Q22:Q24)","v":0}]
["    ","a) azioni quotate ......................................................................................................."," ",{"$f":"D21+1","v":{"v":16,"d":"  16"}},0,{"$f":"F21+1","v":{"v":46,"d":"  46"}},0,{"$f":"H21+1","v":{"v":76,"d":"  76"}},0,{"$f":"J21+1","v":{"v":106,"d":" 106"}},0,{"$f":"L21+1","v":{"v":136,"d":" 136"}},0,166,0,196,0]
["    ","b) azioni non quotate  .......................................................................................................","     ",{"v":17,"d":"  17"},0,{"v":47,"d":"  47"},0,{"v":77,"d":"  77"},0,{"v":107,"d":" 107"},0,{"v":137,"d":" 137"},0,167,0,{"v":197,"d":" 197"},0]
["    ","c) quote ..................................................................................................................................","     ",{"v":18,"d":"  18"},0,{"v":48,"d":"  48"},0,{"v":78,"d":"  78"},0,{"v":108,"d":" 108"},0,{"v":138,"d":" 138"},0,168,0,198,0]
["C.III.2","Quote di fondi comuni di investimento  ..........................................................................","     ",{"v":19,"d":"  19"},0,{"v":49,"d":"  49"},0,{"v":79,"d":"  79"},0,{"v":109,"d":" 109"},0,{"v":139,"d":" 139"},0,169,0,{"v":199,"d":" 199"},0]
["C.III.3","Obbligazioni e altri titoli a reddito fisso ........................................................................................."," ",{"v":20,"d":"  20"},{"$f":"SUM(E27:E31)","v":{"v":0,"d":"0 "}},{"v":50,"d":"  50"},{"$f":"SUM(G27:G31)","v":{"v":0,"d":"0 "}},{"v":80,"d":"  80"},{"$f":"SUM(I27:I31)","v":{"v":0,"d":"0 "}},{"v":110,"d":" 110"},{"$f":"SUM(K27:K31)","v":{"v":0,"d":"0 "}},{"v":140,"d":" 140"},0,170,{"$f":"SUM(O27:O31)","v":0},200,{"$f":"SUM(Q27:Q31)","v":0}]
["    ","a1) titoli di Stato quotati .......................................................................................................","     ",{"v":21,"d":"  21"},0,{"v":51,"d":"  51"},0,{"v":81,"d":"  81"},0,{"v":111,"d":" 111"},0,{"v":141,"d":" 141"},0,171,0,{"v":201,"d":" 201"},0]
["    ","a2) altri titoli quotati .......................................................................................................","     ",{"v":22,"d":"  22"},0,{"v":52,"d":"  52"},0,{"v":82,"d":"  82"},0,{"v":112,"d":" 112"},0,{"v":142,"d":" 142"},0,172,0,202,0]
["    ","b1) titoli di Stato non quotati .......................................................................................................","     ",{"v":23,"d":"  23"},0,{"v":53,"d":"  53"},0,{"v":83,"d":"  83"},0,{"v":113,"d":" 113"},0,{"v":143,"d":" 143"},0,173,0,{"v":203,"d":" 203"},0]
["    ","b2) altri titoli non quotati ......................................................................................................."," ",{"v":24,"d":"  24"},0,{"v":54,"d":"  54"},0,{"v":84,"d":"  84"},0,{"v":114,"d":" 114"},0,{"v":144,"d":" 144"},0,174,0,204,0]
["      ","c) obbligazioni convertibili .......................................................................................................","     ",{"v":25,"d":"  25"},0,{"v":55,"d":"  55"},0,{"v":85,"d":"  85"},0,{"v":115,"d":" 115"},0,{"v":145,"d":" 145"},0,175,0,{"v":205,"d":" 205"},0]
["C.III.5","Quote in investimenti comuni ……………………"," ",{"v":26,"d":"  26"},0,{"v":56,"d":"  56"},0,{"v":86,"d":"  86"},0,{"v":116,"d":" 116"},0,{"v":146,"d":" 146"},0,176,0,206,0]
["C.III.7","Investimenti finanziari diversi ………………….."," ",{"v":27,"d":"  27"},0,{"v":57,"d":"  57"},0,{"v":87,"d":"  87"},0,{"v":117,"d":" 117"},0,{"v":147,"d":" 147"},0,177,0,{"v":207,"d":" 207"},0]
["Totale C.III.1, 2, 3, 5, 7 (C) ……………………………………..",null," ",{"$f":"D33+1","v":{"v":28,"d":"  28"}},{"$f":"SUM(E21,E25,E26,E32,E33)","v":{"v":0,"d":"0 "}},{"$f":"F33+1","v":{"v":58,"d":"  58"}},{"$f":"SUM(G21,G25,G26,G32,G33)","v":{"v":0,"d":"0 "}},{"$f":"H33+1","v":{"v":88,"d":"  88"}},{"$f":"SUM(I21,I25,I26,I32,I33)","v":{"v":0,"d":"0 "}},{"$f":"J33+1","v":{"v":118,"d":" 118"}},{"$f":"SUM(K21,K25,K26,K32,K33)","v":{"v":0,"d":"0 "}},{"$f":"L33+1","v":{"v":148,"d":" 148"}},0,178,{"$f":"SUM(O21,O25,O26,O32,O33)","v":0},208,{"$f":"SUM(Q21,Q25,Q26,Q32,Q33)","v":0}]
["Totale generale (A + B + C) …………………………",null," ",{"$f":"D34+1","v":{"v":29,"d":"  29"}},{"$f":"SUM(E7,E20,E34)","v":{"v":0,"d":"0 "}},{"$f":"F34+1","v":{"v":59,"d":"  59"}},{"$f":"SUM(G7,G20,G34)","v":{"v":0,"d":"0 "}},{"$f":"H34+1","v":{"v":89,"d":"  89"}},{"$f":"SUM(I7,I20,I34)","v":{"v":0,"d":"0 "}},{"$f":"J34+1","v":{"v":119,"d":" 119"}},{"$f":"SUM(K7,K20,K34)","v":{"v":0,"d":"0 "}},{"$f":"L34+1","v":{"v":149,"d":" 149"}},0,179,{"$f":"SUM(O7,O20,O34)","v":0},{"v":209,"d":" 209"},{"$f":"SUM(Q7,Q20,Q34)","v":0}]
[]
[]
["(1)  Dovrà essere riportato il valore di carico senza operare alcuna rettifica infrannuale"]
["(2)  Ai soli fini del monitoraggio in oggetto, nella determinazione del valore corrente degli investimenti quotati in mercati regolamentati, dovrà essere utilizzato il valore dell'ultimo giorno di transazione di ciascun mese"]
["(3) Dovranno essere riportate le rettifiche di valore operate rispetto al valore di carico evidenziato nell'ultimo monitoraggio dell'anno precedente. "]
["(4) Dovranno essere riportate le eventuali rivalutazioni su immobili operate ai sensi dell'art. 15, commi 16-23, del D. lgs 185/08 convertito con legge 2/09 e le eventuali riprese di valore operate su altri attivi rispetto al valore di carico evidenziato nell'ultimo monitoraggio dell'anno precedente.  "]

{"sheet":"danni_inv. a utilizz. non durev","index":2,"n_rows":41,"n_cols":17,"rows_kept":41,"merged":[[0,0,0,6],[0,7,0,9],[2,4,2,5],[2,6,2,7],[38,0,38,12],[39,0,39,16],[40,0,40,16]]}
[{"$f":"\"Società: \" &'Foglio Informativo'!C4","v":"Società: "},{"$nulls":6},{"$f":"\"Codice: \"&'Foglio Informativo'!J4","v":"Codice: "},{"$nulls":6},"",null,"Modello 1.2"]
[]
["Gestione danni - Investimenti a utilizzo non durevole",{"$nulls":3},{"$f":"'Foglio Informativo'!C6&\":\"","v":"Data di riferimento:"},null,{"$f":"'Foglio Informativo'!E6","v":"31/01/2019"},{"$nulls":9},"(valori in migliaia di Euro)"]
[]
[{"$nulls":3},"Valore di carico (1)",null,"Valore corrente (2)",null,"Plusvalenze latenti",null,"Minusvalenze",null,"Saldo plus - minusvalenze",null,"Rettifiche di valore (3)",null,null,"Rivalutazioni ex lege e riprese di valore (4) "]
[]
["C.I","Terreni e fabbricati  (A) ………………………………"," ",{"v":1,"d":"    1"},0,{"v":31,"d":"  31"},0,{"v":61,"d":"  61"},0,{"v":91,"d":"   91"},0,{"v":121,"d":" 121"},{"$f":"I7-K7","v":0},151,0,{"v":181,"d":" 181"},0]
["C.II.1","Azioni e quote di imprese del gruppo e altre imprese partecipate ….……....………",null,{"$f":"D7+1","v":{"v":2,"d":"    2"}},{"$f":"SUM(E9:E13)","v":{"v":0,"d":"0 "}},{"$f":"F7+1","v":{"v":32,"d":"  32"}},{"$f":"SUM(G9:G13)","v":{"v":0,"d":"0 "}},{"$f":"H7+1","v":{"v":62,"d":"  62"}},{"$f":"SUM(I9:I13)","v":{"v":0,"d":"0 "}},{"$f":"J7+1","v":{"v":92,"d":"   92"}},{"$f":"SUM(K9:K13)","v":{"v":0,"d":"0 "}},{"$f":"L7+1","v":{"v":122,"d":" 122"}},0,152,{"$f":"SUM(O9:O13)","v":0},182,{"$f":"SUM(Q9:Q13)","v":0}]
[null,"a) controllanti ………………………………….."," ",{"v":3,"d":"    3"},0,{"$f":"F8+1","v":{"v":33,"d":"  33"}},0,{"$f":"H8+1","v":{"v":63,"d":"  63"}},0,{"$f":"J8+1","v":{"v":93,"d":"   93"}},0,{"v":123,"d":" 123"},0,153,0,{"v":183,"d":" 183"},0]
[null,"b) controllate ………………………………….."," ",{"v":4,"d":"    4"},0,{"$f":"F9+1","v":{"v":34,"d":"  34"}},0,{"$f":"H9+1","v":{"v":64,"d":"  64"}},0,{"$f":"J9+1","v":{"v":94,"d":"   94"}},0,{"v":124,"d":" 124"},0,154,0,184,0]
[null,"c) consociate ………………………………….."," ",{"v":5,"d":"    5"},0,{"v":35,"d":"  35"},0,{"v":65,"d":"  65"},0,{"v":95,"d":"   95"},0,{"v":125,"d":" 125"},0,155,0,{"v":185,"d":" 185"},0]
[null,"d) collegate ………………………………….."," ",{"v":6,"d":"    6"},0,{"v":36,"d":"  36"},0,{"v":66,"d":"  66"},0,{"v":96,"d":"   96"},0,{"v":126,"d":" 126"},0,156,0,186,0]
[null,"e) altre ………………………………..……….."," ",{"v":7,"d":"    7"},0,{"$f":"F12+1","v":{"v":37,"d":"  37"}},0,{"$f":"H12+1","v":{"v":67,"d":"  67"}},0,{"$f":"J12+1","v":{"v":97,"d":"   97"}},0,{"v":127,"d":" 127"},0,157,0,{"v":187,"d":" 187"},0]
["C.II.2","Obbligazioni emesse da imprese del gruppo e altre imprese partecipate ………..………",null,{"v":8,"d":"    8"},{"$f":"SUM(E15:E19)","v":{"v":0,"d":"0 "}},{"v":38,"d":"  38"},{"$f":"SUM(G15:G19)","v":{"v":0,"d":"0 "}},{"v":68,"d":"  68"},{"$f":"SUM(I15:I19)","v":{"v":0,"d":"0 "}},{"v":98,"d":"   98"},{"$f":"SUM(K15:K19)","v":{"v":0,"d":"0 "}},{"v":128,"d":" 128"},0,158,{"$f":"SUM(O15:O19)","v":0},188,{"$f":"SUM(Q15:Q19)","v":0}]
[null,"a) controllanti ………………………………….."," ",{"v":9,"d":"    9"},0,{"v":39,"d":"  39"},0,{"v":69,"d":"  69"},0,{"v":99,"d":"   99"},0,{"v":129,"d":" 129"},0,159,0,{"v":189,"d":" 189"},0]
[null,"b) controllate ………………………………….."," ",{"v":10,"d":"  10"},0,{"v":40,"d":"  40"},0,{"v":70,"d":"  70"},0,{"v":100,"d":" 100"},0,{"v":130,"d":" 130"},0,160,0,190,0]
[null,"c) consociate ………………………………….."," ",{"v":11,"d":"  11"},0,{"v":41,"d":"  41"},0,{"v":71,"d":"  71"},0,{"v":101,"d":" 101"},0,{"v":131,"d":" 131"},0,161,0,{"v":191,"d":" 191"},0]
[null,"d) collegate ………………………………….."," ",{"v":12,"d":"  12"},0,{"v":42,"d":"  42"},0,{"v":72,"d":"  72"},0,{"v":102,"d":" 102"},0,{"v":132,"d":" 132"},0,162,0,192,0]
[null,"e) altre ………………………………..……….."," ",{"v":13,"d":"  13"},0,{"v":43,"d":"  43"},0,{"v":73,"d":"  73"},0,{"v":103,"d":" 103"},0,{"v":133,"d":" 133"},0,163,0,{"v":193,"d":" 193"},0]
["Totale C.II.1 e C.II.2 (B) ……………………………………..",null," ",{"v":14,"d":"  14"},{"$f":"SUM(E8,E14)","v":{"v":0,"d":"0 "}},{"v":44,"d":"  44"},{"$f":"SUM(G8,G14)","v":{"v":0,"d":"0 "}},{"v":74,"d":"  74"},{"$f":"SUM(I8,I14)","v":{"v":0,"d":"0 "}},{"v":104,"d":" 104"},{"$f":"SUM(K8,K14)","v":{"v":0,"d":"0 "}},{"v":134,"d":" 134"},0,164,{"$f":"SUM(O8,O14)","v":0},194,{"$f":"SUM(Q8,Q14)","v":0}]
["C.III.1","Azioni e quote di imprese: ......................................................................................................................"," ",{"v":15,"d":"  15"},{"$f":"SUM(E22:E24)","v":{"v":0,"d":"0 "}},{"v":45,"d":"  45"},{"$f":"SUM(G22:G24)","v":{"v":0,"d":"0 "}},{"v":75,"d":"  75"},{"$f":"SUM(I22:I24)","v":{"v":0,"d":"0 "}},{"v":105,"d":" 105"},{"$f":"SUM(K22:K24)","v":{"v":0,"d":"0 "}},{"v":135,"d":" 135"},0,165,{"$f":"SUM(O22:O24)","v":0},{"v":195,"d":" 195"},{"$f":"SUM(Q22:Q24)","v":0}]
["    ","a) azioni quotate ......................................................................................................."," ",{"v":16,"d":"  16"},0,{"v":46,"d":"  46"},0,{"v":76,"d":"  76"},0,{"v":106,"d":" 106"},0,{"v":136,"d":" 136"},0,166,0,196,0]
["    ","b) azioni non quotate  .......................................................................................................","     ",{"v":17,"d":"  17"},0,{"v":47,"d":"  47"},0,{"v":77,"d":"  77"},0,{"v":107,"d":" 107"},0,{"v":137,"d":" 137"},0,167,0,{"v":197,"d":" 197"},0]
["    ","c) quote ..................................................................................................................................","     ",{"v":18,"d":"  18"},0,{"v":48,"d":"  48"},0,{"v":78,"d":"  78"},0,{"v":108,"d":" 108"},0,{"v":138,"d":" 138"},0,168,0,198,0]
["C.III.2","Quote di fondi comuni di investimento  ..........................................................................","     ",{"v":19,"d":"  19"},0,{"v":49,"d":"  49"},0,{"v":79,"d":"  79"},0,{"v":109,"d":" 109"},0,{"v":139,"d":" 139"},0,169,0,{"v":199,"d":" 199"},0]
["C.III.3","Obbligazioni e altri titoli a reddito fisso ........................................................................................."," ",{"v":20,"d":"  20"},{"$f":"SUM(E27:E31)","v":{"v":0,"d":"0 "}},{"v":50,"d":"  50"},{"$f":"SUM(G27:G31)","v":{"v":0,"d":"0 "}},{"v":80,"d":"  80"},{"$f":"SUM(I27:I31)","v":{"v":0,"d":"0 "}},{"v":110,"d":" 110"},{"$f":"SUM(K27:K31)","v":{"v":0,"d":"0 "}},{"v":140,"d":" 140"},0,170,{"$f":"SUM(O27:O31)","v":0},200,{"$f":"SUM(Q27:Q31)","v":0}]
["    ","a1) titoli di Stato quotati .......................................................................................................","     ",{"v":21,"d":"  21"},0,{"v":51,"d":"  51"},0,{"v":81,"d":"  81"},0,{"v":111,"d":" 111"},0,{"v":141,"d":" 141"},0,171,0,{"v":201,"d":" 201"},0]
["    ","a2) altri titoli quotati .......................................................................................................","     ",{"v":22,"d":"  22"},0,{"v":52,"d":"  52"},0,{"v":82,"d":"  82"},0,{"v":112,"d":" 112"},0,{"v":142,"d":" 142"},0,172,0,202,0]
["    ","b1) titoli di Stato non quotati .......................................................................................................","     ",{"v":23,"d":"  23"},0,{"v":53,"d":"  53"},0,{"v":83,"d":"  83"},0,{"v":113,"d":" 113"},0,{"v":143,"d":" 143"},0,173,0,{"v":203,"d":" 203"},0]
["    ","b2) altri titoli non quotati ......................................................................................................."," ",{"v":24,"d":"  24"},0,{"v":54,"d":"  54"},0,{"v":84,"d":"  84"},0,{"v":114,"d":" 114"},0,{"v":144,"d":" 144"},0,174,0,204,0]
["      ","c) obbligazioni convertibili .......................................................................................................","     ",{"v":25,"d":"  25"},0,{"v":55,"d":"  55"},0,{"v":85,"d":"  85"},0,{"v":115,"d":" 115"},0,{"v":145,"d":" 145"},0,175,0,{"v":205,"d":" 205"},0]
["C.III.5","Quote in investimenti comuni ……………………"," ",{"v":26,"d":"  26"},0,{"v":56,"d":"  56"},0,{"v":86,"d":"  86"},0,{"v":116,"d":" 116"},0,{"v":146,"d":" 146"},0,176,0,206,0]
["C.III.7","Investimenti finanziari diversi ………………….."," ",{"v":27,"d":"  27"},0,{"v":57,"d":"  57"},0,{"v":87,"d":"  87"},0,{"v":117,"d":" 117"},0,{"v":147,"d":" 147"},0,177,0,{"v":207,"d":" 207"},0]
["Totale C.III.1, 2, 3, 5, 7 (C) ……………………………………..",null," ",{"v":28,"d":"  28"},{"$f":"SUM(E21,E25,E26,E32,E33)","v":{"v":0,"d":"0 "}},{"$f":"F33+1","v":{"v":58,"d":"  58"}},{"$f":"SUM(G21,G25,G26,G32,G33)","v":{"v":0,"d":"0 "}},{"$f":"H33+1","v":{"v":88,"d":"  88"}},{"$f":"SUM(I21,I25,I26,I32,I33)","v":{"v":0,"d":"0 "}},{"$f":"J33+1","v":{"v":118,"d":" 118"}},{"$f":"SUM(K21,K25,K26,K32,K33)","v":{"v":0,"d":"0 "}},{"v":148,"d":" 148"},0,178,{"$f":"SUM(O21,O25,O26,O32,O33)","v":0},208,{"$f":"SUM(Q21,Q25,Q26,Q32,Q33)","v":0}]
["Totale generale (A + B + C) …………………………",null," ",{"v":29,"d":"  29"},{"$f":"SUM(E7,E20,E34)","v":{"v":0,"d":"0 "}},{"$f":"F34+1","v":{"v":59,"d":"  59"}},{"$f":"SUM(G7,G20,G34)","v":{"v":0,"d":"0 "}},{"$f":"H34+1","v":{"v":89,"d":"  89"}},{"$f":"SUM(I7,I20,I34)","v":{"v":0,"d":"0 "}},{"$f":"J34+1","v":{"v":119,"d":" 119"}},{"$f":"SUM(K7,K20,K34)","v":{"v":0,"d":"0 "}},{"v":149,"d":" 149"},0,179,{"$f":"SUM(O7,O20,O34)","v":0},{"v":209,"d":" 209"},{"$f":"SUM(Q7,Q20,Q34)","v":0}]
[]
[]
["(1)  Dovrà essere riportato il valore di carico senza operare alcuna rettifica infrannuale"]
["(2)  Ai soli fini del monitoraggio in oggetto, nella determinazione del valore corrente degli investimenti quotati in mercati regolamentati, dovrà essere utilizzato il valore dell'ultimo giorno di transazione di ciascun mese."]
["(3) Dovranno essere riportate le rettifiche di valore operate rispetto al valore di carico evidenziato nell'ultimo monitoraggio dell'anno precedente. "]
["(4) Dovranno essere riportate le eventuali rivalutazioni su immobili operate ai sensi dell'art. 15, commi 16-23, del D. lgs 185/08 convertito con legge 2/09 e le eventuali riprese di valore operate su altri attivi rispetto al valore di carico evidenziato nell'ultimo monitoraggio dell'anno precedente.  "]

{"sheet":"danni_totale investimenti","index":3,"n_rows":41,"n_cols":17,"rows_kept":41,"merged":[[0,0,0,6],[0,7,0,9],[2,4,2,5],[2,6,2,7],[38,0,38,8],[39,0,39,16],[40,0,40,16]]}
[{"$f":"\"Società: \" &'Foglio Informativo'!C4","v":"Società: "},{"$nulls":6},{"$f":"\"Codice: \"&'Foglio Informativo'!J4","v":"Codice: "},{"$nulls":6},"",null,"Modello 1.3"]
[]
["Gestione danni -Totale investimenti",{"$nulls":3},{"$f":"'Foglio Informativo'!C6&\":\"","v":"Data di riferimento:"},null,{"$f":"'Foglio Informativo'!E6","v":"31/01/2019"},{"$nulls":9},"(valori in migliaia di Euro)"]
[]
[{"$nulls":3},"Valore di carico (1)",null,"Valore corrente (2)",null,"Plusvalenze latenti",null,"Minusvalenze",null,"Saldo plus - minusvalenze",null,"Rettifiche di valore (3)",null,null,"Rivalutazioni ex lege e riprese di valore (4) "]
[]
["C.I","Terreni e fabbricati  (A) ………………………………"," ",{"v":1,"d":"    1"},0,{"v":31,"d":"  31"},0,{"v":61,"d":"  61"},0,{"v":91,"d":"   91"},0,{"v":121,"d":" 121"},{"$f":"I7-K7","v":0},151,0,{"v":181,"d":" 181"},0]
["C.II.1","Azioni e quote di imprese del gruppo e altre imprese partecipate ….……....………",null,{"$f":"D7+1","v":{"v":2,"d":"    2"}},{"$f":"SUM(E9:E13)","v":{"v":0,"d":"0 "}},{"$f":"F7+1","v":{"v":32,"d":"  32"}},{"$f":"SUM(G9:G13)","v":{"v":0,"d":"0 "}},{"$f":"H7+1","v":{"v":62,"d":"  62"}},{"$f":"SUM(I9:I13)","v":{"v":0,"d":"0 "}},{"$f":"J7+1","v":{"v":92,"d":"   92"}},{"$f":"SUM(K9:K13)","v":{"v":0,"d":"0 "}},{"$f":"L7+1","v":{"v":122,"d":" 122"}},0,152,{"$f":"SUM(O9:O13)","v":0},182,{"$f":"SUM(Q9:Q13)","v":0}]
[null,"a) controllanti ………………………………….."," ",{"v":3,"d":"    3"},0,{"$f":"F8+1","v":{"v":33,"d":"  33"}},0,{"$f":"H8+1","v":{"v":63,"d":"  63"}},0,{"$f":"J8+1","v":{"v":93,"d":"   93"}},0,{"v":123,"d":" 123"},0,153,0,{"v":183,"d":" 183"},0]
[null,"b) controllate ………………………………….."," ",{"v":4,"d":"    4"},0,{"$f":"F9+1","v":{"v":34,"d":"  34"}},0,{"$f":"H9+1","v":{"v":64,"d":"  64"}},0,{"$f":"J9+1","v":{"v":94,"d":"   94"}},0,{"v":124,"d":" 124"},0,154,0,184,0]
[null,"c) consociate ………………………………….."," ",{"v":5,"d":"    5"},0,{"v":35,"d":"  35"},0,{"v":65,"d":"  65"},0,{"v":95,"d":"   95"},0,{"v":125,"d":" 125"},0,155,0,{"v":185,"d":" 185"},0]
[null,"d) collegate ………………………………….."," ",{"v":6,"d":"    6"},0,{"v":36,"d":"  36"},0,{"v":66,"d":"  66"},0,{"v":96,"d":"   96"},0,{"v":126,"d":" 126"},0,156,0,186,0]
[null,"e) altre ………………………………..……….."," ",{"v":7,"d":"    7"},0,{"$f":"F12+1","v":{"v":37,"d":"  37"}},0,{"$f":"H12+1","v":{"v":67,"d":"  67"}},0,{"$f":"J12+1","v":{"v":97,"d":"   97"}},0,{"v":127,"d":" 127"},0,157,0,{"v":187,"d":" 187"},0]
["C.II.2","Obbligazioni emesse da imprese del gruppo e altre imprese partecipate ………..………",null,{"v":8,"d":"    8"},{"$f":"SUM(E15:E19)","v":{"v":0,"d":"0 "}},{"v":38,"d":"  38"},{"$f":"SUM(G15:G19)","v":{"v":0,"d":"0 "}},{"v":68,"d":"  68"},{"$f":"SUM(I15:I19)","v":{"v":0,"d":"0 "}},{"v":98,"d":"   98"},{"$f":"SUM(K15:K19)","v":{"v":0,"d":"0 "}},{"v":128,"d":" 128"},0,158,{"$f":"SUM(O15:O19)","v":0},188,{"$f":"SUM(Q15:Q19)","v":0}]
[null,"a) controllanti ………………………………….."," ",{"v":9,"d":"    9"},0,{"v":39,"d":"  39"},0,{"v":69,"d":"  69"},0,{"v":99,"d":"   99"},0,{"v":129,"d":" 129"},0,159,0,{"v":189,"d":" 189"},0]
[null,"b) controllate ………………………………….."," ",{"v":10,"d":"  10"},0,{"v":40,"d":"  40"},0,{"v":70,"d":"  70"},0,{"v":100,"d":" 100"},0,{"v":130,"d":" 130"},0,160,0,190,0]
[null,"c) consociate ………………………………….."," ",{"v":11,"d":"  11"},0,{"v":41,"d":"  41"},0,{"v":71,"d":"  71"},0,{"v":101,"d":" 101"},0,{"v":131,"d":" 131"},0,161,0,{"v":191,"d":" 191"},0]
[null,"d) collegate ………………………………….."," ",{"v":12,"d":"  12"},0,{"v":42,"d":"  42"},0,{"v":72,"d":"  72"},0,{"v":102,"d":" 102"},0,{"v":132,"d":" 132"},0,162,0,192,0]
[null,"e) altre ………………………………..……….."," ",{"v":13,"d":"  13"},0,{"v":43,"d":"  43"},0,{"v":73,"d":"  73"},0,{"v":103,"d":" 103"},0,{"v":133,"d":" 133"},0,163,0,{"v":193,"d":" 193"},0]
["Totale C.II.1 e C.II.2 (B) ……………………………………..",null," ",{"v":14,"d":"  14"},{"$f":"SUM(E8,E14)","v":{"v":0,"d":"0 "}},{"v":44,"d":"  44"},{"$f":"SUM(G8,G14)","v":{"v":0,"d":"0 "}},{"v":74,"d":"  74"},{"$f":"SUM(I8,I14)","v":{"v":0,"d":"0 "}},{"v":104,"d":" 104"},{"$f":"SUM(K8,K14)","v":{"v":0,"d":"0 "}},{"v":134,"d":" 134"},0,164,{"$f":"SUM(O8,O14)","v":0},194,{"$f":"SUM(Q8,Q14)","v":0}]
["C.III.1","Azioni e quote di imprese: ......................................................................................................................"," ",{"v":15,"d":"  15"},{"$f":"SUM(E22:E24)","v":{"v":0,"d":"0 "}},{"v":45,"d":"  45"},{"$f":"SUM(G22:G24)","v":{"v":0,"d":"0 "}},{"v":75,"d":"  75"},{"$f":"SUM(I22:I24)","v":{"v":0,"d":"0 "}},{"v":105,"d":" 105"},{"$f":"SUM(K22:K24)","v":{"v":0,"d":"0 "}},{"v":135,"d":" 135"},0,165,{"$f":"SUM(O22:O24)","v":0},{"v":195,"d":" 195"},{"$f":"SUM(Q22:Q24)","v":0}]
["    ","a) azioni quotate ......................................................................................................."," ",{"v":16,"d":"  16"},0,{"v":46,"d":"  46"},0,{"v":76,"d":"  76"},0,{"v":106,"d":" 106"},0,{"v":136,"d":" 136"},0,166,0,196,0]
["    ","b) azioni non quotate  .......................................................................................................","     ",{"v":17,"d":"  17"},0,{"v":47,"d":"  47"},0,{"v":77,"d":"  77"},0,{"v":107,"d":" 107"},0,{"v":137,"d":" 137"},0,167,0,{"v":197,"d":" 197"},0]
["    ","c) quote ..................................................................................................................................","     ",{"v":18,"d":"  18"},0,{"v":48,"d":"  48"},0,{"v":78,"d":"  78"},0,{"v":108,"d":" 108"},0,{"v":138,"d":" 138"},0,168,0,198,0]
["C.III.2","Quote di fondi comuni di investimento  ..........................................................................","     ",{"v":19,"d":"  19"},0,{"v":49,"d":"  49"},0,{"v":79,"d":"  79"},0,{"v":109,"d":" 109"},0,{"v":139,"d":" 139"},0,169,0,{"v":199,"d":" 199"},0]
["C.III.3","Obbligazioni e altri titoli a reddito fisso ........................................................................................."," ",{"v":20,"d":"  20"},{"$f":"SUM(E27:E31)","v":{"v":0,"d":"0 "}},{"v":50,"d":"  50"},{"$f":"SUM(G27:G31)","v":{"v":0,"d":"0 "}},{"v":80,"d":"  80"},{"$f":"SUM(I27:I31)","v":{"v":0,"d":"0 "}},{"v":110,"d":" 110"},{"$f":"SUM(K27:K31)","v":{"v":0,"d":"0 "}},{"v":140,"d":" 140"},0,170,{"$f":"SUM(O27:O31)","v":0},200,{"$f":"SUM(Q27:Q31)","v":0}]
["    ","a1) titoli di Stato quotati .......................................................................................................","     ",{"v":21,"d":"  21"},0,{"v":51,"d":"  51"},0,{"v":81,"d":"  81"},0,{"v":111,"d":" 111"},0,{"v":141,"d":" 141"},0,171,0,{"v":201,"d":" 201"},0]
["    ","a2) altri titoli quotati .......................................................................................................","     ",{"v":22,"d":"  22"},0,{"v":52,"d":"  52"},0,{"v":82,"d":"  82"},0,{"v":112,"d":" 112"},0,{"v":142,"d":" 142"},0,172,0,202,0]
["    ","b1) titoli di Stato non quotati .......................................................................................................","     ",{"v":23,"d":"  23"},0,{"v":53,"d":"  53"},0,{"v":83,"d":"  83"},0,{"v":113,"d":" 113"},0,{"v":143,"d":" 143"},0,173,0,{"v":203,"d":" 203"},0]
["    ","b2) altri titoli non quotati ......................................................................................................."," ",{"v":24,"d":"  24"},0,{"v":54,"d":"  54"},0,{"v":84,"d":"  84"},0,{"v":114,"d":" 114"},0,{"v":144,"d":" 144"},0,174,0,204,0]
["      ","c) obbligazioni convertibili .......................................................................................................","     ",{"v":25,"d":"  25"},0,{"v":55,"d":"  55"},0,{"v":85,"d":"  85"},0,{"v":115,"d":" 115"},0,{"v":145,"d":" 145"},0,175,0,{"v":205,"d":" 205"},0]
["C.III.5","Quote in investimenti comuni ……………………"," ",{"v":26,"d":"  26"},0,{"v":56,"d":"  56"},0,{"v":86,"d":"  86"},0,{"v":116,"d":" 116"},0,{"v":146,"d":" 146"},0,176,0,206,0]
["C.III.7","Investimenti finanziari diversi ………………….."," ",{"v":27,"d":"  27"},0,{"v":57,"d":"  57"},0,{"v":87,"d":"  87"},0,{"v":117,"d":" 117"},0,{"v":147,"d":" 147"},0,177,0,{"v":207,"d":" 207"},0]
["Totale C.III.1, 2, 3, 5, 7 (C) ……………………………………..",null," ",{"v":28,"d":"  28"},{"$f":"SUM(E21,E25,E26,E32,E33)","v":{"v":0,"d":"0 "}},{"$f":"F33+1","v":{"v":58,"d":"  58"}},{"$f":"SUM(G21,G25,G26,G32,G33)","v":{"v":0,"d":"0 "}},{"$f":"H33+1","v":{"v":88,"d":"  88"}},{"$f":"SUM(I21,I25,I26,I32,I33)","v":{"v":0,"d":"0 "}},{"$f":"J33+1","v":{"v":118,"d":" 118"}},{"$f":"SUM(K21,K25,K26,K32,K33)","v":{"v":0,"d":"0 "}},{"v":148,"d":" 148"},0,178,{"$f":"SUM(O21,O25,O26,O32,O33)","v":0},208,{"$f":"SUM(Q21,Q25,Q26,Q32,Q33)","v":0}]
["Totale generale (A + B + C) …………………………",null," ",{"v":29,"d":"  29"},{"$f":"SUM(E7,E20,E34)","v":{"v":0,"d":"0 "}},{"$f":"F34+1","v":{"v":59,"d":"  59"}},{"$f":"SUM(G7,G20,G34)","v":{"v":0,"d":"0 "}},{"$f":"H34+1","v":{"v":89,"d":"  89"}},{"$f":"SUM(I7,I20,I34)","v":{"v":0,"d":"0 "}},{"$f":"J34+1","v":{"v":119,"d":" 119"}},{"$f":"SUM(K7,K20,K34)","v":{"v":0,"d":"0 "}},{"v":149,"d":" 149"},0,179,{"$f":"SUM(O7,O20,O34)","v":0},{"v":209,"d":" 209"},{"$f":"SUM(Q7,Q20,Q34)","v":0}]
[]
[]
["(1)  Dovrà essere riportato il valore di carico senza operare alcuna rettifica infrannuale"]
["(2)  Ai soli fini del monitoraggio in oggetto, nella determinazione del valore corrente degli investimenti quotati in mercati regolamentati, dovrà essere utilizzato il valore dell'ultimo giorno di transazione di ciascun mese"]
["(3) Dovranno essere riportate le rettifiche di valore operate rispetto al valore di carico evidenziato nell'ultimo monitoraggio dell'anno precedente. "]
["(4) Dovranno essere riportate le eventuali rivalutazioni su immobili operate ai sensi dell'art. 15, commi 16-23, del D. lgs 185/08 convertito con legge 2/09 e le eventuali riprese di valore operate su altri attivi rispetto al valore di carico evidenziato nell'ultimo monitoraggio dell'anno precedente.  "]

{"sheet":"vita_inv. a utilizz. durevole","index":4,"n_rows":42,"n_cols":17,"rows_kept":42,"merged":[[0,0,0,6],[0,7,0,9],[2,4,2,5],[2,6,2,7],[39,0,39,12],[40,0,40,16],[41,0,41,16]]}
[{"$f":"\"Società: \" &'Foglio Informativo'!C4","v":"Società: "},{"$nulls":6},{"$f":"\"Codice: \"&'Foglio Informativo'!J4","v":"Codice: "},{"$nulls":6},"",null,"Modello 1.4"]
[]
["Gestione vita - Investimenti a utilizzo durevole",{"$nulls":3},{"$f":"'Foglio Informativo'!C6&\":\"","v":"Data di riferimento:"},null,{"$f":"'Foglio Informativo'!E6","v":"31/01/2019"},{"$nulls":9},"(valori in migliaia di Euro)"]
[]
[{"$nulls":3},"Valore di carico (1)",null,"Valore corrente (2)",null,"Plusvalenze latenti",null,"Minusvalenze",null,"Saldo plus - minusvalenze",null,"Rettifiche di valore (3)",null,null,"Rivalutazioni ex lege e riprese di valore (4) "]
[]
["C.I","Terreni e fabbricati  (A) ………………………………"," ",{"v":1,"d":"    1"},0,{"v":31,"d":"  31"},0,{"v":61,"d":"  61"},0,{"v":91,"d":"   91"},0,{"v":121,"d":" 121"},{"$f":"I7-K7","v":0},151,null,{"v":181,"d":" 181"},0]
["C.II.1","Azioni e quote di imprese del gruppo e altre imprese partecipate ….……....………",null,{"$f":"D7+1","v":{"v":2,"d":"    2"}},{"$f":"SUM(E9:E13)","v":{"v":0,"d":"0 "}},{"$f":"F7+1","v":{"v":32,"d":"  32"}},{"$f":"SUM(G9:G13)","v":{"v":0,"d":"0 "}},{"$f":"H7+1","v":{"v":62,"d":"  62"}},{"$f":"SUM(I9:I13)","v":{"v":0,"d":"0 "}},{"$f":"J7+1","v":{"v":92,"d":"   92"}},{"$f":"SUM(K9:K13)","v":{"v":0,"d":"0 "}},{"$f":"L7+1","v":{"v":122,"d":" 122"}},{"$f":"I8-K8","v":0},152,{"$f":"SUM(O9:O13)","v":0},182,{"$f":"SUM(Q9:Q13)","v":0}]
[null,"a) controllanti ………………………………….."," ",{"v":3,"d":"    3"},0,{"v":33,"d":"  33"},0,{"v":63,"d":"  63"},0,{"v":93,"d":"   93"},0,{"v":123,"d":" 123"},0,153,null,{"v":183,"d":" 183"},0]
[null,"b) controllate ………………………………….."," ",{"v":4,"d":"    4"},0,{"v":34,"d":"  34"},0,{"v":64,"d":"  64"},0,{"v":94,"d":"   94"},0,{"v":124,"d":" 124"},0,154,null,184,0]
[null,"c) consociate ………………………………….."," ",{"v":5,"d":"    5"},0,{"v":35,"d":"  35"},0,{"v":65,"d":"  65"},0,{"v":95,"d":"   95"},0,{"v":125,"d":" 125"},0,155,null,{"v":185,"d":" 185"},0]
[null,"d) collegate ………………………………….."," ",{"v":6,"d":"    6"},0,{"v":36,"d":"  36"},0,{"v":66,"d":"  66"},0,{"v":96,"d":"   96"},0,{"v":126,"d":" 126"},0,156,null,186,0]
[null,"e) altre ………………………………..……….."," ",{"v":7,"d":"    7"},0,{"v":37,"d":"  37"},0,{"v":67,"d":"  67"},0,{"v":97,"d":"   97"},0,{"v":127,"d":" 127"},0,157,null,{"v":187,"d":" 187"},0]
["C.II.2","Obbligazioni emesse da imprese del gruppo e altre imprese partecipate ………..………",null,{"v":8,"d":"    8"},{"$f":"SUM(E15:E19)","v":{"v":0,"d":"0 "}},{"v":38,"d":"  38"},{"$f":"SUM(G15:G19)","v":{"v":0,"d":"0 "}},{"v":68,"d":"  68"},{"$f":"SUM(I15:I19)","v":{"v":0,"d":"0 "}},{"v":98,"d":"   98"},{"$f":"SUM(K15:K19)","v":{"v":0,"d":"0 "}},{"v":128,"d":" 128"},0,158,{"$f":"SUM(O15:O19)","v":0},188,{"$f":"SUM(Q15:Q19)","v":0}]
[null,"a) controllanti ………………………………….."," ",{"v":9,"d":"    9"},0,{"v":39,"d":"  39"},0,{"v":69,"d":"  69"},0,{"v":99,"d":"   99"},0,{"v":129,"d":" 129"},0,159,null,189,0]
[null,"b) controllate ………………………………….."," ",{"v":10,"d":"  10"},0,{"v":40,"d":"  40"},0,{"v":70,"d":"  70"},0,{"v":100,"d":" 100"},0,{"v":130,"d":" 130"},0,160,null,190,0]
[null,"c) consociate ………………………………….."," ",{"v":11,"d":"  11"},0,{"v":41,"d":"  41"},0,{"v":71,"d":"  71"},0,{"v":101,"d":" 101"},0,{"v":131,"d":" 131"},0,161,null,191,0]
[null,"d) collegate ………………………………….."," ",{"v":12,"d":"  12"},0,{"v":42,"d":"  42"},0,{"v":72,"d":"  72"},0,{"v":102,"d":" 102"},0,{"v":132,"d":" 132"},0,162,null,192,0]
[null,"e) altre ………………………………..……….."," ",{"v":13,"d":"  13"},0,{"v":43,"d":"  43"},0,{"v":73,"d":"  73"},0,{"v":103,"d":" 103"},0,{"v":133,"d":" 133"},0,163,null,193,0]
["Totale C.II.1 e C.II.2 (B) ……………………………………..",null," ",{"v":14,"d":"  14"},{"$f":"SUM(E8,E14)","v":{"v":0,"d":"0 "}},{"v":44,"d":"  44"},{"$f":"SUM(G8,G14)","v":{"v":0,"d":"0 "}},{"v":74,"d":"  74"},{"$f":"SUM(I8,I14)","v":{"v":0,"d":"0 "}},{"v":104,"d":" 104"},{"$f":"SUM(K8,K14)","v":{"v":0,"d":"0 "}},{"v":134,"d":" 134"},0,164,{"$f":"SUM(O8,O14)","v":0},194,{"$f":"SUM(Q8,Q14)","v":0}]
["C.III.1","Azioni e quote di imprese: ......................................................................................................................"," ",{"v":15,"d":"  15"},{"$f":"SUM(E22:E24)","v":{"v":0,"d":"0 "}},{"v":45,"d":"  45"},{"$f":"SUM(G22:G24)","v":{"v":0,"d":"0 "}},{"v":75,"d":"  75"},{"$f":"SUM(I22:I24)","v":{"v":0,"d":"0 "}},{"v":105,"d":" 105"},{"$f":"SUM(K22:K24)","v":{"v":0,"d":"0 "}},{"v":135,"d":" 135"},0,165,{"$f":"SUM(O22:O24)","v":0},{"v":195,"d":" 195"},{"$f":"SUM(Q22:Q24)","v":0}]
["    ","a) azioni quotate ......................................................................................................."," ",{"v":16,"d":"  16"},0,{"v":46,"d":"  46"},0,{"v":76,"d":"  76"},0,{"v":106,"d":" 106"},0,{"v":136,"d":" 136"},0,166,null,196,0]
["    ","b) azioni non quotate  .......................................................................................................","     ",{"v":17,"d":"  17"},0,{"v":47,"d":"  47"},0,{"v":77,"d":"  77"},0,{"v":107,"d":" 107"},0,{"v":137,"d":" 137"},0,167,null,{"v":197,"d":" 197"},0]
["    ","c) quote ..................................................................................................................................","     ",{"v":18,"d":"  18"},0,{"v":48,"d":"  48"},0,{"v":78,"d":"  78"},0,{"v":108,"d":" 108"},0,{"v":138,"d":" 138"},0,168,null,198,0]
["C.III.2","Quote di fondi comuni di investimento  ..........................................................................","     ",{"v":19,"d":"  19"},0,{"v":49,"d":"  49"},0,{"v":79,"d":"  79"},0,{"v":109,"d":" 109"},0,{"v":139,"d":" 139"},0,169,null,{"v":199,"d":" 199"},0]
["C.III.3","Obbligazioni e altri titoli a reddito fisso ........................................................................................."," ",{"v":20,"d":"  20"},{"$f":"SUM(E27:E31)","v":{"v":0,"d":"0 "}},{"v":50,"d":"  50"},{"$f":"SUM(G27:G31)","v":{"v":0,"d":"0 "}},{"v":80,"d":"  80"},{"$f":"SUM(I27:I31)","v":{"v":0,"d":"0 "}},{"v":110,"d":" 110"},{"$f":"SUM(K27:K31)","v":{"v":0,"d":"0 "}},{"v":140,"d":" 140"},0,170,{"$f":"SUM(O27:O31)","v":0},200,{"$f":"SUM(Q27:Q31)","v":0}]
["    ","a1) titoli di Stato quotati .......................................................................................................","     ",{"v":21,"d":"  21"},0,{"v":51,"d":"  51"},0,{"v":81,"d":"  81"},0,{"v":111,"d":" 111"},0,{"v":141,"d":" 141"},0,171,null,{"v":201,"d":" 201"},0]
["    ","a2) altri titoli quotati .......................................................................................................","     ",{"v":22,"d":"  22"},0,{"v":52,"d":"  52"},0,{"v":82,"d":"  82"},0,{"v":112,"d":" 112"},0,{"v":142,"d":" 142"},0,172,null,202,0]
["    ","b1) titoli di Stato non quotati .......................................................................................................","     ",{"v":23,"d":"  23"},0,{"v":53,"d":"  53"},0,{"v":83,"d":"  83"},0,{"v":113,"d":" 113"},0,{"v":143,"d":" 143"},0,173,null,{"v":203,"d":" 203"},0]
["    ","b2) altri titoli non quotati ......................................................................................................."," ",{"v":24,"d":"  24"},0,{"v":54,"d":"  54"},0,{"v":84,"d":"  84"},0,{"v":114,"d":" 114"},0,{"v":144,"d":" 144"},0,174,null,204,0]
["      ","c) obbligazioni convertibili .......................................................................................................","     ",{"v":25,"d":"  25"},0,{"v":55,"d":"  55"},0,{"v":85,"d":"  85"},0,{"v":115,"d":" 115"},0,{"v":145,"d":" 145"},0,175,null,{"v":205,"d":" 205"},0]
["C.III.5","Quote in investimenti comuni ……………………"," ",{"v":26,"d":"  26"},0,{"v":56,"d":"  56"},0,{"v":86,"d":"  86"},0,{"v":116,"d":" 116"},0,{"v":146,"d":" 146"},0,176,null,206,0]
["C.III.7","Investimenti finanziari diversi ………………….."," ",{"v":27,"d":"  27"},0,{"v":57,"d":"  57"},0,{"v":87,"d":"  87"},0,{"v":117,"d":" 117"},0,{"v":147,"d":" 147"},0,177,null,{"v":207,"d":" 207"},0]
["Totale C.III.1, 2, 3, 5, 7 (C) ……………………………………..",null," ",{"v":28,"d":"  28"},{"$f":"SUM(E21,E25,E26,E32,E33)","v":{"v":0,"d":"0 "}},{"v":58,"d":"  58"},{"$f":"SUM(G21,G25,G26,G32,G33)","v":{"v":0,"d":"0 "}},{"v":88,"d":"  88"},{"$f":"SUM(I21,I25,I26,I32,I33)","v":{"v":0,"d":"0 "}},{"v":118,"d":" 118"},{"$f":"SUM(K21,K25,K26,K32,K33)","v":{"v":0,"d":"0 "}},{"v":148,"d":" 148"},0,178,{"$f":"SUM(O21,O25,O26,O32,O33)","v":0},208,{"$f":"SUM(Q21,Q25,Q26,Q32,Q33)","v":0}]
["Totale generale (A + B + C) …………………………",null," ",{"v":29,"d":"  29"},{"$f":"SUM(E7,E20,E34)","v":{"v":0,"d":"0 "}},{"v":59,"d":"  59"},{"$f":"SUM(G7,G20,G34)","v":{"v":0,"d":"0 "}},{"v":89,"d":"  89"},{"$f":"SUM(I7,I20,I34)","v":{"v":0,"d":"0 "}},{"v":119,"d":" 119"},{"$f":"SUM(K7,K20,K34)","v":{"v":0,"d":"0 "}},{"v":149,"d":" 149"},0,179,{"$f":"SUM(O7,O20,O34)","v":0},{"v":209,"d":" 209"},{"$f":"SUM(Q7,Q20,Q34)","v":0}]
[null,"Totale attività e plus/minus relative ad attivi inseriti nelle gestioni interne separate …",null,{"$f":"D35+1","v":{"v":30,"d":"  30"}},0,{"$f":"F35+1","v":{"v":60,"d":"  60"}},0,{"$f":"H35+1","v":{"v":90,"d":"  90"}},0,{"$f":"J35+1","v":{"v":120,"d":" 120"}},0,{"$f":"L35+1","v":{"v":150,"d":" 150"}},0,180,null,210,0]
[]
[]
["(1)  Dovrà essere riportato il valore di carico senza operare alcuna rettifica infrannuale"]
["(2)  Ai soli fini del monitoraggio in oggetto, nella determinazione del valore corrente degli investimenti quotati in mercati regolamentati, dovrà essere utilizzato il valore dell'ultimo giorno di transazione di ciascun mese"]
["(3) Dovranno essere riportate le rettifiche di valore operate rispetto al valore di carico evidenziato nell'ultimo monitoraggio dell'anno precedente. "]
["(4) Dovranno essere riportate le eventuali rivalutazioni su immobili operate ai sensi dell'art. 15, commi 16-23, del D. lgs 185/08 convertito con legge 2/09 e le eventuali riprese di valore operate su altri attivi rispetto al valore di carico evidenziato nell'ultimo monitoraggio dell'anno precedente.  "]

{"sheet":"vita_inv. a utilizz. non durev","index":5,"n_rows":42,"n_cols":17,"rows_kept":42,"merged":[[0,0,0,6],[0,7,0,9],[2,4,2,5],[2,6,2,7],[39,0,39,12],[40,0,40,16],[41,0,41,16]]}
[{"$f":"\"Società: \" &'Foglio Informativo'!C4","v":"Società: "},{"$nulls":6},{"$f":"\"Codice: \"&'Foglio Informativo'!J4","v":"Codice: "},{"$nulls":6},"",null,"Modello 1.5"]
[]
["Gestione vita - Investimenti a utilizzo non durevole",{"$nulls":3},{"$f":"'Foglio Informativo'!C6&\":\"","v":"Data di riferimento:"},null,{"$f":"'Foglio Informativo'!E6","v":"31/01/2019"},{"$nulls":9},"(valori in migliaia di Euro)"]
[]
[{"$nulls":3},"Valore di carico (1)",null,"Valore corrente (2)",null,"Plusvalenze latenti",null,"Minusvalenze",null,"Saldo plus - minusvalenze",null,"Rettifiche di valore (3)",null,null,"Rivalutazioni ex lege e riprese di valore (4) "]
[]
["C.I","Terreni e fabbricati  (A) ………………………………"," ",{"v":1,"d":"    1"},0,{"v":31,"d":"  31"},0,{"v":61,"d":"  61"},0,{"v":91,"d":"   91"},0,{"v":121,"d":" 121"},{"$f":"I7-K7","v":0},151,null,{"v":181,"d":" 181"},0]
["C.II.1","Azioni e quote di imprese del gruppo e altre imprese partecipate ….……....………",null,{"$f":"D7+1","v":{"v":2,"d":"    2"}},{"$f":"SUM(E9:E13)","v":{"v":0,"d":"0 "}},{"$f":"F7+1","v":{"v":32,"d":"  32"}},{"$f":"SUM(G9:G13)","v":{"v":0,"d":"0 "}},{"$f":"H7+1","v":{"v":62,"d":"  62"}},{"$f":"SUM(I9:I13)","v":{"v":0,"d":"0 "}},{"$f":"J7+1","v":{"v":92,"d":"   92"}},{"$f":"SUM(K9:K13)","v":{"v":0,"d":"0 "}},{"$f":"L7+1","v":{"v":122,"d":" 122"}},{"$f":"I8-K8","v":0},152,{"$f":"SUM(O9:O13)","v":0},182,{"$f":"SUM(Q9:Q13)","v":0}]
[null,"a) controllanti ………………………………….."," ",{"v":3,"d":"    3"},0,{"v":33,"d":"  33"},0,{"v":63,"d":"  63"},0,{"v":93,"d":"   93"},0,{"v":123,"d":" 123"},0,153,null,{"v":183,"d":" 183"},0]
[null,"b) controllate ………………………………….."," ",{"v":4,"d":"    4"},0,{"v":34,"d":"  34"},0,{"v":64,"d":"  64"},0,{"v":94,"d":"   94"},0,{"v":124,"d":" 124"},0,154,null,184,0]
[null,"c) consociate ………………………………….."," ",{"v":5,"d":"    5"},0,{"v":35,"d":"  35"},0,{"v":65,"d":"  65"},0,{"v":95,"d":"   95"},0,{"v":125,"d":" 125"},0,155,null,{"v":185,"d":" 185"},0]
[null,"d) collegate ………………………………….."," ",{"v":6,"d":"    6"},0,{"v":36,"d":"  36"},0,{"v":66,"d":"  66"},0,{"v":96,"d":"   96"},0,{"v":126,"d":" 126"},0,156,null,186,0]
[null,"e) altre ………………………………..……….."," ",{"v":7,"d":"    7"},0,{"v":37,"d":"  37"},0,{"v":67,"d":"  67"},0,{"v":97,"d":"   97"},0,{"v":127,"d":" 127"},0,157,null,{"v":187,"d":" 187"},0]
["C.II.2","Obbligazioni emesse da imprese del gruppo e altre imprese partecipate ………..………",null,{"v":8,"d":"    8"},{"$f":"SUM(E15:E19)","v":{"v":0,"d":"0 "}},{"v":38,"d":"  38"},{"$f":"SUM(G15:G19)","v":{"v":0,"d":"0 "}},{"v":68,"d":"  68"},{"$f":"SUM(I15:I19)","v":{"v":0,"d":"0 "}},{"v":98,"d":"   98"},{"$f":"SUM(K15:K19)","v":{"v":0,"d":"0 "}},{"v":128,"d":" 128"},0,158,{"$f":"SUM(O15:O19)","v":0},188,{"$f":"SUM(Q15:Q19)","v":0}]
[null,"a) controllanti ………………………………….."," ",{"v":9,"d":"    9"},0,{"v":39,"d":"  39"},0,{"v":69,"d":"  69"},0,{"v":99,"d":"   99"},0,{"v":129,"d":" 129"},0,159,null,189,0]
[null,"b) controllate ………………………………….."," ",{"v":10,"d":"  10"},0,{"v":40,"d":"  40"},0,{"v":70,"d":"  70"},0,{"v":100,"d":" 100"},0,{"v":130,"d":" 130"},0,160,null,190,0]
[null,"c) consociate ………………………………….."," ",{"v":11,"d":"  11"},0,{"v":41,"d":"  41"},0,{"v":71,"d":"  71"},0,{"v":101,"d":" 101"},0,{"v":131,"d":" 131"},0,161,null,191,0]
[null,"d) collegate ………………………………….."," ",{"v":12,"d":"  12"},0,{"v":42,"d":"  42"},0,{"v":72,"d":"  72"},0,{"v":102,"d":" 102"},0,{"v":132,"d":" 132"},0,162,null,192,0]
[null,"e) altre ………………………………..……….."," ",{"v":13,"d":"  13"},0,{"v":43,"d":"  43"},0,{"v":73,"d":"  73"},0,{"v":103,"d":" 103"},0,{"v":133,"d":" 133"},0,163,null,193,0]
["Totale C.II.1 e C.II.2 (B) ……………………………………..",null," ",{"v":14,"d":"  14"},{"$f":"SUM(E8,E14)","v":{"v":0,"d":"0 "}},{"v":44,"d":"  44"},{"$f":"SUM(G8,G14)","v":{"v":0,"d":"0 "}},{"v":74,"d":"  74"},{"$f":"SUM(I8,I14)","v":{"v":0,"d":"0 "}},{"v":104,"d":" 104"},{"$f":"SUM(K8,K14)","v":{"v":0,"d":"0 "}},{"v":134,"d":" 134"},0,164,{"$f":"SUM(O8,O14)","v":0},194,{"$f":"SUM(Q8,Q14)","v":0}]
["C.III.1","Azioni e quote di imprese: ......................................................................................................................"," ",{"v":15,"d":"  15"},{"$f":"SUM(E22:E24)","v":{"v":0,"d":"0 "}},{"v":45,"d":"  45"},{"$f":"SUM(G22:G24)","v":{"v":0,"d":"0 "}},{"v":75,"d":"  75"},{"$f":"SUM(I22:I24)","v":{"v":0,"d":"0 "}},{"v":105,"d":" 105"},{"$f":"SUM(K22:K24)","v":{"v":0,"d":"0 "}},{"v":135,"d":" 135"},0,165,{"$f":"SUM(O22:O24)","v":0},{"v":195,"d":" 195"},{"$f":"SUM(Q22:Q24)","v":0}]
["    ","a) azioni quotate ......................................................................................................."," ",{"v":16,"d":"  16"},0,{"v":46,"d":"  46"},0,{"v":76,"d":"  76"},0,{"v":106,"d":" 106"},0,{"v":136,"d":" 136"},0,166,null,196,0]
["    ","b) azioni non quotate  .......................................................................................................","     ",{"v":17,"d":"  17"},0,{"v":47,"d":"  47"},0,{"v":77,"d":"  77"},0,{"v":107,"d":" 107"},0,{"v":137,"d":" 137"},0,167,null,{"v":197,"d":" 197"},0]
["    ","c) quote ..................................................................................................................................","     ",{"v":18,"d":"  18"},0,{"v":48,"d":"  48"},0,{"v":78,"d":"  78"},0,{"v":108,"d":" 108"},0,{"v":138,"d":" 138"},0,168,null,198,0]
["C.III.2","Quote di fondi comuni di investimento  ..........................................................................","     ",{"v":19,"d":"  19"},0,{"v":49,"d":"  49"},0,{"v":79,"d":"  79"},0,{"v":109,"d":" 109"},0,{"v":139,"d":" 139"},0,169,null,{"v":199,"d":" 199"},0]
["C.III.3","Obbligazioni e altri titoli a reddito fisso ........................................................................................."," ",{"v":20,"d":"  20"},{"$f":"SUM(E27:E31)","v":{"v":0,"d":"0 "}},{"v":50,"d":"  50"},{"$f":"SUM(G27:G31)","v":{"v":0,"d":"0 "}},{"v":80,"d":"  80"},{"$f":"SUM(I27:I31)","v":{"v":0,"d":"0 "}},{"v":110,"d":" 110"},{"$f":"SUM(K27:K31)","v":{"v":0,"d":"0 "}},{"v":140,"d":" 140"},0,170,{"$f":"SUM(O27:O31)","v":0},200,{"$f":"SUM(Q27:Q31)","v":0}]
["    ","a1) titoli di Stato quotati .......................................................................................................","     ",{"v":21,"d":"  21"},0,{"v":51,"d":"  51"},0,{"v":81,"d":"  81"},0,{"v":111,"d":" 111"},0,{"v":141,"d":" 141"},0,171,null,{"v":201,"d":" 201"},0]
["    ","a2) altri titoli quotati .......................................................................................................","     ",{"v":22,"d":"  22"},0,{"v":52,"d":"  52"},0,{"v":82,"d":"  82"},0,{"v":112,"d":" 112"},0,{"v":142,"d":" 142"},0,172,null,202,0]
["    ","b1) titoli di Stato non quotati .......................................................................................................","     ",{"v":23,"d":"  23"},0,{"v":53,"d":"  53"},0,{"v":83,"d":"  83"},0,{"v":113,"d":" 113"},0,{"v":143,"d":" 143"},0,173,null,{"v":203,"d":" 203"},0]
["    ","b2) altri titoli non quotati ......................................................................................................."," ",{"v":24,"d":"  24"},0,{"v":54,"d":"  54"},0,{"v":84,"d":"  84"},0,{"v":114,"d":" 114"},0,{"v":144,"d":" 144"},0,174,null,204,0]
["      ","c) obbligazioni convertibili .......................................................................................................","     ",{"v":25,"d":"  25"},0,{"v":55,"d":"  55"},0,{"v":85,"d":"  85"},0,{"v":115,"d":" 115"},0,{"v":145,"d":" 145"},0,175,null,{"v":205,"d":" 205"},0]
["C.III.5","Quote in investimenti comuni ……………………"," ",{"v":26,"d":"  26"},0,{"v":56,"d":"  56"},0,{"v":86,"d":"  86"},0,{"v":116,"d":" 116"},0,{"v":146,"d":" 146"},0,176,null,206,0]
["C.III.7","Investimenti finanziari diversi ………………….."," ",{"v":27,"d":"  27"},null,{"v":57,"d":"  57"},0,{"v":87,"d":"  87"},0,{"v":117,"d":" 117"},0,{"v":147,"d":" 147"},0,177,null,{"v":207,"d":" 207"},0]
["Totale C.III.1, 2, 3, 5, 7 (C) ……………………………………..",null," ",{"v":28,"d":"  28"},{"$f":"SUM(E21,E25,E26,E32,E33)","v":{"v":0,"d":"0 "}},{"v":58,"d":"  58"},{"$f":"SUM(G21,G25,G26,G32,G33)","v":{"v":0,"d":"0 "}},{"v":88,"d":"  88"},{"$f":"SUM(I21,I25,I26,I32,I33)","v":{"v":0,"d":"0 "}},{"v":118,"d":" 118"},{"$f":"SUM(K21,K25,K26,K32,K33)","v":{"v":0,"d":"0 "}},{"v":148,"d":" 148"},0,178,{"$f":"SUM(O21,O25,O26,O32,O33)","v":0},208,{"$f":"SUM(Q21,Q25,Q26,Q32,Q33)","v":0}]
["Totale generale (A + B + C) …………………………",null," ",{"v":29,"d":"  29"},{"$f":"SUM(E7,E20,E34)","v":{"v":0,"d":"0 "}},{"v":59,"d":"  59"},{"$f":"SUM(G7,G20,G34)","v":{"v":0,"d":"0 "}},{"v":89,"d":"  89"},{"$f":"SUM(I7,I20,I34)","v":{"v":0,"d":"0 "}},{"v":119,"d":" 119"},{"$f":"SUM(K7,K20,K34)","v":{"v":0,"d":"0 "}},{"v":149,"d":" 149"},0,179,{"$f":"SUM(O7,O20,O34)","v":0},{"v":209,"d":" 209"},{"$f":"SUM(Q7,Q20,Q34)","v":0}]
[null,"Totale attività e plus/minus relative ad attivi inseriti nelle gestioni interne separate …",null,{"v":30,"d":"  30"},0,{"v":60,"d":"  60"},0,{"v":90,"d":"  90"},0,{"v":120,"d":" 120"},0,{"v":150,"d":" 150"},0,180,null,{"v":210,"d":" 210"},0]
[]
[]
["(1)  Dovrà essere riportato il valore di carico senza operare alcuna rettifica infrannuale"]
["(2)  Ai soli fini del monitoraggio in oggetto, nella determinazione del valore corrente degli investimenti quotati in mercati regolamentati, dovrà essere utilizzato il valore dell'ultimo giorno di transazione di ciascun mese"]
["(3) Dovranno essere riportate le rettifiche di valore operate rispetto al valore di carico evidenziato nell'ultimo monitoraggio dell'anno precedente. "]
["(4) Dovranno essere riportate le eventuali rivalutazioni su immobili operate ai sensi dell'art. 15, commi 16-23, del D. lgs 185/08 convertito con legge 2/09 e le eventuali riprese di valore operate su altri attivi rispetto al valore di carico evidenziato nell'ultimo monitoraggio dell'anno precedente.  "]

{"sheet":"vita_totale investimenti","index":6,"n_rows":42,"n_cols":17,"rows_kept":42,"merged":[[0,0,0,6],[0,7,0,9],[2,4,2,5],[2,6,2,7],[39,0,39,12],[40,0,40,16],[41,0,41,16]]}
[{"$f":"\"Società: \" &'Foglio Informativo'!C4","v":"Società: "},{"$nulls":6},{"$f":"\"Codice: \"&'Foglio Informativo'!J4","v":"Codice: "},{"$nulls":6},"",null,"Modello 1.6"]
[]
["Gestione vita - Totale investimenti",{"$nulls":3},{"$f":"'Foglio Informativo'!C6&\":\"","v":"Data di riferimento:"},null,{"$f":"'Foglio Informativo'!E6","v":"31/01/2019"},{"$nulls":9},"(valori in migliaia di Euro)"]
[]
[{"$nulls":3},"Valore di carico (1)",null,"Valore corrente (2)",null,"Plusvalenze latenti",null,"Minusvalenze",null,"Saldo plus - minusvalenze",null,"Rettifiche di valore (3)",null,null,"Rivalutazioni ex lege e riprese di valore (4) "]
[]
["C.I","Terreni e fabbricati  (A) ……………………………………."," ",{"v":1,"d":"    1"},0,{"v":31,"d":"  31"},0,{"v":61,"d":"  61"},0,{"v":91,"d":"   91"},0,{"v":121,"d":" 121"},{"$f":"I7-K7","v":0},151,null,{"v":181,"d":" 181"},0]
["C.II.1","Azioni e quote di imprese del gruppo e altre imprese partecipate …..…....………",null,{"$f":"D7+1","v":{"v":2,"d":"    2"}},{"$f":"SUM(E9:E13)","v":{"v":0,"d":"0 "}},{"$f":"F7+1","v":{"v":32,"d":"  32"}},{"$f":"SUM(G9:G13)","v":{"v":0,"d":"0 "}},{"$f":"H7+1","v":{"v":62,"d":"  62"}},{"$f":"SUM(I9:I13)","v":{"v":0,"d":"0 "}},{"$f":"J7+1","v":{"v":92,"d":"   92"}},{"$f":"SUM(K9:K13)","v":{"v":0,"d":"0 "}},{"$f":"L7+1","v":{"v":122,"d":" 122"}},{"$f":"I8-K8","v":0},152,{"$f":"SUM(O9:O13)","v":0},182,{"$f":"SUM(Q9:Q13)","v":0}]
[null,"a) controllanti ………………………………….."," ",{"v":3,"d":"    3"},0,{"v":33,"d":"  33"},0,{"v":63,"d":"  63"},0,{"v":93,"d":"   93"},0,{"v":123,"d":" 123"},0,153,null,{"v":183,"d":" 183"},0]
[null,"b) controllate ………………………………….."," ",{"v":4,"d":"    4"},0,{"v":34,"d":"  34"},0,{"v":64,"d":"  64"},0,{"v":94,"d":"   94"},0,{"v":124,"d":" 124"},0,154,null,184,0]
[null,"c) consociate ………………………………….."," ",{"v":5,"d":"    5"},0,{"v":35,"d":"  35"},0,{"v":65,"d":"  65"},0,{"v":95,"d":"   95"},0,{"v":125,"d":" 125"},0,155,null,{"v":185,"d":" 185"},0]
[null,"d) collegate ………………………………….."," ",{"v":6,"d":"    6"},0,{"v":36,"d":"  36"},0,{"v":66,"d":"  66"},0,{"v":96,"d":"   96"},0,{"v":126,"d":" 126"},0,156,null,186,0]
[null,"e) altre ………………………………..……….."," ",{"v":7,"d":"    7"},0,{"v":37,"d":"  37"},0,{"v":67,"d":"  67"},0,{"v":97,"d":"   97"},0,{"v":127,"d":" 127"},0,157,null,{"v":187,"d":" 187"},0]
["C.II.2","Obbligazioni emesse da imprese del gruppo e altre imprese partecipate ….…..………",null,{"v":8,"d":"    8"},{"$f":"SUM(E15:E19)","v":{"v":0,"d":"0 "}},{"v":38,"d":"  38"},{"$f":"SUM(G15:G19)","v":{"v":0,"d":"0 "}},{"v":68,"d":"  68"},{"$f":"SUM(I15:I19)","v":{"v":0,"d":"0 "}},{"v":98,"d":"   98"},{"$f":"SUM(K15:K19)","v":{"v":0,"d":"0 "}},{"v":128,"d":" 128"},0,158,{"$f":"SUM(O15:O19)","v":0},188,{"$f":"SUM(Q15:Q19)","v":0}]
[null,"a) controllanti ………………………………….."," ",{"v":9,"d":"    9"},0,{"v":39,"d":"  39"},0,{"v":69,"d":"  69"},0,{"v":99,"d":"   99"},0,{"v":129,"d":" 129"},0,159,null,189,0]
[null,"b) controllate ………………………………….."," ",{"v":10,"d":"  10"},0,{"v":40,"d":"  40"},0,{"v":70,"d":"  70"},0,{"v":100,"d":" 100"},0,{"v":130,"d":" 130"},0,160,null,190,0]
[null,"c) consociate ………………………………….."," ",{"v":11,"d":"  11"},0,{"v":41,"d":"  41"},0,{"v":71,"d":"  71"},0,{"v":101,"d":" 101"},0,{"v":131,"d":" 131"},0,161,null,191,0]
[null,"d) collegate ………………………………….."," ",{"v":12,"d":"  12"},0,{"v":42,"d":"  42"},0,{"v":72,"d":"  72"},0,{"v":102,"d":" 102"},0,{"v":132,"d":" 132"},0,162,null,192,0]
[null,"e) altre ………………………………..……….."," ",{"v":13,"d":"  13"},0,{"v":43,"d":"  43"},0,{"v":73,"d":"  73"},0,{"v":103,"d":" 103"},0,{"v":133,"d":" 133"},0,163,null,193,0]
["Totale C.II.1 e C.II.2 (B) ……………………………………..",null," ",{"v":14,"d":"  14"},{"$f":"SUM(E8,E14)","v":{"v":0,"d":"0 "}},{"v":44,"d":"  44"},{"$f":"SUM(G8,G14)","v":{"v":0,"d":"0 "}},{"v":74,"d":"  74"},{"$f":"SUM(I8,I14)","v":{"v":0,"d":"0 "}},{"v":104,"d":" 104"},{"$f":"SUM(K8,K14)","v":{"v":0,"d":"0 "}},{"v":134,"d":" 134"},0,164,{"$f":"SUM(O8,O14)","v":0},194,{"$f":"SUM(Q8,Q14)","v":0}]
["C.III.1","Azioni e quote di imprese: ......................................................................................................................"," ",{"v":15,"d":"  15"},{"$f":"SUM(E22:E24)","v":{"v":0,"d":"0 "}},{"v":45,"d":"  45"},{"$f":"SUM(G22:G24)","v":{"v":0,"d":"0 "}},{"v":75,"d":"  75"},{"$f":"SUM(I22:I24)","v":{"v":0,"d":"0 "}},{"v":105,"d":" 105"},{"$f":"SUM(K22:K24)","v":{"v":0,"d":"0 "}},{"v":135,"d":" 135"},0,165,{"$f":"SUM(O22:O24)","v":0},{"v":195,"d":" 195"},{"$f":"SUM(Q22:Q24)","v":0}]
["    ","a) azioni quotate ......................................................................................................."," ",{"v":16,"d":"  16"},0,{"v":46,"d":"  46"},0,{"v":76,"d":"  76"},0,{"v":106,"d":" 106"},0,{"v":136,"d":" 136"},0,166,null,196,0]
["    ","b) azioni non quotate  .......................................................................................................","     ",{"v":17,"d":"  17"},0,{"v":47,"d":"  47"},0,{"v":77,"d":"  77"},0,{"v":107,"d":" 107"},0,{"v":137,"d":" 137"},0,167,null,{"v":197,"d":" 197"},0]
["    ","c) quote ..................................................................................................................................","     ",{"v":18,"d":"  18"},0,{"v":48,"d":"  48"},0,{"v":78,"d":"  78"},0,{"v":108,"d":" 108"},0,{"v":138,"d":" 138"},0,168,null,198,0]
["C.III.2","Quote di fondi comuni di investimento  ..........................................................................","     ",{"v":19,"d":"  19"},0,{"v":49,"d":"  49"},0,{"v":79,"d":"  79"},0,{"v":109,"d":" 109"},0,{"v":139,"d":" 139"},0,169,null,{"v":199,"d":" 199"},0]
["C.III.3","Obbligazioni e altri titoli a reddito fisso ........................................................................................."," ",{"v":20,"d":"  20"},{"$f":"SUM(E27:E31)","v":{"v":0,"d":"0 "}},{"v":50,"d":"  50"},{"$f":"SUM(G27:G31)","v":{"v":0,"d":"0 "}},{"v":80,"d":"  80"},{"$f":"SUM(I27:I31)","v":{"v":0,"d":"0 "}},{"v":110,"d":" 110"},{"$f":"SUM(K27:K31)","v":{"v":0,"d":"0 "}},{"v":140,"d":" 140"},0,170,{"$f":"SUM(O27:O31)","v":0},200,{"$f":"SUM(Q27:Q31)","v":0}]
["    ","a1) titoli di Stato quotati .......................................................................................................","     ",{"v":21,"d":"  21"},0,{"v":51,"d":"  51"},0,{"v":81,"d":"  81"},0,{"v":111,"d":" 111"},0,{"v":141,"d":" 141"},0,171,null,{"v":201,"d":" 201"},0]
["    ","a2) altri titoli quotati .......................................................................................................","     ",{"v":22,"d":"  22"},0,{"v":52,"d":"  52"},0,{"v":82,"d":"  82"},0,{"v":112,"d":" 112"},0,{"v":142,"d":" 142"},0,172,null,202,0]
["    ","b1) titoli di Stato non quotati .......................................................................................................","     ",{"v":23,"d":"  23"},0,{"v":53,"d":"  53"},0,{"v":83,"d":"  83"},0,{"v":113,"d":" 113"},0,{"v":143,"d":" 143"},0,173,null,{"v":203,"d":" 203"},0]
["    ","b2) altri titoli non quotati ......................................................................................................."," ",{"v":24,"d":"  24"},0,{"v":54,"d":"  54"},0,{"v":84,"d":"  84"},0,{"v":114,"d":" 114"},0,{"v":144,"d":" 144"},0,174,null,204,0]
["      ","c) obbligazioni convertibili .......................................................................................................","     ",{"v":25,"d":"  25"},0,{"v":55,"d":"  55"},0,{"v":85,"d":"  85"},0,{"v":115,"d":" 115"},0,{"v":145,"d":" 145"},0,175,null,{"v":205,"d":" 205"},0]
["C.III.5","Quote in investimenti comuni ……………………"," ",{"v":26,"d":"  26"},0,{"v":56,"d":"  56"},0,{"v":86,"d":"  86"},0,{"v":116,"d":" 116"},0,{"v":146,"d":" 146"},0,176,null,206,0]
["C.III.7","Investimenti finanziari diversi ………………….."," ",{"v":27,"d":"  27"},0,{"v":57,"d":"  57"},0,{"v":87,"d":"  87"},0,{"v":117,"d":" 117"},0,{"v":147,"d":" 147"},0,177,null,{"v":207,"d":" 207"},0]
["Totale C.III.1, 2, 3, 5, 7 (C) ……………………………………..",null," ",{"v":28,"d":"  28"},{"$f":"SUM(E21,E25,E26,E32,E33)","v":{"v":0,"d":"0 "}},{"v":58,"d":"  58"},{"$f":"SUM(G21,G25,G26,G32,G33)","v":{"v":0,"d":"0 "}},{"v":88,"d":"  88"},{"$f":"SUM(I21,I25,I26,I32,I33)","v":{"v":0,"d":"0 "}},{"v":118,"d":" 118"},{"$f":"SUM(K21,K25,K26,K32,K33)","v":{"v":0,"d":"0 "}},{"v":148,"d":" 148"},0,178,{"$f":"SUM(O21,O25,O26,O32,O33)","v":0},208,{"$f":"SUM(Q21,Q25,Q26,Q32,Q33)","v":0}]
["Totale generale (A + B + C) …………………………",null," ",{"v":29,"d":"  29"},{"$f":"SUM(E7,E20,E34)","v":{"v":0,"d":"0 "}},{"v":59,"d":"  59"},{"$f":"SUM(G7,G20,G34)","v":{"v":0,"d":"0 "}},{"v":89,"d":"  89"},{"$f":"SUM(I7,I20,I34)","v":{"v":0,"d":"0 "}},{"v":119,"d":" 119"},{"$f":"SUM(K7,K20,K34)","v":{"v":0,"d":"0 "}},{"v":149,"d":" 149"},0,179,{"$f":"SUM(O7,O20,O34)","v":0},{"v":209,"d":" 209"},{"$f":"SUM(Q7,Q20,Q34)","v":0}]
[null,"Totale attività e plus/minus relative ad attivi inseriti nelle gestioni interne separate …….."," ",{"v":30,"d":"  30"},0,{"v":60,"d":"  60"},0,{"v":90,"d":"  90"},0,{"v":120,"d":" 120"},0,{"v":150,"d":" 150"},0,180,null,{"v":210,"d":" 210"},0]
[]
[]
["(1)  Dovrà essere riportato il valore di carico senza operare alcuna rettifica infrannuale"]
["(2)  Ai soli fini del monitoraggio in oggetto, nella determinazione del valore corrente degli investimenti quotati in mercati regolamentati, dovrà essere utilizzato il valore dell'ultimo giorno di transazione di ciascun mese"]
["(3) Dovranno essere riportate le rettifiche di valore operate rispetto al valore di carico evidenziato nell'ultimo monitoraggio dell'anno precedente. "]
["(4) Dovranno essere riportate le eventuali rivalutazioni su immobili operate ai sensi dell'art. 15, commi 16-23, del D. lgs 185/08 convertito con legge 2/09 e le eventuali riprese di valore operate su altri attivi rispetto al valore di carico evidenziato nell'ultimo monitoraggio dell'anno precedente.  "]

{"sheet":"mese corrente","index":7,"n_rows":24,"n_cols":19,"rows_kept":24,"merged":[[4,7,4,8],[5,7,5,8],[5,13,5,14],[5,15,5,16],[5,17,5,18],[6,13,6,14],[6,15,6,16],[6,17,6,18],[10,2,10,3],[11,2,11,3],[12,2,12,3]]}
[{"$f":"\"Società: \" &'Foglio Informativo'!C4","v":"Società: "},{"$nulls":6},{"$f":"\"Codice: \"&'Foglio Informativo'!J4","v":"Codice: "}]
[]
["Rami vita - Portafoglio diretto italiano - Dettaglio per ramo dei premi contabilizzati",{"$nulls":17},"(Valori in migliaia di Euro)"]
[]
[]
[{"$nulls":5},"Premi di 1° annualità",null,"Premi di  annualità successive",null,"Premi unici",null,"Premi complessivi",null,"Oneri relativi ai sinistri",null,"Riscatti",null,"Capitali e rendite maturati"]
[{"$nulls":5},"(1)",null,"(2)",null,"(3)",null,"(4)",null,"(5)",null,"(6)",null,"(7)"]
[]
[null,"I.","Le assicurazioni sulla durata della vita umana ............................................................................................................................",null," ",1,0,11,0,21,0,31,{"$f":"SUM(G9,I9,K9)","v":0},41,0,51,0,61,0]
[null,"II.","Le assicurazioni di nuzialità e natalità .....................................................................................................................",null," ",2,0,12,0,22,0,32,0,42,0,52,0,62,0]
[null,"III.","Le assicurazioni di cui ai punti I e II connesse con fondi di investimento .........……………..……...…..….…",null," ",3,0,13,0,23,0,33,0,43,0,53,0,63,0]
[null,"IV.","L'assicurazione malattia di cui art. 1, n. 1 lettera d) dir. \nCEE 79/267 ..............................…...............................…",null," ",4,0,14,0,24,0,34,0,44,0,54,0,64,0]
[null,"V.","Le operazioni di capitalizzazione di cui all'art. 40 D.lgs. 174/95 ..............................................................................",null," ",5,0,15,0,25,0,35,0,45,0,55,0,65,0]
[null,"VI.","Le operazioni di gestione di fondi pensione ................................................................",null," ",6,0,16,0,26,0,36,0,46,0,56,0,66,0]
[null,"Totale .....................................................................................................................................",null,null," ",7,{"$f":"SUM(G9:G14)","v":0},17,{"$f":"SUM(I9:I14)","v":0},27,{"$f":"SUM(K9:K14)","v":0},37,{"$f":"SUM(M9:M14)","v":0},47,{"$f":"SUM(O9:O14)","v":0},57,{"$f":"SUM(Q9:Q14)","v":0},67,{"$f":"SUM(S9:S14)","v":0}]
[{"$nulls":4}," "]
[]
["(1)","Modulo 20 voce 1"]
["(2)","Modulo 20 voce 2"]
["(3)","Modulo 20 voce 3"]
["(4)","Modulo 20 voce 4"]
["(5)","Modulo 20 voce 22"]
["(6)","Modulo 20 voci 13 + 18 - 7"]
["(7)","Modulo 20 voci 12 + 17 - 6 "]

{"sheet":"dati cumulati da 1 gen","index":8,"n_rows":24,"n_cols":19,"rows_kept":24,"merged":[[4,7,4,8],[5,7,5,8],[5,13,5,14],[5,15,5,16],[5,17,5,18],[6,13,6,14],[6,15,6,16],[6,17,6,18],[10,2,10,3],[11,2,11,3],[12,2,12,3]]}
[{"$f":"\"Società: \" &'Foglio Informativo'!C4","v":"Società: "},{"$nulls":6},{"$f":"\"Codice: \"&'Foglio Informativo'!J4","v":"Codice: "}]
[]
["Rami vita - Portafoglio diretto italiano - Dettaglio per ramo dei premi contabilizzati",{"$nulls":17},"(Valori in migliaia di Euro)"]
[]
[]
[{"$nulls":5},"Premi di 1° annualità",null,"Premi di  annualità successive",null,"Premi unici",null,"Premi complessivi",null,"Oneri relativi ai sinistri",null,"Riscatti",null,"Capitali e rendite maturati"]
[{"$nulls":5},"(1)",null,"(2)",null,"(3)",null,"(4)",null,"(5)",null,"(6)",null,"(7)"]
[]
[null,"I.","Le assicurazioni sulla durata della vita umana ............................................................................................................................",null," ",1,0,11,0,21,0,31,{"$f":"SUM(G9,I9,K9)","v":0},41,0,51,0,61,0]
[null,"II.","Le assicurazioni di nuzialità e natalità .....................................................................................................................",null," ",2,0,12,0,22,0,32,0,42,0,52,0,62,0]
[null,"III.","Le assicurazioni di cui ai punti I e II connesse con fondi di investimento .........……………..……...…..….…",null," ",3,0,13,0,23,0,33,0,43,0,53,0,63,0]
[null,"IV.","L'assicurazione malattia di cui art. 1, n. 1 lettera d) dir. \nCEE 79/267 ..............................…...............................…",null," ",4,0,14,0,24,0,34,0,44,0,54,0,64,0]
[null,"V.","Le operazioni di capitalizzazione di cui all'art. 40 D.lgs. 174/95 ..............................................................................",null," ",5,0,15,0,25,0,35,0,45,0,55,0,65,0]
[null,"VI.","Le operazioni di gestione di fondi pensione ................................................................",null," ",6,0,16,0,26,0,36,0,46,0,56,0,66,0]
[null,"Totale .....................................................................................................................................",null,null," ",7,{"$f":"SUM(G9:G14)","v":0},17,{"$f":"SUM(I9:I14)","v":0},27,{"$f":"SUM(K9:K14)","v":0},37,{"$f":"SUM(M9:M14)","v":0},47,{"$f":"SUM(O9:O14)","v":0},57,{"$f":"SUM(Q9:Q14)","v":0},67,{"$f":"SUM(S9:S14)","v":0}]
[{"$nulls":4}," "]
[]
["(1)","Modulo 20 voce 1"]
["(2)","Modulo 20 voce 2"]
["(3)","Modulo 20 voce 3"]
["(4)","Modulo 20 voce 4"]
["(5)","Modulo 20 voce 22"]
["(6)","Modulo 20 voci 13 + 18 - 7"]
["(7)","Modulo 20 voci 12 + 17 - 6 "]