Workbook

Sheet Totale
B1: 2017-12-31 | C1: 2018-12-31 | D1: 2019-12-31 | E1: 2020-12-31 | F1: 2021-12-31 | G1: 2022-12-31 | H1: 2023-12-31 | I1: 2024-12-31 | J1: 2025-03-31 | K1: 2025-06-30 | L1: 2025-09-30
A2: Investimenti (esclusi attivi index e unit linked) | B2: 696767.28 | C2: 690130.18 | D2: 767518.62 | E2: 815112.08 | F2: 810084.3 | G2: 677306.85 | H2: 702095.78 | I2: 728455.47 | J2: 725420.69 | K2: 736405.74 | L2: 738068.34
A3: (di cui) Tit. Stato Italia | B3: 310767.56 | C3: 297293.91 | D3: 324970.97 | E3: 336029.49 | F3: 310895.63 | G3: 233789.48 | H3: 234589.4 | I3: 233075.19 | J3: 222818.48 | K3: 226162.7 | L3: 224228.48
A4: Tit. Stato Estero | B4: 51537.762 | C4: 62456.612 | D4: 76244.882 | E4: 96729.694 | F4: 101084.98 | G4: 89884.164 | H4: 104179.88 | I4: 111273.41 | J4: 112200.25 | K4: 119377.08 | L4: 115688.63
A5: Obbl. Corporate | B5: 140438.27 | C5: 138186.62 | D5: 150594.91 | E5: 157507.41 | F5: 156143.21 | G5: 129040.38 | H5: 132650.3 | I5: 142921.9 | J5: 145783.92 | K5: 149398.77 | L5: 151256.95
A6: OICVM | B6: 77050.31 | C6: 84987.875 | D6: 102251.16 | E6: 112131.85 | F6: 117309.2 | G6: 106496.94 | H6: 111989.17 | I6: 111459.72 | J6: 112683.69 | K6: 109607.58 | L6: 110519.81
A7: Partecipazioni | B7: 84890.087 | C7: 82927.679 | D7: 86646.186 | E7: 89605.578 | F7: 98075.929 | G7: 91785.122 | H7: 94609.424 | I7: 101213.65 | J7: 102525.15 | K7: 100704.24 | L7: 103947.07
A8: Mutui e prestiti | B8: 5328.7711 | C8: 7374.4399 | D8: 6797.2242 | E8: 7223.1312 | F8: 7225.7415 | G8: 5968.4677 | H8: 7579.8331 | I8: 6069.2182 | J8: 7077.2878 | K8: 6160.4567 | L8: 6045.6364
A9: Importi recuperabili da riassicuratore | B9: 12178.171 | C9: 11206.421 | D9: 11086.954 | E9: 9847.6315 | F9: 10722.821 | G9: 9722.9369 | H9: 14108.716 | I9: 12753.843 | J9: 14067.866 | K9: 13905.411 | L9: 13591.624
A10: Attività fiscali differite | B10: 4595.9215 | C10: 3787.2434 | D10: 6357.195 | E10: 9995.9749 | F10: 6491.4658 | G10: 10103.907 | H10: 5293.7027 | I10: 3938.5707 | J10: 4399.7205 | K10: 3460.5062 | L10: 3544.0918
A11: Attivi per index e unit linked | B11: 154291.2 | C11: 152206.31 | D11: 179211.92 | E11: 196366.75 | F11: 232605.93 | G11: 212942.36 | H11: 260438.93 | I11: 282166.71 | J11: 277213.88 | K11: 283021.33 | L11: 288799.59
A12: Crediti | B12: 22076.873 | C12: 22825.13 | D12: 25526.646 | E12: 24680.704 | F12: 24851.977 | G12: 26891.984 | H12: 29344 | I12: 27548.655 | J12: 28556.97 | K12: 26323.758 | L12: 24527.788
A13: Cassa e attività liquide | B13: 9357.363 | C13: 8656.3309 | D13: 7788.0689 | E13: 8724.2293 | F13: 11730.885 | G13: 10883.833 | H13: 11762.83 | I13: 14138.971 | J13: 16075.105 | K13: 13513.92 | L13: 13774.519
... A21: Eccesso attività su passività | B21: 117638.33 | C21: 108818.12 | D21: 122540.02 | E21: 126151.58 | F21: 141315.94 | G21: 133119.3 | H21: 141416.23 | I21: 148800.79 | J21: 151731.73 | K21: 149478.18 | L21: 154723.58
A22: (importi in milioni di euro)

Sheet Miste
B1: 2017-12-31 | C1: 2018-12-31 | D1: 2019-12-31 | E1: 2020-12-31 | F1: 2021-12-31 | G1: 2022-12-31 | H1: 2023-12-31 | I1: 2024-12-31 | J1: 2025-03-31 | K1: 2025-06-30 | L1: 2025-09-30
A2: Investimenti (esclusi attivi index e unit linked) | B2: 290594.32 | C2: 286028.27 | D2: 311552.77 | E2: 323876.87 | F2: 326245.57 | G2: 275805.29 | H2: 287191.96 | I2: 306037.17 | J2: 323646.43 | K2: 326501.93 | L2: 332651.6
A3: (di cui) Tit. Stato Italia | B3: 88023.507 | C3: 83402.586 | D3: 90957.769 | E3: 88336.426 | F3: 81171.695 | G3: 60129.743 | H3: 57964.099 | I3: 56144.275 | J3: 55121.356 | K3: 57377.966 | L3: 58070.287
A4: Tit. Stato Estero | B4: 20293.62 | C4: 25830.612 | D4: 29417.36 | E4: 37195.686 | F4: 37871.762 | G4: 29424.554 | H4: 32569.071 | I4: 37238.853 | J4: 41562.741 | K4: 42436.709 | L4: 42797.692
A5: Obbl. Corporate | B5: 60162.449 | C5: 58610.215 | D5: 61944.628 | E5: 66047.094 | F5: 64102.862 | G5: 52124.844 | H5: 54860.153 | I5: 60843.043 | J5: 66753.246 | K5: 67190.995 | L5: 67348.388
A6: OICVM | B6: 25375.463 | C6: 26412.524 | D6: 33174.364 | E6: 38760.583 | F6: 39472.758 | G6: 37069.997 | H6: 42378.955 | I6: 43879.364 | J6: 48814.801 | K6: 48700.638 | L6: 49574.113
A7: Partecipazioni | B7: 81053.416 | C7: 79176.54 | D7: 82232.905 | E7: 84315.657 | F7: 92260.894 | G7: 85959.933 | H7: 89450.739 | I7: 95808.925 | J7: 97551.144 | K7: 95458.272 | L7: 98382.685
A8: Mutui e prestiti | B8: 5156.2111 | C8: 6877.5755 | D8: 6232.1378 | E8: 6604.862 | F8: 6169.6344 | G8: 4969.1832 | H8: 6537.1001 | I8: 4689.2567 | J8: 5693.3693 | K8: 4808.3366 | L8: 5101.7763
A9: Importi recuperabili da riassicuratore | B9: 8406.9533 | C9: 8058.9462 | D9: 8429.6679 | E9: 6940.9669 | F9: 7676.6199 | G9: 6850.9457 | H9: 10341.175 | I9: 8925.942 | J9: 10017.056 | K9: 9880.6582 | L9: 9580.0976
A10: Attività fiscali differite | B10: 1097.9436 | C10: 1566.4716 | D10: 1368.0435 | E10: 1509.0351 | F10: 1016.6456 | G10: 1305.9279 | H10: 763.88874 | I10: 561.28092 | J10: 557.12464 | K10: 488.33875 | L10: 543.11802
A11: Attivi per index e unit linked | B11: 22733.346 | C11: 21316.914 | D11: 26002.705 | E11: 28861.683 | F11: 34487.19 | G11: 33367.576 | H11: 38633.117 | I11: 44821.129 | J11: 54693.369 | K11: 55139.718 | L11: 56804.446
A12: Crediti | B12: 13182.671 | C12: 12897.096 | D12: 14497.247 | E12: 13398.11 | F12: 13513.305 | G12: 14925.205 | H12: 17167.833 | I12: 15890.812 | J12: 16716.457 | K12: 15048.249 | L12: 14118.268
A13: Cassa e attività liquide | B13: 3969.7797 | C13: 3804.9699 | D13: 2897.4428 | E13: 3461.7376 | F13: 2918.7464 | G13: 2993.9833 | H13: 3302.1208 | I13: 4050.8693 | J13: 3458.3768 | K13: 3055.9298 | L13: 2779.4285
... A21: Eccesso attività su passività | B21: 84090.92 | C21: 77277.138 | D21: 83891.614 | E21: 84655.568 | F21: 95814.444 | G21: 89187.377 | H21: 93838.605 | I21: 97855.922 | J21: 103029.1 | K21: 99563.796 | L21: 103665.45
A22: (importi in milioni di euro)

Sheet Vita
B1: =+Vita!B1 -> 2017-12-31 | C1: =+Vita!C1 -> 2018-12-31 | D1: =+Vita!D1 -> 2019-12-31 | E1: =+Vita!E1 -> 2020-12-31 | F1: =+Vita!F1 -> 2021-12-31 | G1: =+Vita!G1 -> 2022-12-31 | H1: =+Vita!H1 -> 2023-12-31 | I1: =+Vita!I1 -> 2024-12-31 | ... L1: =+Vita!L1 -> 2025-09-30
A2: Investimenti (esclusi attivi index e unit linked) | B2: 391485.31 | C2: 389144.38 | D2: 439605.09 | E2: 473716.72 | F2: 465898.83 | G2: 384825.46 | H2: 397864.93 | I2: 403647.15 | J2: 381401.11 | K2: 388986.11 | L2: 383774.9
A3: (di cui) Tit. Stato Italia | B3: 216988.78 | C3: 207702.57 | D3: 227981.89 | E3: 241460.12 | F3: 223439.74 | G3: 167828.88 | H3: 170282.77 | I3: 171453.61 | J3: 162003.19 | K3: 163339.18 | L3: 160597.24
A4: Tit. Stato Estero | B4: 29615.653 | C4: 34472.983 | D4: 44658.386 | E4: 57388.162 | F4: 61169.44 | G4: 58286.74 | H4: 69152.275 | I4: 70114.672 | J4: 66637.43 | K4: 72628.372 | L4: 68221.345
A5: Obbl. Corporate | B5: 76699.725 | C5: 76339.469 | D5: 84806.648 | E5: 86640.59 | F5: 87180.878 | G5: 72760.99 | H5: 73368.337 | I5: 76695.907 | J5: 72875.194 | K5: 75676.479 | L5: 77087.322
A6: OICVM | B6: 50032.81 | C6: 56978.672 | D6: 66719.042 | E6: 71089.426 | F6: 75324.754 | G6: 67193.186 | H6: 68002.857 | I6: 66101.431 | J6: 62392.276 | K6: 59390.365 | L6: 59474.143
A7: Partecipazioni | B7: 2866.4264 | C7: 2949.6235 | D7: 3411.1795 | E7: 4152.9365 | F7: 4678.6859 | G7: 4626.641 | H7: 3894.5311 | I7: 3882.5212 | J7: 3442.3571 | K7: 3674.5589 | L7: 3965.0912
A8: Mutui e prestiti | B8: 118.84183 | C8: 437.54279 | D8: 484.05773 | E8: 548.66987 | F8: 998.04768 | G8: 911.02171 | H8: 928.27196 | I8: 796.30503 | J8: 797.68248 | K8: 804.78662 | L8: 765.78634
A9: Importi recuperabili da riassicuratore | B9: 2273.3635 | C9: 1696.077 | D9: 1138.3087 | E9: 670.46626 | F9: 611.38138 | G9: 476.52894 | H9: 446.55449 | I9: 439.14853 | J9: 457.12549 | K9: 316.19354 | L9: 312.62375
A10: Attività fiscali differite | B10: 3146.8154 | C10: 1751.737 | D10: 4682.6168 | E10: 8206.7823 | F10: 5090.4813 | G10: 8352.6951 | H10: 4086.503 | I10: 2931.16 | J10: 3390.0912 | K10: 2537.9629 | L10: 2586.9051
A11: Attivi per index e unit linked | B11: 131557.86 | C11: 130889.4 | D11: 153209.22 | E11: 167505.07 | F11: 198118.74 | G11: 179574.78 | H11: 221805.81 | I11: 237345.58 | J11: 222520.51 | K11: 227881.61 | L11: 231995.14
A12: Crediti | B12: 7066.898 | C12: 8058.0206 | D12: 8626.812 | E12: 8825.1904 | F12: 8628.9622 | G12: 8584.8677 | H12: 8694.0101 | I12: 7988.6229 | J12: 7871.8594 | K12: 7726.7836 | L12: 7140.4705
A13: Cassa e attività liquide | B13: 4558.2198 | C13: 4274.845 | D13: 4335.876 | E13: 4409.5404 | F13: 7839.1464 | G13: 7063.3492 | H13: 7817.3095 | I13: 9265.2523 | J13: 11781.137 | K13: 9551.4808 | L13: 9717.812
... A21: Eccesso attività su passività | B21: 27518.603 | C21: 25379.935 | D21: 31646.664 | E21: 33290.287 | F21: 36771.585 | G21: 35123.816 | H21: 38754.839 | I21: 40986.256 | J21: 38075.951 | K21: 39161.907 | L21: 40021.056
A22: (importi in milioni di euro)

Sheet Danni
B1: 2017-12-31 | C1: 2018-12-31 | D1: 2019-12-31 | E1: 2020-12-31 | F1: 2021-12-31 | G1: 2022-12-31 | H1: 2023-12-31 | I1: 2024-12-31 | J1: 2025-03-31 | K1: 2025-06-30 | L1: 2025-09-30
A2: Investimenti (esclusi attivi index e unit linked) | B2: 14687.656 | C2: 14957.522 | D2: 16360.77 | E2: 17518.486 | F2: 17939.896 | G2: 16676.097 | H2: 17038.893 | I2: 18771.15 | J2: 20373.147 | K2: 20917.687 | L2: 21641.835
A3: (di cui) Tit. Stato Italia | B3: 5755.2761 | C3: 6188.7594 | D3: 6031.3115 | E3: 6232.9394 | F3: 6284.1986 | G3: 5830.8595 | H3: 6342.524 | I3: 5477.3015 | J3: 5693.9396 | K3: 5445.5499 | L3: 5560.9556
A4: Tit. Stato Estero | B4: 1628.4879 | C4: 2153.0172 | D4: 2169.1365 | E4: 2145.8461 | F4: 2043.7739 | G4: 2172.8706 | H4: 2458.5302 | I4: 3919.8812 | J4: 4000.0757 | K4: 4311.9956 | L4: 4669.5917
A5: Obbl. Corporate | B5: 3576.1001 | C5: 3236.9367 | D5: 3843.635 | E5: 4819.731 | F5: 4859.4655 | G5: 4154.5465 | H5: 4421.8105 | I5: 5382.9485 | J5: 6155.4771 | K5: 6531.2986 | L5: 6821.245
A6: OICVM | B6: 1642.0366 | C6: 1596.6787 | D6: 2357.7543 | E6: 2281.8449 | F6: 2511.6872 | G6: 2233.7554 | H6: 1607.3625 | I6: 1478.9238 | J6: 1476.614 | K6: 1516.5741 | L6: 1471.5523
A7: Partecipazioni | B7: 970.24384 | C7: 801.51636 | D7: 1002.1009 | E7: 1136.9848 | F7: 1136.3486 | G7: 1198.5485 | H7: 1264.1535 | I7: 1522.2012 | J7: 1531.6448 | K7: 1571.405 | L7: 1599.298
A8: Mutui e prestiti | B8: 53.71809 | C8: 59.321618 | D8: 81.028667 | E8: 69.599332 | F8: 58.059396 | G8: 88.262829 | H8: 114.46106 | I8: 583.65654 | J8: 586.23599 | K8: 547.33349 | L8: 178.07378
A9: Importi recuperabili da riassicuratore | B9: 1497.8544 | C9: 1451.398 | D9: 1518.9777 | E9: 2236.1984 | F9: 2434.8195 | G9: 2395.4622 | H9: 3320.9874 | I9: 3388.7525 | J9: 3593.6845 | K9: 3708.5594 | L9: 3698.9027
A10: Attività fiscali differite | B10: 351.16252 | C10: 469.03474 | D10: 306.53466 | E10: 280.15741 | F10: 384.3389 | G10: 445.28361 | H10: 443.31099 | I10: 446.1298 | J10: 452.50468 | K10: 434.20446 | L10: 414.06874
A11: Attivi per index e unit linked | B11: 0 | C11: 0 | D11: 0 | E11: 0 | F11: 0 | G11: 0 | H11: 0 | I11: 0 | J11: 0 | K11: 0 | L11: 0
A12: Crediti | B12: 1827.3043 | C12: 1870.0132 | D12: 2402.5874 | E12: 2457.4042 | F12: 2709.7098 | G12: 3381.9112 | H12: 3482.1565 | I12: 3669.2198 | J12: 3968.6531 | K12: 3548.7261 | L12: 3269.0497
A13: Cassa e attività liquide | B13: 829.36352 | C13: 576.51596 | D13: 554.75009 | E13: 852.95126 | F13: 972.99183 | G13: 826.5009 | H13: 643.39923 | I13: 822.8499 | J13: 835.59065 | K13: 906.50969 | L13: 1277.2786
... A21: Eccesso attività su passività | B21: 6028.8089 | C21: 6161.0433 | D21: 7001.7452 | E21: 8205.7295 | F21: 8729.906 | G21: 8808.1059 | H21: 8822.785 | I21: 9958.6127 | J21: 10626.682 | K21: 10752.474 | L21: 11037.079
A22: (importi in milioni di euro)

Sheet Check
B1: 42916 | C1: 43281 | D1: 43646 | E1: 44012 | F1: 44377 | G1: 44742
A2: Investimenti (esclusi attivi index e unit linked) | B2: =+Totale!B2-Miste!B2-Vita!B2-Danni!B2 -> -9.276846e-11 | C2: =+Totale!C2-Miste!C2-Vita!C2-Danni!C2 -> 8.0035534e-11 | D2: =+Totale!D2-Miste!D2-Vita!D2-Danni!D2 -> 8.1854523e-11 | E2: =+Totale!E2-Miste!E2-Vita!E2-Danni!E2 -> 0 | F2: =+Totale!F2-Miste!F2-Vita!F2-Danni!F2 -> 5.8207661e-11 | G2: =+Totale!G2-Miste!G2-Vita!G2-Danni!G2 -> -5.4569682e-11
A3: (di cui) Tit. Stato Italia | B3: =+Totale!B3-Miste!B3-Vita!B3-Danni!B3 -> 6.6393113e-11 | C3: =+Totale!C3-Miste!C3-Vita!C3-Danni!C3 -> 5.0022209e-11 | D3: =+Totale!D3-Miste!D3-Vita!D3-Danni!D3 -> 1.0913936e-11 | E3: =+Totale!E3-Miste!E3-Vita!E3-Danni!E3 -> 0 | F3: =+Totale!F3-Miste!F3-Vita!F3-Danni!F3 -> 9.094947e-12 | G3: =+Totale!G3-Miste!G3-Vita!G3-Danni!G3 -> 1.7280399e-11
A4: Tit. Stato Estero | B4: =+Totale!B4-Miste!B4-Vita!B4-Danni!B4 -> 0 | C4: =+Totale!C4-Miste!C4-Vita!C4-Danni!C4 -> 4.5474735e-12 | D4: =+Totale!D4-Miste!D4-Vita!D4-Danni!D4 -> 0 | E4: =+Totale!E4-Miste!E4-Vita!E4-Danni!E4 -> 2.228262e-11 | F4: =+Totale!F4-Miste!F4-Vita!F4-Danni!F4 -> -2.7284841e-12 | G4: =+Totale!G4-Miste!G4-Vita!G4-Danni!G4 -> 0
A5: Obbl. Corporate | B5: =+Totale!B5-Miste!B5-Vita!B5-Danni!B5 -> 1.2278178e-11 | C5: =+Totale!C5-Miste!C5-Vita!C5-Danni!C5 -> 0 | D5: =+Totale!D5-Miste!D5-Vita!D5-Danni!D5 -> -1.0913936e-11 | E5: =+Totale!E5-Miste!E5-Vita!E5-Danni!E5 -> -9.094947e-12 | F5: =+Totale!F5-Miste!F5-Vita!F5-Danni!F5 -> 1.0004442e-11 | G5: =+Totale!G5-Miste!G5-Vita!G5-Danni!G5 -> 1.1823431e-11
A6: OICVM | B6: =+Totale!B6-Miste!B6-Vita!B6-Danni!B6 -> 1.2505552e-11 | C6: =+Totale!C6-Miste!C6-Vita!C6-Danni!C6 -> 9.094947e-12 | D6: =+Totale!D6-Miste!D6-Vita!D6-Danni!D6 -> 0 | E6: =+Totale!E6-Miste!E6-Vita!E6-Danni!E6 -> -5.4569682e-12 | F6: =+Totale!F6-Miste!F6-Vita!F6-Danni!F6 -> 1.2732926e-11 | G6: =+Totale!G6-Miste!G6-Vita!G6-Danni!G6 -> 4.5474735e-12
A7: Partecipazioni | B7: =+Totale!B7-Miste!B7-Vita!B7-Danni!B7 -> 3.4106051e-12 | C7: =+Totale!C7-Miste!C7-Vita!C7-Danni!C7 -> 3.6379788e-12 | D7: =+Totale!D7-Miste!D7-Vita!D7-Danni!D7 -> 1.6939339e-11 | E7: =+Totale!E7-Miste!E7-Vita!E7-Danni!E7 -> -1.0459189e-11 | F7: =+Totale!F7-Miste!F7-Vita!F7-Danni!F7 -> 1.0459189e-11 | G7: =+Totale!G7-Miste!G7-Vita!G7-Danni!G7 -> 7.9580786e-12
A8: Mutui e prestiti | B8: =+Totale!B8-Miste!B8-Vita!B8-Danni!B8 -> 2.9132252e-13 | C8: =+Totale!C8-Miste!C8-Vita!C8-Danni!C8 -> -5.968559e-13 | D8: =+Totale!D8-Miste!D8-Vita!D8-Danni!D8 -> 0 | E8: =+Totale!E8-Miste!E8-Vita!E8-Danni!E8 -> 1.8474111e-13 | F8: =+Totale!F8-Miste!F8-Vita!F8-Danni!F8 -> 8.9528385e-13 | G8: =+Totale!G8-Miste!G8-Vita!G8-Danni!G8 -> 0
A9: Importi recuperabili da riassicuratore | B9: =+Totale!B9-Miste!B9-Vita!B9-Danni!B9 -> 0 | C9: =+Totale!C9-Miste!C9-Vita!C9-Danni!C9 -> 0 | D9: =+Totale!D9-Miste!D9-Vita!D9-Danni!D9 -> 0 | E9: =+Totale!E9-Miste!E9-Vita!E9-Danni!E9 -> 0 | F9: =+Totale!F9-Miste!F9-Vita!F9-Danni!F9 -> 0 | G9: =+Totale!G9-Miste!G9-Vita!G9-Danni!G9 -> 0
A10: Attività fiscali differite | B10: =+Totale!B10-Miste!B10-Vita!B10-Danni!B10 -> 0 | C10: =+Totale!C10-Miste!C10-Vita!C10-Danni!C10 -> 0 | D10: =+Totale!D10-Miste!D10-Vita!D10-Danni!D10 -> 0 | E10: =+Totale!E10-Miste!E10-Vita!E10-Danni!E10 -> 1.3642421e-12 | F10: =+Totale!F10-Miste!F10-Vita!F10-Danni!F10 -> 1.080025e-12 | G10: =+Totale!G10-Miste!G10-Vita!G10-Danni!G10 -> -2.0463631e-12
A11: Attivi per index e unit linked | B11: =+Totale!B11-Miste!B11-Vita!B11-Danni!B11 -> 2.910383e-11 | C11: =+Totale!C11-Miste!C11-Vita!C11-Danni!C11 -> 1.4551915e-11 | D11: =+Totale!D11-Miste!D11-Vita!D11-Danni!D11 -> 2.910383e-11 | E11: =+Totale!E11-Miste!E11-Vita!E11-Danni!E11 -> 0 | F11: =+Totale!F11-Miste!F11-Vita!F11-Danni!F11 -> 0 | G11: =+Totale!G11-Miste!G11-Vita!G11-Danni!G11 -> 0
A12: Crediti | B12: =+Totale!B12-Miste!B12-Vita!B12-Danni!B12 -> 0 | C12: =+Totale!C12-Miste!C12-Vita!C12-Danni!C12 -> 0 | D12: =+Totale!D12-Miste!D12-Vita!D12-Danni!D12 -> 0 | E12: =+Totale!E12-Miste!E12-Vita!E12-Danni!E12 -> 0 | F12: =+Totale!F12-Miste!F12-Vita!F12-Danni!F12 -> 0 | G12: =+Totale!G12-Miste!G12-Vita!G12-Danni!G12 -> 0
A13: Cassa e attività liquide | B13: =+Totale!B13-Miste!B13-Vita!B13-Danni!B13 -> 0 | C13: =+Totale!C13-Miste!C13-Vita!C13-Danni!C13 -> 0 | D13: =+Totale!D13-Miste!D13-Vita!D13-Danni!D13 -> 0 | E13: =+Totale!E13-Miste!E13-Vita!E13-Danni!E13 -> -9.094947e-13 | F13: =+Totale!F13-Miste!F13-Vita!F13-Danni!F13 -> 1.7053026e-12 | G13: =+Totale!G13-Miste!G13-Vita!G13-Danni!G13 -> 1.5916157e-12
... A21: Eccesso attività su passività | B21: =+Totale!B21-Miste!B21-Vita!B21-Danni!B21 -> 0 | C21: =+Totale!C21-Miste!C21-Vita!C21-Danni!C21 -> -1.2732926e-11 | D21: =+Totale!D21-Miste!D21-Vita!D21-Danni!D21 -> 1.0913936e-11 | E21: =+Totale!E21-Miste!E21-Vita!E21-Danni!E21 -> 0 | F21: =+Totale!F21-Miste!F21-Vita!F21-Danni!F21 -> 2.3646862e-11 | G21: =+Totale!G21-Miste!G21-Vita!G21-Danni!G21 -> 2.0008883e-11
A22: (importi in milioni di euro)
A25: Totale Attivo | B25: =+Totale!B15-SUM(Totale!B2,Totale!B8:B14) -> 0 | C25: =+Totale!C15-SUM(Totale!C2,Totale!C8:C14) -> 0 | D25: =+Totale!D15-SUM(Totale!D2,Totale!D8:D14) -> 0 | E25: =+Totale!E15-SUM(Totale!E2,Totale!E8:E14) -> 0 | F25: =+Totale!F15-SUM(Totale!F2,Totale!F8:F14) -> 0 | G25: =+Totale!G15-SUM(Totale!G2,Totale!G8:G14) -> 0
A26: Totale Passivo | B26: =+Totale!B20-SUM(Totale!B16:B19) -> 0 | C26: =+Totale!C20-SUM(Totale!C16:C19) -> 0 | D26: =+Totale!D20-SUM(Totale!D16:D19) -> 0 | E26: =+Totale!E20-SUM(Totale!E16:E19) -> 0 | F26: =+Totale!F20-SUM(Totale!F16:F19) -> 0 | G26: =+Totale!G20-SUM(Totale!G16:G19) -> 0
A27: Totale EAOL | B27: =+Totale!B21-(Totale!B15-Totale!B20) -> -8.0453174e-07 | C27: =+Totale!C21-(Totale!C15-Totale!C20) -> -4.450063e-06 | D27: =+Totale!D21-(Totale!D15-Totale!D20) -> -1.0601507e-06 | E27: =+Totale!E21-(Totale!E15-Totale!E20) -> -2.0298612e-06 | F27: =+Totale!F21-(Totale!F15-Totale!F20) -> -2.0017615e-07 | G27: =+Totale!G21-(Totale!G15-Totale!G20) -> -9.9884346e-08
A28: Miste Attivo | B28: =+Miste!B15-SUM(Miste!B2,Miste!B8:B14) -> 0 | C28: =+Miste!C15-SUM(Miste!C2,Miste!C8:C14) -> 0 | D28: =+Miste!D15-SUM(Miste!D2,Miste!D8:D14) -> 0 | E28: =+Miste!E15-SUM(Miste!E2,Miste!E8:E14) -> 0 | F28: =+Miste!F15-SUM(Miste!F2,Miste!F8:F14) -> 0 | G28: =+Miste!G15-SUM(Miste!G2,Miste!G8:G14) -> 0
A29: Miste Passivo | B29: =+Miste!B20-SUM(Miste!B16:B19) -> 0 | C29: =+Miste!C20-SUM(Miste!C16:C19) -> 0 | D29: =+Miste!D20-SUM(Miste!D16:D19) -> 0 | E29: =+Miste!E20-SUM(Miste!E16:E19) -> 0 | F29: =+Miste!F20-SUM(Miste!F16:F19) -> 0 | G29: =+Miste!G20-SUM(Miste!G16:G19) -> 0
A30: Miste EAOL | B30: =+Miste!B21-(Miste!B15-Miste!B20) -> -9.95351e-09 | C30: =+Miste!C21-(Miste!C15-Miste!C20) -> 0 | D30: =+Miste!D21-(Miste!D15-Miste!D20) -> 3.9915903e-08 | E30: =+Miste!E21-(Miste!E15-Miste!E20) -> -9.9971658e-09 | F30: =+Miste!F21-(Miste!F15-Miste!F20) -> 0 | G30: =+Miste!G21-(Miste!G15-Miste!G20) -> 0
A31: Vita Attivo | B31: =+Vita!B15-SUM(Vita!B2,Vita!B8:B14) -> 0 | C31: =+Vita!C15-SUM(Vita!C2,Vita!C8:C14) -> 0 | D31: =+Vita!D15-SUM(Vita!D2,Vita!D8:D14) -> 0 | E31: =+Vita!E15-SUM(Vita!E2,Vita!E8:E14) -> 0 | F31: =+Vita!F15-SUM(Vita!F2,Vita!F8:F14) -> 0 | G31: =+Vita!G15-SUM(Vita!G2,Vita!G8:G14) -> 0
A32: Vita Passivo | B32: =+Vita!B20-SUM(Vita!B16:B19) -> 0 | C32: =+Vita!C20-SUM(Vita!C16:C19) -> 0 | D32: =+Vita!D20-SUM(Vita!D16:D19) -> 0 | E32: =+Vita!E20-SUM(Vita!E16:E19) -> 0 | F32: =+Vita!F20-SUM(Vita!F16:F19) -> 0 | G32: =+Vita!G20-SUM(Vita!G16:G19) -> 0
A33: Vita EAOL | B33: =+Vita!B21-(Vita!B15-Vita!B20) -> -5.7998841e-07 | C33: =+Vita!C21-(Vita!C15-Vita!C20) -> -1.110031e-06 | D33: =+Vita!D21-(Vita!D15-Vita!D20) -> -1.2027522e-07 | E33: =+Vita!E21-(Vita!E15-Vita!E20) -> -9.6006988e-07 | F33: =+Vita!F21-(Vita!F15-Vita!F20) -> -2.0008883e-07 | G33: =+Vita!G21-(Vita!G15-Vita!G20) -> 2.9882358e-08
A34: Danni Attivo | B34: =+Danni!B15-SUM(Danni!B2,Danni!B8:B14) -> 0 | C34: =+Danni!C15-SUM(Danni!C2,Danni!C8:C14) -> 0 | D34: =+Danni!D15-SUM(Danni!D2,Danni!D8:D14) -> 0 | E34: =+Danni!E15-SUM(Danni!E2,Danni!E8:E14) -> 0 | F34: =+Danni!F15-SUM(Danni!F2,Danni!F8:F14) -> 0 | G34: =+Danni!G15-SUM(Danni!G2,Danni!G8:G14) -> 0
A35: Danni Passivo | B35: =+Danni!B20-SUM(Danni!B16:B19) -> 0 | C35: =+Danni!C20-SUM(Danni!C16:C19) -> 0 | D35: =+Danni!D20-SUM(Danni!D16:D19) -> 0 | E35: =+Danni!E20-SUM(Danni!E16:E19) -> 0 | F35: =+Danni!F20-SUM(Danni!F16:F19) -> 0 | G35: =+Danni!G20-SUM(Danni!G16:G19) -> 0
A36: Danni EAOL | B36: =+Danni!B21-(Danni!B15-Danni!B20) -> -2.1457072e-07 | C36: =+Danni!C21-(Danni!C15-Danni!C20) -> -3.3400011e-06 | D36: =+Danni!D21-(Danni!D15-Danni!D20) -> -9.7999691e-07 | E36: =+Danni!E21-(Danni!E15-Danni!E20) -> -1.0600015e-06 | F36: =+Danni!F21-(Danni!F15-Danni!F20) -> 0 | G36: =+Danni!G21-(Danni!G15-Danni!G20) -> -1.2999953e-07
