Workbook
Name a: 'INDICE delle TAVOLE STATISTICHE'!$A$1:$A$13

Sheet INDICE delle TAVOLE STATISTICHE
A3: PRODUZIONE AL I° TIMESTRE 2026
A4: Portafoglio italiano - Lavoro diretto
A7: ASSICURAZIONI VITA | C7: ASSICURAZIONI DANNI
A9: TOTALE IMPRESE VIGILATE IVASS e RAPPRESENTANZE SEE (TOT)
A10: Premi lordi contabilizzati a tutto il I° trimestre 2026 | C10: Premi lordi contabilizzati a tutto il I° trimestre 2026
A11: Ripartizione per canale distributivo dei premi lordi contabilizzati a tutto il I° trimestre 2026 | C11: Ripartizione per canale distributivo dei premi lordi contabilizzati a tutto il I° trimestre 2026
A12: Nuova produzione emessa a tutto il I° trimestre 2026
A14: IMPRESE VIGILATE IVASS (A)*
A15: Premi lordi contabilizzati a tutto il I° trimestre 2026 | C15: Premi lordi contabilizzati a tutto il I° trimestre 2026
A16: Ripartizione per canale distributivo dei premi lordi contabilizzati a tutto il I° trimestre 2026 | C16: Ripartizione per canale distributivo dei premi lordi contabilizzati a tutto il I° trimestre 2026
A17: Nuova produzione emessa a tutto il I° trimestre 2026
A19: RAPPRESENTANZE SEE (B)**
A20: Premi lordi contabilizzati a tutto il I° trimestre 2026 | C20: Premi lordi contabilizzati a tutto il I° trimestre 2026
A21: Ripartizione per canale distributivo dei premi lordi contabilizzati a tutto il I° trimestre 2026 | C21: Ripartizione per canale distributivo dei premi lordi contabilizzati a tutto il I° trimestre 2026
A22: Nuova produzione emessa a tutto il I° trimestre 2026
A24: * Imprese di assicurazione nazionali e dalle Rappresentanze per l’Italia delle imprese di assicurazione extra S.E.E. (partecipanti: tutte le 83 imprese autorizzate)
A25: ** Rappresentanze per l’Italia delle imprese di assicurazione S.E.E. (partecipanti: 81 delle 84 imprese autorizzate)

Sheet TOT_Tav1
A1: POSIZ | B1: NOME | C1: 20260331_01 - Premi lordi contabilizzati - Annui | D1: 20260331_02 - Premi lordi contabilizzati - Unici | E1: 20260331_03 - Premi lordi contabilizzati - Ricorrenti | F1: 20260331_04 - Premi lordi contabilizzati - Totale | G1: 20260331_05 - Premi lordi contabilizzati - Di cui(**) di prima annualità | H1: varAnnua04 | I1: incidenza04
A2: 1 | B2: RAMO I - ASSICURAZIONI INDIVIDUALI - popolari, adeguabili e indicizzate | C2: 0 | D2: 1 | E2: 249 | F2: 250 | G2: 0 | I2: 7.6837924e-06
A3: 2 | B3: RAMO I - ASSICURAZIONI INDIVIDUALI - rivalutabili | C3: 395624 | D3: 15692198 | E3: 1485468 | F3: 17573290 | G3: 226970 | H3: -0.046615413 | I3: 0.54011805
A4: 3 | B4: RAMO I - ASSICURAZIONI INDIVIDUALI - rivalutabili - di cui: polizze in valuta | C4: 431 | D4: 3109 | E4: 2824 | F4: 6364 | G4: 58 | H4: 0.075363298 | I4: 0.00019559862
A5: 4 | B5: RAMO I - ASSICURAZIONI INDIVIDUALI - rivalutabili - di cui: contratti ex art. 13, comma 1, lett. b) d.lgs. 252/05 | C5: 1769 | D5: 0 | E5: 704291 | F5: 706060 | G5: 64401 | H5: -0.072864553 | I5: 0.021700874
A6: 5 | B6: RAMO I - ASSICURAZIONI INDIVIDUALI - temporanee di puro rischio | C6: 240314 | D6: 219817 | E6: 9183 | F6: 469314 | G6: 46355 | H6: 0.062082325 | I6: 0.014424445
A7: 6 | B7: RAMO I - ASSICURAZIONI INDIVIDUALI - altre | C7: 5966 | D7: 81343 | E7: 714 | F7: 88023 | G7: 482 | H7: 1.023936 | I7: 0.0027054018
A8: 7 | B8: RAMO I - ASSICURAZIONI INDIVIDUALI - TOTALE INDIVIDUALI | C8: 641904 | D8: 15993359 | E8: 1495614 | F8: 18130877 | G8: 273807 | H8: -0.041602129 | I8: 0.55725558
A9: 8 | B9: RAMO I - ASSICURAZIONI COLLETTIVE - T.F.R. di legge | C9: 583 | D9: 4059 | E9: 1620 | F9: 6262 | G9: 608 | H9: -0.2000511 | I9: 0.00019246363
A10: 9 | B10: RAMO I - ASSICURAZIONI COLLETTIVE - tempor. di gruppo e altre di rischio | C10: 160198 | D10: 347675 | E10: 16595 | F10: 524468 | G10: 58046 | H10: 0.081571333 | I10: 0.016119613
A11: 10 | B11: RAMO I - ASSICURAZIONI COLLETTIVE - previdenziali | C11: 283433 | D11: 230844 | E11: 66681 | F11: 580958 | G11: 17142 | H11: -0.049307057 | I11: 0.017855843
A12: 11 | B12: RAMO I - TOTALE COLLETTIVE | C12: 444214 | D12: 582578 | E12: 84896 | F12: 1111688 | G12: 75796 | H12: 0.0071188498 | I12: 0.034167919
A13: 12 | B13: TOTALE RAMO I | C13: 1086118 | D13: 16575937 | E13: 1580510 | F13: 19242565 | G13: 349603 | H13: -0.038916064 | I13: 0.5914235
A14: 13 | B14: TOTALE RAMO II | C14: 0 | D14: 0 | E14: 0 | F14: 0 | G14: 0 | I14: 0
A15: 14 | B15: RAMO III - ASSICURAZIONI INDIVIDUALI - connesse con fondi interni | C15: 16217 | D15: 4851196 | E15: 966307 | F15: 5833720 | G15: 222381 | H15: 0.078218787 | I15: 0.17930037
A16: 15 | B16: RAMO III - ASSICURAZIONI INDIVIDUALI - connesse con fondi interni - di cui: contratti ex art. 13, comma 1, lett. b) d.lgs. 252/05 | C16: 0 | D16: 0 | E16: 363863 | F16: 363863 | G16: 66559 | H16: 0.10397337 | I16: 0.011183391
A17: 16 | B17: RAMO III - ASSICURAZIONI INDIVIDUALI - connesse con quote di OICR | C17: 1428 | D17: 5011774 | E17: 604647 | F17: 5617849 | G17: 180193 | H17: 0.056150238 | I17: 0.17266554
A18: 17 | B18: RAMO III - ASSICURAZIONI INDIVIDUALI - connesse con quote di OICR - di cui: contratti ex art. 13, comma 1, lett. b) d.lgs. 252/05 | C18: 0 | D18: 0 | E18: 310375 | F18: 310375 | G18: 117802 | H18: 0.46529096 | I18: 0.0095394283
A19: 18 | B19: RAMO III - ASSICURAZIONI INDIVIDUALI - connesse con indice azionario | C19: 0 | D19: 5445 | E19: 0 | F19: 5445 | G19: 0 | I19: 0.000167353
A20: 19 | B20: RAMO III - ASSICURAZIONI INDIVIDUALI - connesse con altro valore di riferimento | C20: 0 | D20: 0 | E20: 0 | F20: 0 | G20: 0 | I20: 0
A21: 20 | B21: RAMO III - ASSICURAZIONI INDIVIDUALI - TOTALE INDIVIDUALI | C21: 17645 | D21: 9868415 | E21: 1570954 | F21: 11457014 | G21: 402574 | H21: 0.067785916 | I21: 0.35213327
A22: 21 | B22: RAMO III - ASSICURAZIONI COLLETTIVE | C22: 8239 | D22: 2808 | E22: 0 | F22: 11047 | G22: 507 | H22: 0.70189493 | I22: 0.00033953142
A23: 22 | B23: TOTALE RAMO III | C23: 25884 | D23: 9871223 | E23: 1570954 | F23: 11468061 | G23: 403081 | H23: 0.068169293 | I23: 0.3524728
A24: 23 | B24: TOTALE RAMO IV | C24: 80795 | D24: 16609 | E24: 1383 | F24: 98787 | G24: 19193 | H24: 0.16261033 | I24: 0.0030362352
A25: 24 | B25: RAMO V - OPER.DI CAPITALIZZAZIONE INDIVIDUALI | C25: 15 | D25: 218746 | E25: 33508 | F25: 252269 | G25: 465 | H25: -0.33107857 | I25: 0.0077535305
A26: 25 | B26: RAMO V - OPER.DI CAPITALIZZAZIONE INDIVIDUALI - di cui: contratti ex art. 41 d.lgs. 209/05 | C26: 0 | D26: 103 | E26: 56 | F26: 159 | G26: 0 | H26: -0.76090226 | I26: 4.886892e-06
A27: 26 | B27: RAMO V - OPER.DI CAPITALIZZAZIONE INDIVIDUALI - di cui: connessi con fondi interni | C27: 0 | D27: 103 | E27: 56 | F27: 159 | G27: 0 | H27: -0.080924855 | I27: 4.886892e-06
A28: 27 | B28: RAMO V - OPER.DI CAPITALIZZAZIONE INDIVIDUALI - di cui: connessi con quote di OICR | C28: 0 | D28: 0 | E28: 0 | F28: 0 | G28: 0 | I28: 0
A29: 28 | B29: RAMO V - OPER.DI CAPITALIZZAZIONE INDIVIDUALI - di cui: connessi con indice azionario | C29: 0 | D29: 0 | E29: 0 | F29: 0 | G29: 0 | I29: 0
A30: 29 | B30: RAMO V - OPER.DI CAPITALIZZAZIONE INDIVIDUALI - di cui: connessi con altro valore di riferimento | C30: 0 | D30: 0 | E30: 0 | F30: 0 | G30: 0 | H30: -1 | I30: 0
A31: 30 | B31: RAMO V - OPER.DI CAPITALIZZAZIONE COLLETTIVE | C31: 695 | D31: 233507 | E31: 10844 | F31: 245046 | G31: 104 | H31: 0.3955022 | I31: 0.0075315304
A32: 31 | B32: RAMO V - OPER.DI CAPITALIZZAZIONE COLLETTIVE - di cui: T.F.R. di legge | C32: 18 | D32: 30185 | E32: 821 | F32: 31024 | G32: 87 | H32: 0.53896523 | I32: 0.0009535279
A33: 32 | B33: TOTALE RAMO V | C33: 710 | D33: 452253 | E33: 44352 | F33: 497315 | G33: 569 | H33: -0.10024877 | I33: 0.015285061
A34: 33 | B34: TOTALE RAMO VI | C34: 534 | D34: 938553 | E34: 206175 | F34: 1145262 | G34: 5193 | H34: -0.19554751 | I34: 0.035199822
A35: 34 | B35: ASSICURAZIONI COMPLEMENTARI | C35: 17204 | D35: 11591 | E35: 55232 | F35: 84027 | G35: 11425 | H35: -0.18776039 | I35: 0.0025825841
A36: 35 | B36: ASSICURAZIONI COMPLEMENTARI - di cui: ramo I | C36: 17203 | D36: 7282 | E36: 49860 | F36: 74345 | G36: 9064 | H36: -0.17826313 | I36: 0.0022850062
A37: 36 | B37: ASSICURAZIONI COMPLEMENTARI - di cui: ramo III | C37: 0 | D37: 4309 | E37: 5370 | F37: 9679 | G37: 2360 | H37: -0.25402697 | I37: 0.00029748571
A38: 37 | B38: ASSICURAZIONI COMPLEMENTARI - di cui: ramo V | C38: 1 | D38: 0 | E38: 0 | F38: 1 | G38: 0 | H38: 0 | I38: 3.073517e-08
A39: 38 | B39: ASSICURAZIONI COMPLEMENTARI - di cui: ramo VI | C39: 0 | D39: 0 | E39: 2 | F39: 2 | G39: 1 | H39: 0 | I39: 6.1470339e-08
A40: 39 | B40: TOTALE | C40: 1211245 | D40: 27866166 | E40: 3458606 | F40: 32536017 | G40: 789064 | H40: -0.011745629 | I40: 1

Sheet TOT_Tav2
A1: POSIZ | B1: NOME | C1: 20260331_01 - Agenzie con mandato | D1: varAnnua01 | E1: 20260331_02 - Promotori finanziari | F1: varAnnua02 | G1: 20260331_03 - Sportelli bancari e postali | H1: varAnnua03 | I1: 20260331_04 - Brokers | J1: varAnnua04 | K1: 20260331_05 - Agenzie in economia e gerenze | L1: varAnnua05 | M1: 20260331_06 - Altre forme di vendita diretta | N1: varAnnua06 | O1: 20260331_07 - Totale | P1: varAnnua07 | Q1: incidenza07
A2: 1 | B2: SETTORE INDIVIDUALI - RAMO I | C2: 2541999 | D2: 0.096583507 | E2: 1686761 | F2: 0.010941531 | G2: 12276832 | H2: -0.068901193 | I2: 163308 | J2: 0.078894864 | K2: 1407504 | L2: -0.06116454 | M2: 54472 | N2: -0.4290446 | O2: 18130876 | P2: -0.041602182 | Q2: 0.55869843
A3: 2 | B3: SETTORE INDIVIDUALI - RAMO I - di cui contratti ex art. 13, comma 1, lett. b) d.lgs. 252/05 | C3: 227057 | D3: -0.021913123 | E3: 12257 | F3: -0.15322971 | G3: 254174 | H3: -0.050164799 | I3: 2193 | J3: -0.087010824 | K3: 200772 | L3: 0.018697327 | M3: 9607 | N3: -0.79920157 | O3: 706060 | P3: -0.072864553 | Q3: 0.021757063
A4: 3 | B4: SETTORE INDIVIDUALI - RAMO II | C4: 0 | E4: 0 | G4: 0 | I4: 0 | K4: 0 | M4: 0 | O4: 0 | Q4: 0
A5: 4 | B5: SETTORE INDIVIDUALI - RAMO III | C5: 790377 | D5: -0.1796388 | E5: 3425747 | F5: -0.055869324 | G5: 6610378 | H5: 0.20496285 | I5: 187974 | J5: 0.26734582 | K5: 431652 | L5: -0.11622784 | M5: 10886 | N5: -0.27782938 | O5: 11457014 | P5: 0.067785916 | Q5: 0.35304504
A6: 5 | B6: SETTORE INDIVIDUALI - RAMO III - di cui contratti ex art. 13, comma 1, lett. b) d.lgs. 252/05 | C6: 147657 | D6: 0.15132164 | E6: 373257 | F6: 0.33083157 | G6: 35079 | H6: -0.0007690993 | I6: 4837 | J6: 0.53312203 | K6: 104528 | L6: 0.273055 | M6: 8880 | N6: -0.27945472 | O6: 674238 | P6: 0.24533257 | Q6: 0.020776476
A7: 6 | B7: SETTORE INDIVIDUALI - RAMO IV | C7: 60507 | D7: 0.13696494 | E7: 296 | F7: 0.29257642 | G7: 9394 | H7: 0.029705141 | I7: 19 | J7: -0.05 | K7: 11658 | L7: 0.19753467 | M7: 1 | O7: 81875 | P7: 0.13204286 | Q7: 0.0025229578
A8: 7 | B8: SETTORE INDIVIDUALI - RAMO V | C8: 18347 | D8: -0.86962608 | E8: 198 | F8: 2.1935484 | G8: 110545 | H8: 4.6855938 | I8: 1759 | J8: 26.484375 | K8: 120118 | L8: -0.41400708 | M8: 1301 | N8: -0.89022023 | O8: 252268 | P8: -0.33108122 | Q8: 0.0077735757
A9: 8 | B9: SETTORE INDIVIDUALI - RAMO V - di cui contratti ex art. 41 d.lgs. 209/05 | C9: 159 | D9: -0.080924855 | E9: 0 | G9: 0 | H9: -1 | I9: 0 | K9: 0 | L9: -1 | M9: 0 | O9: 159 | P9: -0.76090226 | Q9: 4.8995455e-06
A10: 9 | B10: SETTORE INDIVIDUALI - RAMO VI | C10: 105740 | D10: 0.1369159 | E10: 106124 | F10: 0.28672584 | G10: 201210 | H10: 0.012499623 | I10: 1542 | J10: 0.27332783 | K10: 12624 | L10: 0.075023418 | M10: 778 | N10: -0.97446501 | O10: 428018 | P10: 0.024873692 | Q10: 0.013189268
A11: 10 | B11: TOTALE INDIVIDUALI | C11: 3516970 | D11: -0.01444245 | E11: 5219126 | F11: -0.029855166 | G11: 19208359 | H11: 0.0163923 | I11: 354602 | J11: 0.17815019 | K11: 1983556 | L11: -0.10411809 | M11: 67438 | N11: -0.55864606 | O11: 30350051 | P11: -0.0053949776 | Q11: 0.93522927
A12: 11 | B12: TOTALE INDIVIDUALI - di cui : premi annui | C12: 337274 | D12: 0.0048443608 | E12: 18466 | F12: 0.0028784011 | G12: 128410 | H12: 0.044425285 | I12: 8201 | J12: 0.10989308 | K12: 236805 | L12: -0.13373427 | M12: 5896 | N12: 0.14596696 | O12: 735052 | P12: -0.036510396 | Q12: 0.022650445
A13: 12 | B13: TOTALE INDIVIDUALI - di cui : premi unici | C13: 2396530 | D13: -0.036411257 | E13: 4639624 | F13: -0.047891062 | G13: 17972812 | H13: 0.017154913 | I13: 328997 | J13: 0.17851642 | K13: 1136261 | L13: -0.15197188 | M13: 31021 | N13: -0.58994052 | O13: 26505245 | P13: -0.0082032675 | Q13: 0.81675253
A14: 13 | B14: TOTALE INDIVIDUALI - di cui : premi ricorrenti | C14: 783166 | D14: 0.05014133 | E14: 561036 | F14: 0.14888938 | G14: 1107137 | H14: 0.0010913891 | I14: 17404 | J14: 0.20601483 | K14: 610490 | L14: 0.016072686 | M14: 30521 | N14: -0.57611488 | O14: 3109754 | P14: 0.02723749 | Q14: 0.095826296
A15: 14 | B15: SETTORE COLLETTIVE - RAMO I | C15: 193210 | D15: -0.02984625 | E15: 4254 | F15: 0.37982485 | G15: 240676 | H15: 0.034965276 | I15: 146935 | J15: 0.13910165 | K15: 496834 | L15: -0.028509192 | M15: 29780 | N15: 0.039731862 | O15: 1111689 | P15: 0.0071197558 | Q15: 0.03425642
A16: 15 | B16: SETTORE COLLETTIVE - RAMO II | C16: 0 | E16: 0 | G16: 0 | I16: 0 | K16: 0 | M16: 0 | O16: 0 | Q16: 0
A17: 16 | B17: SETTORE COLLETTIVE - RAMO III | C17: 0 | E17: 0 | G17: 0 | I17: 0 | K17: 10943 | L17: 0.91110723 | M17: 104 | N17: -0.86405229 | O17: 11047 | P17: 0.70189493 | Q17: 0.00034041056
A18: 17 | B18: SETTORE COLLETTIVE - RAMO IV | C18: 6234 | D18: 0.1332485 | E18: 6 | G18: 1202 | H18: 25.130435 | I18: 4080 | J18: 0.044279498 | K18: 5388 | L18: 0.68955786 | M18: 2 | N18: 0 | O18: 16912 | P18: 0.33744563 | Q18: 0.00052113907
A19: 18 | B19: SETTORE COLLETTIVE - RAMO V | C19: 41761 | D19: 0.068712253 | E19: 9308 | F19: 50.425414 | G19: 1044 | H19: -0.081794195 | I19: 11701 | J19: -0.6072831 | K19: 171738 | L19: 0.76648838 | M19: 9495 | N19: 0.15962384 | O19: 245047 | P19: 0.3955079 | Q19: 0.0075510624
A20: 19 | B20: SETTORE COLLETTIVE - RAMO VI | C20: 69654 | D20: 0.17071449 | E20: 29422 | F20: 0.36074369 | G20: 30816 | H20: 0.024161654 | I20: 8352 | J20: -0.14827657 | K20: 501402 | L20: -0.43345047 | M20: 77598 | O20: 717244 | P20: -0.28705081 | Q20: 0.022101695
A21: 20 | B21: TOTALE COLLETTIVE | C21: 310859 | D21: 0.025165882 | E21: 42990 | F21: 0.7274773 | G21: 273738 | H21: 0.037605613 | I21: 171068 | J21: -0.0083014493 | K21: 1186305 | L21: -0.21047693 | M21: 116979 | N21: 2.1113919 | O21: 2101939 | P21: -0.087932458 | Q21: 0.064770727
A22: 21 | B22: T O T A L E | C22: 3827829 | D22: -0.011340391 | E22: 5262116 | F22: -0.026367972 | G22: 19482097 | H22: 0.016684353 | I22: 525670 | J22: 0.11022172 | K22: 3169861 | L22: -0.14711671 | M22: 184417 | N22: -0.031397883 | O22: 32451990 | P22: -0.011190805 | Q22: 1

Sheet TOT_Tav3
A1: POSIZ | B1: NOME | C1: 20260331_01 - Assicurazioni di capitali - Numero polizze/teste | D1: varAnnua01 | E1: 20260331_02 - Assicurazioni di capitali - Somme assicurate | F1: varAnnua02 | G1: 20260331_03 - Assicurazioni di rendite - Numero polizze/teste | H1: varAnnua03 | I1: 20260331_04 - Assicurazioni di tendite - Somme assicurate | J1: varAnnua04 | K1: 20260331_05 - Premi di tariffa - Annui | L1: 20260331_06 - Premi di tariffa - Unici | M1: 20260331_07 - Premi di tariffa - Ricorrenti | N1: 20260331_08 - Premi di tariffa - Totale | O1: varAnnua08 | P1: incidenza08
A2: 1 | B2: RAMO I - ASSICURAZIONI INDIVIDUALI - rivalutabili | C2: 302281 | D2: -0.080346223 | E2: 13544367 | F2: -0.015728586 | G2: 31624 | H2: -0.19095375 | I2: 26589 | J2: -0.60298926 | K2: 19681 | L2: 13419671 | M2: 242625 | N2: 13681977 | O2: -0.019392088 | P2: 0.57745754
A3: 2 | B3: RAMO I - ASSICURAZIONI INDIVIDUALI - rivalutabili - di cui: Polizze in valuta | C3: 102 | D3: -0.40697674 | E3: 3353 | F3: 0.42257106 | G3: 0 | I3: 0 | J3: -1 | K3: 0 | L3: 3364 | M3: 0 | N3: 3364 | O3: 0.41761483 | P3: 0.00014198001
A4: 3 | B4: RAMO I - ASSICURAZIONI INDIVIDUALI - rivalutabili - di cui: contratti ex art. 13, comma 1, lett. b) d.lgs. 252/05 | C4: 0 | E4: 0 | G4: 31467 | H4: -0.19249127 | I4: 19456 | J4: -0.69674865 | K4: 0 | L4: 0 | M4: 112116 | N4: 112116 | O4: -0.10156982 | P4: 0.0047319353
A5: 4 | B5: RAMO I - ASSICURAZIONI INDIVIDUALI - temporanee di puro rischio | C5: 244688 | D5: 0.0021666209 | E5: 19015358 | F5: 0.027986827 | G5: 5 | H5: 4 | I5: 5 | J5: 4 | K5: 44438 | L5: 250374 | M5: 616 | N5: 295428 | O5: 0.034140194 | P5: 0.012468748
A6: 5 | B6: RAMO I - ASSICURAZIONI INDIVIDUALI - altre | C6: 3194 | D6: 2.6295455 | E6: 259417 | F6: 2.1545047 | G6: 0 | I6: 0 | K6: 467 | L6: 103423 | M6: 1102 | N6: 104992 | O6: 1.326074 | P6: 0.0044312618
A7: 6 | B7: RAMO I - ASSICURAZIONI INDIVIDUALI - TOTALE INDIVIDUALI | C7: 550163 | D7: -0.041075142 | E7: 32819142 | F7: 0.014793522 | G7: 31629 | H7: -0.19084653 | I7: 26594 | J7: -0.60292054 | K7: 64586 | L7: 13773468 | M7: 244343 | N7: 14082397 | O7: -0.014069591 | P7: 0.59435755
A8: 7 | B8: RAMO I - ASSICURAZIONI INDIVIDUALI - TOTALE INDIVIDUALI - di cui: deriv. da trasformazione | C8: 6831 | D8: 3.7110345 | E8: 408954 | F8: 1.4981155 | G8: 0 | I8: 0 | K8: 1033 | L8: 246563 | M8: 5 | N8: 247601 | O8: 5.0455367 | P8: 0.010450176
A9: 8 | B9: RAMO I - ASSICURAZIONI INDIVIDUALI - TOTALE INDIVIDUALI - di cui: deriv. da trasferimenti di posiz. previd. a contratti ex art. 13, co. 1, lett. b), d.lgs. 252/05 | C9: 0 | E9: 0 | G9: 293 | H9: 0.11406844 | I9: 5588 | J9: 5.2575588 | K9: 0 | L9: 19205 | M9: 0 | N9: 19205 | O9: 0.061694953 | P9: 0.00081056065
A10: 9 | B10: RAMO I - ASSICURAZIONI COLLETTIVE - T.F.R. di legge | C10: 387504 | D10: 997.72165 | E10: 1605761 | F10: 1435.28 | G10: 0 | I10: 0 | K10: 1984 | L10: 47247 | M10: 0 | N10: 49231 | O10: 38.196656 | P10: 0.0020778293
A11: 10 | B11: RAMO I - ASSICURAZIONI COLLETTIVE - tempor. di gruppo e altre di rischio | C11: 682016 | D11: -0.34464767 | E11: 87925856 | F11: -0.040302923 | G11: 18801 | H11: 1.6196182 | I11: 90685 | J11: 0.86200029 | K11: 35904 | L11: 270685 | M11: 0 | N11: 306589 | O11: -0.070068853 | P11: 0.012939806
A12: 11 | B12: RAMO I - ASSICURAZIONI COLLETTIVE - previdenziali | C12: 18684 | D12: -0.43097305 | E12: 184557 | F12: -0.054838297 | G12: 10118 | H12: -0.080516176 | I12: 385 | J12: -0.17025862 | K12: 48689 | L12: 33221 | M12: 0 | N12: 81910 | O12: -0.17804783 | P12: 0.0034570696
A13: 12 | B13: RAMO I - ASSICURAZIONI COLLETTIVE - TOTALE COLLETTIVE | C13: 1088204 | D13: 0.013311184 | E13: 89716174 | F13: -0.022856377 | G13: 28919 | H13: 0.59061658 | I13: 91070 | J13: 0.85225863 | K13: 86577 | L13: 351153 | M13: 0 | N13: 437730 | O13: 0.016560652 | P13: 0.018474705
A14: 13 | B14: TOTALE RAMO I | C14: 1638367 | D14: -0.0056268428 | E14: 122535316 | F14: -0.013049119 | G14: 60548 | H14: 0.057237646 | I14: 117664 | J14: 0.013113371 | K14: 151163 | L14: 14124621 | M14: 244343 | N14: 14520127 | O14: -0.013173207 | P14: 0.61283226
A15: 14 | B15: TOTALE RAMO II | C15: 0 | E15: 0 | G15: 0 | I15: 0 | K15: 0 | L15: 0 | M15: 0 | N15: 0 | P15: 0
A16: 15 | B16: RAMO III - ASSICURAZIONI INDIVIDUALI - connesse con fondi interni | C16: 105469 | D16: 0.15714348 | E16: 4008421 | F16: 0.26273025 | G16: 34482 | H16: -0.063218235 | I16: 28642 | J16: 0.011941775 | K16: 5248 | L16: 3873053 | M16: 286057 | N16: 4164358 | O16: 0.26274171 | P16: 0.17575968
A17: 16 | B17: RAMO III - ASSICURAZIONI INDIVIDUALI - connesse con fondi interni - di cui: art. 13, comma 1, lett. b) d.lgs. 252/05 | C17: 0 | E17: 0 | G17: 33812 | H17: -0.067718099 | I17: 24038 | J17: -0.14495073 | K17: 0 | L17: 0 | M17: 77331 | N17: 77331 | O17: 0.041565089 | P17: 0.0032638097
A18: 17 | B18: RAMO III - ASSICURAZIONI INDIVIDUALI - connesse con quote di OICR | C18: 59324 | D18: 0.006446797 | E18: 4255949 | F18: -0.07421508 | G18: 17536 | H18: 1.1003713 | I18: 43249 | J18: 0.51718936 | K18: 289 | L18: 4307771 | M18: 115837 | N18: 4423897 | O18: -0.059488723 | P18: 0.18671371
A19: 18 | B19: RAMO III - ASSICURAZIONI INDIVIDUALI - connesse con quote di OICR - di cui: art. 13, comma 1, lett. b) d.lgs. 252/05 | C19: 0 | E19: 0 | G19: 17536 | H19: 1.1003713 | I19: 43249 | J19: 0.51718936 | K19: 0 | L19: 0 | M19: 43489 | N19: 43489 | O19: 0.51900105 | P19: 0.0018354841
A20: 19 | B20: RAMO III - ASSICURAZIONI INDIVIDUALI - connesse con indice azionario | C20: 0 | E20: 5418 | G20: 0 | I20: 0 | K20: 0 | L20: 5445 | M20: 0 | N20: 5445 | P20: 0.00022981009
A21: 20 | B21: RAMO III - ASSICURAZIONI INDIVIDUALI - connesse con altro valore di riferimento | C21: 0 | E21: 0 | G21: 0 | I21: 0 | K21: 0 | L21: 0 | M21: 0 | N21: 0 | P21: 0
A22: 21 | B22: RAMO III - TOTALE INDIVIDUALI | C22: 164793 | D22: 0.097961223 | E22: 8269788 | F22: 0.064112833 | G22: 52018 | H22: 0.15191107 | I22: 71891 | J22: 0.26546383 | K22: 5537 | L22: 8186269 | M22: 401894 | N22: 8593700 | O22: 0.073999714 | P22: 0.3627032
A23: 22 | B23: RAMO III - TOTALE INDIVIDUALI - ASSICURAZIONI INDIVIDUALI - di cui: deriv. da trasferimenti di posiz. previd. a contratti ex art. 9-ter d.lgs. 124/93 | C23: 0 | E23: 0 | G23: 2385 | H23: 0.63692519 | I23: 35881 | J23: 0.55456869 | K23: 0 | L23: 50302 | M23: 0 | N23: 50302 | O23: 0.21867429 | P23: 0.0021230316
A24: 23 | B24: RAMO III - ASSICURAZIONI COLLETTIVE | C24: 226 | D24: 0.93162393 | E24: 142 | F24: -0.77531646 | G24: 0 | H24: -1 | I24: 0 | J24: -1 | K24: 142 | L24: 104 | M24: 0 | N24: 246 | O24: -0.70853081 | P24: 1.0382604e-05
A25: 24 | B25: TOTALE RAMO III | C25: 165019 | D25: 0.098610584 | E25: 8269930 | F25: 0.064044574 | G25: 52018 | H25: 0.14840162 | I25: 71891 | J25: 0.26521885 | K25: 5679 | L25: 8186373 | M25: 401894 | N25: 8593946 | O25: 0.073917182 | P25: 0.36271359
A26: 25 | B26: TOTALE RAMO IV | C26: 46408 | D26: 32.315147 | E26: 224786 | F26: 4.562633 | G26: 1068708 | H26: 1.7279034 | I26: 15636773 | J26: 3.032237 | K26: 23962 | L26: 9040 | M26: 293 | N26: 33295 | O26: 0.19710207 | P26: 0.0014052391
A27: 26 | B27: RAMO V - OPER.DI CAPITALIZZAZIONE INDIVIDUALI | C27: 419 | D27: 2.4344262 | E27: 96813 | F27: -0.33309683 | G27: 0 | I27: 0 | K27: 0 | L27: 133239 | M27: 0 | N27: 133239 | O27: -0.080780694 | P27: 0.0056234465
A28: 27 | B28: RAMO V - OPER.DI CAPITALIZZAZIONE INDIVIDUALI - di cui: contratti ex art. 41 d.lgs. 209/05 | C28: 0 | D28: -1 | E28: 0 | F28: -1 | G28: 0 | I28: 0 | K28: 0 | L28: 0 | M28: 0 | N28: 0 | O28: -1 | P28: 0
A29: 28 | B29: RAMO V - OPER.DI CAPITALIZZAZIONE INDIVIDUALI - di cui: connessi con fondi interni | C29: 0 | E29: 0 | G29: 0 | I29: 0 | K29: 0 | L29: 0 | M29: 0 | N29: 0 | P29: 0
A30: 29 | B30: RAMO V - OPER.DI CAPITALIZZAZIONE INDIVIDUALI - di cui: connessi con quote di OICR | C30: 0 | E30: 0 | G30: 0 | I30: 0 | K30: 0 | L30: 0 | M30: 0 | N30: 0 | P30: 0
A31: 30 | B31: RAMO V - OPER.DI CAPITALIZZAZIONE INDIVIDUALI - di cui: connessi con indice azionario | C31: 0 | E31: 0 | G31: 0 | I31: 0 | K31: 0 | L31: 0 | M31: 0 | N31: 0 | P31: 0
A32: 31 | B32: RAMO V - OPER.DI CAPITALIZZAZIONE INDIVIDUALI - di cui: connessi con altro valore di riferimento | C32: 0 | D32: -1 | E32: 0 | F32: -1 | G32: 0 | I32: 0 | K32: 0 | L32: 0 | M32: 0 | N32: 0 | O32: -1 | P32: 0
A33: 32 | B33: RAMO V - OPER.DI CAPITALIZZAZIONE COLLETTIVE | C33: 1145 | D33: 0.043755697 | E33: 285750 | F33: 0.33489986 | G33: 0 | I33: 0 | K33: 0 | L33: 176600 | M33: 0 | N33: 176600 | O33: 0.84621818 | P33: 0.0074535282
A34: 33 | B34: RAMO V - OPER.DI CAPITALIZZAZIONE COLLETTIVE - di cui: T.F.R. di legge | C34: 800 | D34: 0.070950469 | E34: 2572 | F34: 1.1505017 | G34: 0 | I34: 0 | K34: 0 | L34: 2631 | M34: 0 | N34: 2631 | O34: 1.1425081 | P34: 0.00011104322
A35: 34 | B35: TOTALE RAMO V | C35: 1564 | D35: 0.28301887 | E35: 382563 | F35: 0.06495578 | G35: 0 | I35: 0 | K35: 0 | L35: 309839 | M35: 0 | N35: 309839 | O35: 0.28776034 | P35: 0.013076975
A36: 35 | B36: TOTALE RAMO VI | C36: 41796 | D36: -0.62459919 | E36: 181199 | F36: -0.67729819 | G36: 19287 | H36: 0.18441415 | I36: 14935 | J36: -0.051625603 | K36: 144 | L36: 204731 | M36: 7822 | N36: 212697 | O36: -0.64329342 | P36: 0.0089770277
A37: 36 | B37: ASSICURAZIONI COMPLEMENTARI | C37: 70891 | D37: -0.24178316 | E37: 1539651 | F37: -0.35428131 | G37: 0 | I37: 0 | K37: 1719 | L37: 13346 | M37: 8508 | N37: 23573 | O37: -0.46860981 | P37: 0.00099491518
A38: 37 | B38: ASSICURAZIONI COMPLEMENTARI - di cui: ramo I | C38: 70884 | D38: -0.24124126 | E38: 1538289 | F38: -0.35310996 | G38: 0 | I38: 0 | K38: 1705 | L38: 9093 | M38: 6019 | N38: 16817 | O38: -0.46941158 | P38: 0.00070977341
A39: 38 | B39: ASSICURAZIONI COMPLEMENTARI - di cui: ramo III | C39: 4 | D39: -0.94366197 | E39: 905 | F39: -0.85422036 | G39: 0 | I39: 0 | K39: 14 | L39: 4253 | M39: 2488 | N39: 6755 | O39: -0.46668246 | P39: 0.00028509957
A40: 39 | B40: ASSICURAZIONI COMPLEMENTARI - di cui: ramo V | C40: 0 | D40: -1 | E40: 0 | F40: -1 | G40: 0 | I40: 0 | K40: 0 | L40: 0 | M40: 0 | N40: 0 | P40: 0
A41: 40 | B41: ASSICURAZIONI COMPLEMENTARI - di cui: ramo VI | C41: 3 | D41: 0 | E41: 457 | F41: 2.1958042 | G41: 0 | I41: 0 | K41: 0 | L41: 0 | M41: 1 | N41: 1 | P41: 4.2205709e-08
A42: 41 | B42: TOTALE | C42: 1893154 | D42: -0.0097500044 | E42: 133133445 | F42: -0.015817619 | G42: 1200561 | H42: 1.3511875 | I42: 15841263 | J42: 2.8954085 | K42: 182667 | L42: 22847950 | M42: 662860 | N42: 23693477 | O42: 0.002879692 | P42: 1
A43: 42 | B43: ASSICURAZIONI ED OPERAZIONI DI CAPITALIZZAZIONE COLLETTIVE - a tutto il trimestre: | C43: 1261 | D43: -0.094759512 | E43: 0 | G43: 0 | I43: 0 | K43: 0 | L43: 0 | M43: 0 | N43: 0 | P43: 0
A44: 43 | B44: ASSICURAZIONI ED OPERAZIONI DI CAPITALIZZAZIONE COLLETTIVE - 1° gennaio (valori complessivi): | C44: 112448 | D44: 0.091187858 | E44: 14189556 | F44: 0.41505359 | G44: 42201 | H44: 2.8427427 | I44: 1172960 | J44: 11.279346 | K44: 17282 | L44: 85062 | M44: 0 | N44: 102344 | O44: 0.30469258 | P44: 0.0043195011

Sheet TOT_Tav4_1
A1: POSIZ | B1: NOME | C1: 20260331_01 - PREMI | D1: varAnnua01 | E1: incidenza01
A2: 1 | B2: Infortuni | C2: 1177744 | D2: 0.034347267 | E2: 0.085622973
A3: 2 | B3: Malattia | C3: 1756090 | D3: 0.11612154 | E3: 0.12766921
A4: 3 | B4: Corpi di Veicoli Terrestri | C4: 1512076 | D4: 0.070541 | E4: 0.10992919
A5: 4 | B5: Corpi di veicoli Ferroviari | C5: 756 | D5: -0.41213064 | E5: 5.4961832e-05
A6: 5 | B6: Corpi di Veicoli Aerei | C6: 7922 | D6: -0.13647264 | E6: 0.00057593602
A7: 6 | B7: Corpi di Veicoli Marittimi,Lacustri e Fluviali | C7: 80546 | D7: -0.35032546 | E7: 0.0058557615
A8: 7 | B8: Merci Trasportate | C8: 127335 | D8: -0.041195428 | E8: 0.009257361
A9: 8 | B9: Incendio Ed Elementi Naturali | C9: 1161838 | D9: 0.067161561 | E9: 0.084466594
A10: 9 | B10: Altri Danni Ai Beni | C10: 1128005 | D10: 0.010659363 | E10: 0.082006907
A11: 10 | B11: R.C. Autoveicoli Terrestri | C11: 3877231 | D11: 0.036870768 | E11: 0.28187794
A12: 11 | B12: R.C. Aeromobili | C12: 4837 | D12: 0.21869489 | E12: 0.00035165394
A13: 12 | B13: R.C. Veicoli Marittimi, Lacustri E Fluviali | C13: 6240 | D13: -0.21341233 | E13: 0.00045365322
... A20: 19 | B20: TOTALE | C20: 13755000 | D20: 0.037518494 | E20: 1

Sheet TOT_Tav4_2
A1: POSIZ | B1: NOME | C1: 20260331_01 - Totale rami danni | D1: varAnnua01 | E1: incidenza01 | F1: 20260331_02 - di: R.C. Autoveicoli terrestri | G1: varAnnua02 | H1: incidenza02
A2: 1 | B2: Agenzie con mandato | C2: 8986182 | D2: 0.039460167 | E2: 0.65330294 | F2: 3336322 | G2: 0.026879738 | H2: 0.8604909
A3: 2 | B3: Promotori finanziari | C3: 81238 | D3: 0.34089296 | E3: 0.0059060705 | F3: 212 | H3: 5.4678197e-05
A4: 3 | B4: Sportelli bancari e postali | C4: 1300903 | D4: 0.093952372 | E4: 0.094576736 | F4: 82533 | G4: 0.018473271 | H4: 0.021286583
A5: 4 | B5: Brokers | C5: 2167918 | D5: -0.042197057 | E5: 0.15760945 | F5: 210201 | G5: 0.0022457445 | H5: 0.054214206
A6: 5 | B6: Agenzie in economia e gerenze | C6: 734105 | D6: 0.24772247 | E6: 0.053370047 | F6: 58892 | G6: 1.7805477 | H6: 0.01518919
A7: 6 | B7: Altre forme di vendita diretta | C7: 484654 | D7: -0.051561442 | E7: 0.035234751 | F7: 189071 | G7: 0.059684344 | H7: 0.04876444
A8: 7 | B8: TOTALE | C8: 13755000 | D8: 0.037518494 | E8: 1 | F8: 3877231 | G8: 0.036870768 | H8: 1

Sheet TOT - Tavola 1
A1: ASSICURAZIONI VITA: TOTALE IMPRESE VIGILATE IVASS e RAPPRESENTANZE SEE (a)
A2: Lavoro diretto
A3: ="Premi lordi contabilizzati a tutto il "&IF(MID(TOT_Tav1!C1,5,4)="0331","1°", IF(MID(TOT_Tav1!C1,5,4)="0630","2°", IF(MID(TOT_Tav1!C1,5,4)="0930","3°","4°")))&" trimestre "&MID(TOT_Tav1!C1,1,4) -> Premi lordi contabilizzati a tutto il 1° trimestre 2026
J4: Importi in migliaia di EURO
A5: CATEGORIE | D5: Premi e rate di premi
D6: Annui | E6: Unici | F6: Ricorrenti | G6: Di cui di prima annualità (b) | H6: Totale | I6: variazione - anno precedente | J6: incidenza
A8: RAMO I: | B8: ASSICURAZIONI INDIVIDUALI
B9: popolari, adeguabili e indicizzate | D9: =+TOT_Tav1!C2 -> 0 | E9: =+TOT_Tav1!D2 -> 1 | F9: =+TOT_Tav1!E2 -> 249 | G9: =+TOT_Tav1!G2 -> 0 | H9: =+TOT_Tav1!F2 -> 250 | I9: =+TOT_Tav1!H2 -> 0 | J9: =+TOT_Tav1!I2 -> 7.6837924e-06
B10: rivalutabili | D10: =+TOT_Tav1!C3 -> 395624 | E10: =+TOT_Tav1!D3 -> 15692198 | F10: =+TOT_Tav1!E3 -> 1485468 | G10: =+TOT_Tav1!G3 -> 226970 | H10: =+TOT_Tav1!F3 -> 17573290 | I10: =+TOT_Tav1!H3 -> -0.046615413 | J10: =+TOT_Tav1!I3 -> 0.54011805
B11: di cui: | C11: polizze in valuta | D11: =+TOT_Tav1!C4 -> 431 | E11: =+TOT_Tav1!D4 -> 3109 | F11: =+TOT_Tav1!E4 -> 2824 | G11: =+TOT_Tav1!G4 -> 58 | H11: =+TOT_Tav1!F4 -> 6364 | I11: =+TOT_Tav1!H4 -> 0.075363298 | J11: =+TOT_Tav1!I4 -> 0.00019559862
C12: art. 13, co. 1, lett. b), d.lgs. 252/05 | D12: =+TOT_Tav1!C5 -> 1769 | E12: =+TOT_Tav1!D5 -> 0 | F12: =+TOT_Tav1!E5 -> 704291 | G12: =+TOT_Tav1!G5 -> 64401 | H12: =+TOT_Tav1!F5 -> 706060 | I12: =+TOT_Tav1!H5 -> -0.072864553 | J12: =+TOT_Tav1!I5 -> 0.021700874
B13: temporanee di puro rischio | D13: =+TOT_Tav1!C6 -> 240314 | E13: =+TOT_Tav1!D6 -> 219817 | F13: =+TOT_Tav1!E6 -> 9183 | G13: =+TOT_Tav1!G6 -> 46355 | H13: =+TOT_Tav1!F6 -> 469314 | I13: =+TOT_Tav1!H6 -> 0.062082325 | J13: =+TOT_Tav1!I6 -> 0.014424445
B14: altre | D14: =+TOT_Tav1!C7 -> 5966 | E14: =+TOT_Tav1!D7 -> 81343 | F14: =+TOT_Tav1!E7 -> 714 | G14: =+TOT_Tav1!G7 -> 482 | H14: =+TOT_Tav1!F7 -> 88023 | I14: =+TOT_Tav1!H7 -> 1.023936 | J14: =+TOT_Tav1!I7 -> 0.0027054018
B15: TOTALE INDIVIDUALI | D15: =+TOT_Tav1!C8 -> 641904 | E15: =+TOT_Tav1!D8 -> 15993359 | F15: =+TOT_Tav1!E8 -> 1495614 | G15: =+TOT_Tav1!G8 -> 273807 | H15: =+TOT_Tav1!F8 -> 18130877 | I15: =+TOT_Tav1!H8 -> -0.041602129 | J15: =+TOT_Tav1!I8 -> 0.55725558
B16: ASSICURAZIONI COLLETTIVE
B17: T.F.R. di legge | D17: =+TOT_Tav1!C9 -> 583 | E17: =+TOT_Tav1!D9 -> 4059 | F17: =+TOT_Tav1!E9 -> 1620 | G17: =+TOT_Tav1!G9 -> 608 | H17: =+TOT_Tav1!F9 -> 6262 | I17: =+TOT_Tav1!H9 -> -0.2000511 | J17: =+TOT_Tav1!I9 -> 0.00019246363
B18: temporanee di gruppo e altre di rischio | D18: =+TOT_Tav1!C10 -> 160198 | E18: =+TOT_Tav1!D10 -> 347675 | F18: =+TOT_Tav1!E10 -> 16595 | G18: =+TOT_Tav1!G10 -> 58046 | H18: =+TOT_Tav1!F10 -> 524468 | I18: =+TOT_Tav1!H10 -> 0.081571333 | J18: =+TOT_Tav1!I10 -> 0.016119613
B19: previdenziali | D19: =+TOT_Tav1!C11 -> 283433 | E19: =+TOT_Tav1!D11 -> 230844 | F19: =+TOT_Tav1!E11 -> 66681 | G19: =+TOT_Tav1!G11 -> 17142 | H19: =+TOT_Tav1!F11 -> 580958 | I19: =+TOT_Tav1!H11 -> -0.049307057 | J19: =+TOT_Tav1!I11 -> 0.017855843
B20: TOTALE COLLETTIVE | D20: =+TOT_Tav1!C12 -> 444214 | E20: =+TOT_Tav1!D12 -> 582578 | F20: =+TOT_Tav1!E12 -> 84896 | G20: =+TOT_Tav1!G12 -> 75796 | H20: =+TOT_Tav1!F12 -> 1111688 | I20: =+TOT_Tav1!H12 -> 0.0071188498 | J20: =+TOT_Tav1!I12 -> 0.034167919
A21: TOTALE RAMO I | D21: =+TOT_Tav1!C13 -> 1086118 | E21: =+TOT_Tav1!D13 -> 16575937 | F21: =+TOT_Tav1!E13 -> 1580510 | G21: =+TOT_Tav1!G13 -> 349603 | H21: =+TOT_Tav1!F13 -> 19242565 | I21: =+TOT_Tav1!H13 -> -0.038916064 | J21: =+TOT_Tav1!I13 -> 0.5914235
A22: TOTALE RAMO II | D22: =+TOT_Tav1!C14 -> 0 | E22: =+TOT_Tav1!D14 -> 0 | F22: =+TOT_Tav1!E14 -> 0 | G22: =+TOT_Tav1!G14 -> 0 | H22: =+TOT_Tav1!F14 -> 0 | I22: - | J22: -
A23: RAMO III: | B23: ASSICURAZIONI INDIVIDUALI
B24: connesse con fondi interni | D24: =+TOT_Tav1!C15 -> 16217 | E24: =+TOT_Tav1!D15 -> 4851196 | F24: =+TOT_Tav1!E15 -> 966307 | G24: =+TOT_Tav1!G15 -> 222381 | H24: =+TOT_Tav1!F15 -> 5833720 | I24: =+TOT_Tav1!H15 -> 0.078218787 | J24: =+TOT_Tav1!I15 -> 0.17930037
B25: di cui: | C25: art. 13, co. 1, lett. b), d.lgs. 252/05 | D25: =+TOT_Tav1!C16 -> 0 | E25: =+TOT_Tav1!D16 -> 0 | F25: =+TOT_Tav1!E16 -> 363863 | G25: =+TOT_Tav1!G16 -> 66559 | H25: =+TOT_Tav1!F16 -> 363863 | I25: =+TOT_Tav1!H16 -> 0.10397337 | J25: =+TOT_Tav1!I16 -> 0.011183391
B26: connesse con fondi esterni | D26: =+TOT_Tav1!C17 -> 1428 | E26: =+TOT_Tav1!D17 -> 5011774 | F26: =+TOT_Tav1!E17 -> 604647 | G26: =+TOT_Tav1!G17 -> 180193 | H26: =+TOT_Tav1!F17 -> 5617849 | I26: =+TOT_Tav1!H17 -> 0.056150238 | J26: =+TOT_Tav1!I17 -> 0.17266554
B27: di cui: | C27: art. 13, co. 1, lett. b), d.lgs. 252/05 | D27: =+TOT_Tav1!C18 -> 0 | E27: =+TOT_Tav1!D18 -> 0 | F27: =+TOT_Tav1!E18 -> 310375 | G27: =+TOT_Tav1!G18 -> 117802 | H27: =+TOT_Tav1!F18 -> 310375 | I27: =+TOT_Tav1!H18 -> 0.46529096 | J27: =+TOT_Tav1!I18 -> 0.0095394283
B28: connesse con indice azionario | D28: =+TOT_Tav1!C19 -> 0 | E28: =+TOT_Tav1!D19 -> 5445 | F28: =+TOT_Tav1!E19 -> 0 | G28: =+TOT_Tav1!G19 -> 0 | H28: =+TOT_Tav1!F19 -> 5445 | I28: - | J28: -
B29: connesse con altro valore di riferimento | D29: =+TOT_Tav1!C20 -> 0 | E29: =+TOT_Tav1!D20 -> 0 | F29: =+TOT_Tav1!E20 -> 0 | G29: =+TOT_Tav1!G20 -> 0 | H29: =+TOT_Tav1!F20 -> 0 | I29: =+TOT_Tav1!H20 -> 0 | J29: =+TOT_Tav1!I20 -> 0
B30: TOTALE INDIVIDUALI | D30: =+TOT_Tav1!C21 -> 17645 | E30: =+TOT_Tav1!D21 -> 9868415 | F30: =+TOT_Tav1!E21 -> 1570954 | G30: =+TOT_Tav1!G21 -> 402574 | H30: =+TOT_Tav1!F21 -> 11457014 | I30: =+TOT_Tav1!H21 -> 0.067785916 | J30: =+TOT_Tav1!I21 -> 0.35213327
B31: ASSICURAZIONI COLLETTIVE | D31: =+TOT_Tav1!C22 -> 8239 | E31: =+TOT_Tav1!D22 -> 2808 | F31: =+TOT_Tav1!E22 -> 0 | G31: =+TOT_Tav1!G22 -> 507 | H31: =+TOT_Tav1!F22 -> 11047 | I31: =+TOT_Tav1!H22 -> 0.70189493 | J31: =+TOT_Tav1!I22 -> 0.00033953142
A32: TOTALE RAMO III | D32: =+TOT_Tav1!C23 -> 25884 | E32: =+TOT_Tav1!D23 -> 9871223 | F32: =+TOT_Tav1!E23 -> 1570954 | G32: =+TOT_Tav1!G23 -> 403081 | H32: =+TOT_Tav1!F23 -> 11468061 | I32: =+TOT_Tav1!H23 -> 0.068169293 | J32: =+TOT_Tav1!I23 -> 0.3524728
A33: TOTALE RAMO IV | D33: =+TOT_Tav1!C24 -> 80795 | E33: =+TOT_Tav1!D24 -> 16609 | F33: =+TOT_Tav1!E24 -> 1383 | G33: =+TOT_Tav1!G24 -> 19193 | H33: =+TOT_Tav1!F24 -> 98787 | I33: =+TOT_Tav1!H24 -> 0.16261033 | J33: =+TOT_Tav1!I24 -> 0.0030362352
A34: RAMO V: | B34: OPER. DI CAPITALIZZ. INDIVIDUALI | D34: =+TOT_Tav1!C25 -> 15 | E34: =+TOT_Tav1!D25 -> 218746 | F34: =+TOT_Tav1!E25 -> 33508 | G34: =+TOT_Tav1!G25 -> 465 | H34: =+TOT_Tav1!F25 -> 252269 | I34: =+TOT_Tav1!H25 -> -0.33107857 | J34: =+TOT_Tav1!I25 -> 0.0077535305
B35: di cui: | C35: contratti art. 41 d.lgs. 209/05 | D35: =+TOT_Tav1!C26 -> 0 | E35: =+TOT_Tav1!D26 -> 103 | F35: =+TOT_Tav1!E26 -> 56 | G35: =+TOT_Tav1!G26 -> 0 | H35: =+TOT_Tav1!F26 -> 159 | I35: =+TOT_Tav1!H26 -> -0.76090226 | J35: =+TOT_Tav1!I26 -> 4.886892e-06
C36: connessi con fondi interni | D36: =+TOT_Tav1!C27 -> 0 | E36: =+TOT_Tav1!D27 -> 103 | F36: =+TOT_Tav1!E27 -> 56 | G36: =+TOT_Tav1!G27 -> 0 | H36: =+TOT_Tav1!F27 -> 159 | I36: =+TOT_Tav1!H27 -> -0.080924855 | J36: =+TOT_Tav1!I27 -> 4.886892e-06
C37: connessi con fondi esterni | D37: =+TOT_Tav1!C28 -> 0 | E37: =+TOT_Tav1!D28 -> 0 | F37: =+TOT_Tav1!E28 -> 0 | G37: =+TOT_Tav1!G28 -> 0 | H37: =+TOT_Tav1!F28 -> 0 | I37: - | J37: -
C38: connessi con indice azionario | D38: =+TOT_Tav1!C29 -> 0 | E38: =+TOT_Tav1!D29 -> 0 | F38: =+TOT_Tav1!E29 -> 0 | G38: =+TOT_Tav1!G29 -> 0 | H38: =+TOT_Tav1!F29 -> 0 | I38: - | J38: -
C39: connessi con altro valore di riferimento | D39: =+TOT_Tav1!C30 -> 0 | E39: =+TOT_Tav1!D30 -> 0 | F39: =+TOT_Tav1!E30 -> 0 | G39: =+TOT_Tav1!G30 -> 0 | H39: =+TOT_Tav1!F30 -> 0 | I39: - | J39: -
B40: OPER. DI CAPITALIZZ. COLLETTIVE | D40: =+TOT_Tav1!C31 -> 695 | E40: =+TOT_Tav1!D31 -> 233507 | F40: =+TOT_Tav1!E31 -> 10844 | G40: =+TOT_Tav1!G31 -> 104 | H40: =+TOT_Tav1!F31 -> 245046 | I40: =+TOT_Tav1!H31 -> 0.3955022 | J40: =+TOT_Tav1!I31 -> 0.0075315304
B41: di cui: | C41: T.F.R. di legge | D41: =+TOT_Tav1!C32 -> 18 | E41: =+TOT_Tav1!D32 -> 30185 | F41: =+TOT_Tav1!E32 -> 821 | G41: =+TOT_Tav1!G32 -> 87 | H41: =+TOT_Tav1!F32 -> 31024 | I41: =+TOT_Tav1!H32 -> 0.53896523 | J41: =+TOT_Tav1!I32 -> 0.0009535279
A42: TOTALE RAMO V | D42: =+TOT_Tav1!C33 -> 710 | E42: =+TOT_Tav1!D33 -> 452253 | F42: =+TOT_Tav1!E33 -> 44352 | G42: =+TOT_Tav1!G33 -> 569 | H42: =+TOT_Tav1!F33 -> 497315 | I42: =+TOT_Tav1!H33 -> -0.10024877 | J42: =+TOT_Tav1!I33 -> 0.015285061
A43: TOTALE RAMO VI | D43: =+TOT_Tav1!C34 -> 534 | E43: =+TOT_Tav1!D34 -> 938553 | F43: =+TOT_Tav1!E34 -> 206175 | G43: =+TOT_Tav1!G34 -> 5193 | H43: =+TOT_Tav1!F34 -> 1145262 | I43: =+TOT_Tav1!H34 -> -0.19554751 | J43: =+TOT_Tav1!I34 -> 0.035199822
A44: ASSICURAZIONI COMPLEMENTARI | D44: =+TOT_Tav1!C35 -> 17204 | E44: =+TOT_Tav1!D35 -> 11591 | F44: =+TOT_Tav1!E35 -> 55232 | G44: =+TOT_Tav1!G35 -> 11425 | H44: =+TOT_Tav1!F35 -> 84027 | I44: =+TOT_Tav1!H35 -> -0.18776039 | J44: =+TOT_Tav1!I35 -> 0.0025825841
B45: di cui: | C45: ramo I | D45: =+TOT_Tav1!C36 -> 17203 | E45: =+TOT_Tav1!D36 -> 7282 | F45: =+TOT_Tav1!E36 -> 49860 | G45: =+TOT_Tav1!G36 -> 9064 | H45: =+TOT_Tav1!F36 -> 74345 | I45: =+TOT_Tav1!H36 -> -0.17826313 | J45: =+TOT_Tav1!I36 -> 0.0022850062
C46: ramo III | D46: =+TOT_Tav1!C37 -> 0 | E46: =+TOT_Tav1!D37 -> 4309 | F46: =+TOT_Tav1!E37 -> 5370 | G46: =+TOT_Tav1!G37 -> 2360 | H46: =+TOT_Tav1!F37 -> 9679 | I46: =+TOT_Tav1!H37 -> -0.25402697 | J46: =+TOT_Tav1!I37 -> 0.00029748571
C47: ramo V | D47: =+TOT_Tav1!C38 -> 1 | E47: =+TOT_Tav1!D38 -> 0 | F47: =+TOT_Tav1!E38 -> 0 | G47: =+TOT_Tav1!G38 -> 0 | H47: =+TOT_Tav1!F38 -> 1 | I47: =+TOT_Tav1!H38 -> 0 | J47: =+TOT_Tav1!I38 -> 3.073517e-08
C48: ramo VI | D48: =+TOT_Tav1!C39 -> 0 | E48: =+TOT_Tav1!D39 -> 0 | F48: =+TOT_Tav1!E39 -> 2 | G48: =+TOT_Tav1!G39 -> 1 | H48: =+TOT_Tav1!F39 -> 2 | I48: =+TOT_Tav1!H39 -> 0 | J48: =+TOT_Tav1!I39 -> 6.1470339e-08
A49: TOTALE | D49: =+TOT_Tav1!C40 -> 1211245 | E49: =+TOT_Tav1!D40 -> 27866166 | F49: =+TOT_Tav1!E40 -> 3458606 | G49: =+TOT_Tav1!G40 -> 789064 | H49: =+TOT_Tav1!F40 -> 32536017 | I49: =+TOT_Tav1!H40 -> -0.011745629 | J49: =+TOT_Tav1!I40 -> 1
A51: (a) Il totale contiene anche i premi raccolti in Italia da rappresentanze di imprese dello Spazio Economico Europeo (il cui controllo è esercitato dalle Autorità di Vigilanza dei Paesi di origine) che hanno partecipato alla rilevazione.
A52: (b) I premi di prima annualità sono riferiti ai soli premi annui e ricorrenti (col. 1 e 3).

Sheet TOT - Tavola 2
A1: ASSICURAZIONI VITA: TOTALE IMPRESE VIGILATE IVASS e RAPPRESENTANZE SEE (a)
A2: Lavoro diretto
A3: ="Ripartizione per canale distributivo dei premi lordi contabilizzati a tutto il "&IF(MID(TOT_Tav2!C1,5,4)="0331","1°", IF(MID(TOT_Tav2!C1,5,4)="0630","2°", IF(MID(TOT_Tav2!C1,5,4)="0930","3°","4°")))&" trimestre "&MID(TOT_Tav2!C1,1,4) -> Ripartizione per canale distributivo dei premi lordi contabilizzati a tutto il 1° trimestre 2026
P4: Importi in migliaia di EURO
B5: Agenzie con mandato | D5: Consulenti finanziari | F5: Sportelli bancari e postali | H5: Brokers | J5: Agenzie in economia e gerenze | L5: Altre forme di vendita diretta | N5: Totale
B6: raccolta | C6: variazione - anno prec. | D6: raccolta | E6: variazione - anno prec. | F6: raccolta | G6: variazione - anno prec. | H6: raccolta | I6: variazione - anno prec. | J6: raccolta | K6: variazione - anno prec. | L6: raccolta | M6: variazione - anno prec. | N6: raccolta | O6: variazione - anno precedente | P6: incidenza
A7: SETTORE INDIVIDUALI
A8: RAMO I | B8: =+TOT_Tav2!C2 -> 2541999 | C8: =+TOT_Tav2!D2 -> 0.096583507 | D8: =+TOT_Tav2!E2 -> 1686761 | E8: =+TOT_Tav2!F2 -> 0.010941531 | F8: =+TOT_Tav2!G2 -> 12276832 | G8: =+TOT_Tav2!H2 -> -0.068901193 | H8: =+TOT_Tav2!I2 -> 163308 | I8: =+TOT_Tav2!J2 -> 0.078894864 | ... P8: =+TOT_Tav2!Q2 -> 0.55869843
A9: di cui art. 13, c. 1, lett. b) d.lgs. 252/05 | B9: =+TOT_Tav2!C3 -> 227057 | C9: =+TOT_Tav2!D3 -> -0.021913123 | D9: =+TOT_Tav2!E3 -> 12257 | E9: =+TOT_Tav2!F3 -> -0.15322971 | F9: =+TOT_Tav2!G3 -> 254174 | G9: =+TOT_Tav2!H3 -> -0.050164799 | H9: =+TOT_Tav2!I3 -> 2193 | I9: =+TOT_Tav2!J3 -> -0.087010824 | ... P9: =+TOT_Tav2!Q3 -> 0.021757063
A10: RAMO II | B10: =+TOT_Tav2!C4 -> 0 | C10: =+TOT_Tav2!D4 -> 0 | D10: =+TOT_Tav2!E4 -> 0 | E10: =+TOT_Tav2!F4 -> 0 | F10: =+TOT_Tav2!G4 -> 0 | G10: =+TOT_Tav2!H4 -> 0 | H10: =+TOT_Tav2!I4 -> 0 | I10: =+TOT_Tav2!J4 -> 0 | ... P10: =+TOT_Tav2!Q4 -> 0
A11: RAMO III | B11: =+TOT_Tav2!C5 -> 790377 | C11: =+TOT_Tav2!D5 -> -0.1796388 | D11: =+TOT_Tav2!E5 -> 3425747 | E11: =+TOT_Tav2!F5 -> -0.055869324 | F11: =+TOT_Tav2!G5 -> 6610378 | G11: =+TOT_Tav2!H5 -> 0.20496285 | H11: =+TOT_Tav2!I5 -> 187974 | I11: =+TOT_Tav2!J5 -> 0.26734582 | ... P11: =+TOT_Tav2!Q5 -> 0.35304504
A12: di cui art. 13, c. 1, lett. b) d.lgs. 252/05 | B12: =+TOT_Tav2!C6 -> 147657 | C12: =+TOT_Tav2!D6 -> 0.15132164 | D12: =+TOT_Tav2!E6 -> 373257 | E12: =+TOT_Tav2!F6 -> 0.33083157 | F12: =+TOT_Tav2!G6 -> 35079 | G12: =+TOT_Tav2!H6 -> -0.0007690993 | H12: =+TOT_Tav2!I6 -> 4837 | I12: =+TOT_Tav2!J6 -> 0.53312203 | ... P12: =+TOT_Tav2!Q6 -> 0.020776476
A13: RAMO IV | B13: =+TOT_Tav2!C7 -> 60507 | C13: =+TOT_Tav2!D7 -> 0.13696494 | D13: =+TOT_Tav2!E7 -> 296 | E13: =+TOT_Tav2!F7 -> 0.29257642 | F13: =+TOT_Tav2!G7 -> 9394 | G13: =+TOT_Tav2!H7 -> 0.029705141 | H13: =+TOT_Tav2!I7 -> 19 | I13: =+TOT_Tav2!J7 -> -0.05 | ... P13: =+TOT_Tav2!Q7 -> 0.0025229578
A14: RAMO V | B14: =+TOT_Tav2!C8 -> 18347 | C14: =+TOT_Tav2!D8 -> -0.86962608 | D14: =+TOT_Tav2!E8 -> 198 | E14: =+TOT_Tav2!F8 -> 2.1935484 | F14: =+TOT_Tav2!G8 -> 110545 | G14: =+TOT_Tav2!H8 -> 4.6855938 | H14: =+TOT_Tav2!I8 -> 1759 | I14: =+TOT_Tav2!J8 -> 26.484375 | ... P14: =+TOT_Tav2!Q8 -> 0.0077735757
A15: di cui art. 41 d.lgs. 209/05 | B15: =+TOT_Tav2!C9 -> 159 | C15: =+TOT_Tav2!D9 -> -0.080924855 | D15: =+TOT_Tav2!E9 -> 0 | E15: =+TOT_Tav2!F9 -> 0 | F15: =+TOT_Tav2!G9 -> 0 | G15: =+TOT_Tav2!H9 -> -1 | H15: =+TOT_Tav2!I9 -> 0 | I15: =+TOT_Tav2!J9 -> 0 | ... P15: =+TOT_Tav2!Q9 -> 4.8995455e-06
A16: RAMO VI | B16: =+TOT_Tav2!C10 -> 105740 | C16: =+TOT_Tav2!D10 -> 0.1369159 | D16: =+TOT_Tav2!E10 -> 106124 | E16: =+TOT_Tav2!F10 -> 0.28672584 | F16: =+TOT_Tav2!G10 -> 201210 | G16: =+TOT_Tav2!H10 -> 0.012499623 | H16: =+TOT_Tav2!I10 -> 1542 | I16: =+TOT_Tav2!J10 -> 0.27332783 | ... P16: =+TOT_Tav2!Q10 -> 0.013189268
A17: TOTALE INDIVIDUALI | B17: =+TOT_Tav2!C11 -> 3516970 | C17: =+TOT_Tav2!D11 -> -0.01444245 | D17: =+TOT_Tav2!E11 -> 5219126 | E17: =+TOT_Tav2!F11 -> -0.029855166 | F17: =+TOT_Tav2!G11 -> 19208359 | G17: =+TOT_Tav2!H11 -> 0.0163923 | H17: =+TOT_Tav2!I11 -> 354602 | I17: =+TOT_Tav2!J11 -> 0.17815019 | ... P17: =+TOT_Tav2!Q11 -> 0.93522927
A18: di cui:
A19: premi annui | B19: =+TOT_Tav2!C12 -> 337274 | C19: =+TOT_Tav2!D12 -> 0.0048443608 | D19: =+TOT_Tav2!E12 -> 18466 | E19: =+TOT_Tav2!F12 -> 0.0028784011 | F19: =+TOT_Tav2!G12 -> 128410 | G19: =+TOT_Tav2!H12 -> 0.044425285 | H19: =+TOT_Tav2!I12 -> 8201 | I19: =+TOT_Tav2!J12 -> 0.10989308 | ... P19: =+TOT_Tav2!Q12 -> 0.022650445
A20: premi unici | B20: =+TOT_Tav2!C13 -> 2396530 | C20: =+TOT_Tav2!D13 -> -0.036411257 | D20: =+TOT_Tav2!E13 -> 4639624 | E20: =+TOT_Tav2!F13 -> -0.047891062 | F20: =+TOT_Tav2!G13 -> 17972812 | G20: =+TOT_Tav2!H13 -> 0.017154913 | H20: =+TOT_Tav2!I13 -> 328997 | I20: =+TOT_Tav2!J13 -> 0.17851642 | ... P20: =+TOT_Tav2!Q13 -> 0.81675253
A21: premi ricorrenti | B21: =+TOT_Tav2!C14 -> 783166 | C21: =+TOT_Tav2!D14 -> 0.05014133 | D21: =+TOT_Tav2!E14 -> 561036 | E21: =+TOT_Tav2!F14 -> 0.14888938 | F21: =+TOT_Tav2!G14 -> 1107137 | G21: =+TOT_Tav2!H14 -> 0.0010913891 | H21: =+TOT_Tav2!I14 -> 17404 | I21: =+TOT_Tav2!J14 -> 0.20601483 | ... P21: =+TOT_Tav2!Q14 -> 0.095826296
B22: =B19+B20+B21 -> 3516970 | D22: =D19+D20+D21 -> 5219126 | F22: =F19+F20+F21 -> 19208359 | H22: =H19+H20+H21 -> 354602 | J22: =J19+J20+J21 -> 1983556 | L22: =L19+L20+L21 -> 67438 | N22: =N19+N20+N21 -> 30350051 | O22: =O19+O20+O21 -> -0.017476173 | P22: =P19+P20+P21 -> 0.93522927
A23: SETTORE COLLETTIVE
A24: RAMO I | B24: =+TOT_Tav2!C15 -> 193210 | C24: =+TOT_Tav2!D15 -> -0.02984625 | D24: =+TOT_Tav2!E15 -> 4254 | E24: =+TOT_Tav2!F15 -> 0.37982485 | F24: =+TOT_Tav2!G15 -> 240676 | G24: =+TOT_Tav2!H15 -> 0.034965276 | H24: =+TOT_Tav2!I15 -> 146935 | I24: =+TOT_Tav2!J15 -> 0.13910165 | ... P24: =+TOT_Tav2!Q15 -> 0.03425642
A25: RAMO II | B25: =+TOT_Tav2!C16 -> 0 | C25: =+TOT_Tav2!D16 -> 0 | D25: =+TOT_Tav2!E16 -> 0 | E25: =+TOT_Tav2!F16 -> 0 | F25: =+TOT_Tav2!G16 -> 0 | G25: =+TOT_Tav2!H16 -> 0 | H25: =+TOT_Tav2!I16 -> 0 | I25: =+TOT_Tav2!J16 -> 0 | ... P25: =+TOT_Tav2!Q16 -> 0
A26: RAMO III | B26: =+TOT_Tav2!C17 -> 0 | C26: =+TOT_Tav2!D17 -> 0 | D26: =+TOT_Tav2!E17 -> 0 | E26: =+TOT_Tav2!F17 -> 0 | F26: =+TOT_Tav2!G17 -> 0 | G26: =+TOT_Tav2!H17 -> 0 | H26: =+TOT_Tav2!I17 -> 0 | I26: =+TOT_Tav2!J17 -> 0 | ... P26: =+TOT_Tav2!Q17 -> 0.00034041056
A27: RAMO IV | B27: =+TOT_Tav2!C18 -> 6234 | C27: =+TOT_Tav2!D18 -> 0.1332485 | D27: =+TOT_Tav2!E18 -> 6 | E27: =+TOT_Tav2!F18 -> 0 | F27: =+TOT_Tav2!G18 -> 1202 | G27: =+TOT_Tav2!H18 -> 25.130435 | H27: =+TOT_Tav2!I18 -> 4080 | I27: =+TOT_Tav2!J18 -> 0.044279498 | ... P27: =+TOT_Tav2!Q18 -> 0.00052113907
A28: RAMO V | B28: =+TOT_Tav2!C19 -> 41761 | C28: =+TOT_Tav2!D19 -> 0.068712253 | D28: =+TOT_Tav2!E19 -> 9308 | E28: =+TOT_Tav2!F19 -> 50.425414 | F28: =+TOT_Tav2!G19 -> 1044 | G28: =+TOT_Tav2!H19 -> -0.081794195 | H28: =+TOT_Tav2!I19 -> 11701 | I28: =+TOT_Tav2!J19 -> -0.6072831 | ... P28: =+TOT_Tav2!Q19 -> 0.0075510624
A29: RAMO VI | B29: =+TOT_Tav2!C20 -> 69654 | C29: =+TOT_Tav2!D20 -> 0.17071449 | D29: =+TOT_Tav2!E20 -> 29422 | E29: =+TOT_Tav2!F20 -> 0.36074369 | F29: =+TOT_Tav2!G20 -> 30816 | G29: =+TOT_Tav2!H20 -> 0.024161654 | H29: =+TOT_Tav2!I20 -> 8352 | I29: =+TOT_Tav2!J20 -> -0.14827657 | ... P29: =+TOT_Tav2!Q20 -> 0.022101695
A30: TOTALE COLLETTIVE | B30: =+TOT_Tav2!C21 -> 310859 | C30: =+TOT_Tav2!D21 -> 0.025165882 | D30: =+TOT_Tav2!E21 -> 42990 | E30: =+TOT_Tav2!F21 -> 0.7274773 | F30: =+TOT_Tav2!G21 -> 273738 | G30: =+TOT_Tav2!H21 -> 0.037605613 | H30: =+TOT_Tav2!I21 -> 171068 | I30: =+TOT_Tav2!J21 -> -0.0083014493 | ... P30: =+TOT_Tav2!Q21 -> 0.064770727
A31: TOTALE IMPRESE NAZIONALI E RAPPR. DI IMPRESE EXTRA S.E.E. E S.E.E. (a)
B32: =+TOT_Tav2!C22 -> 3827829 | C32: =+TOT_Tav2!D22 -> -0.011340391 | D32: =+TOT_Tav2!E22 -> 5262116 | E32: =+TOT_Tav2!F22 -> -0.026367972 | F32: =+TOT_Tav2!G22 -> 19482097 | G32: =+TOT_Tav2!H22 -> 0.016684353 | H32: =+TOT_Tav2!I22 -> 525670 | I32: =+TOT_Tav2!J22 -> 0.11022172 | ... P32: =+TOT_Tav2!Q22 -> 1
A34: NOTA: sono esclusi i premi relativi alle assicurazioni complementari.
A35: (a) Il totale comprende quindi anche i premi raccolti in Italia dalle rappresentanze di imprese dello Spazio Economico Europeo (il cui controllo è esercitato dalle Autorità di vigilanza dei Paesi di origine) che hanno partecipato alla rilevazione.

Sheet TOT - Tavola 3
A1: ASSICURAZIONI VITA: TOTALE IMPRESE VIGILATE IVASS e RAPPRESENTANZE SEE (a)
A2: Lavoro diretto
A3: ="Nuova produzione emessa a tutto il "&IF(MID(TOT_Tav3!C1,5,4)="0331","1°", IF(MID(TOT_Tav3!C1,5,4)="0630","2°", IF(MID(TOT_Tav3!C1,5,4)="0930","3°","4°")))&" trimestre "&MID(TOT_Tav3!C1,1,4)&" (b)" -> Nuova produzione emessa a tutto il 1° trimestre 2026 (b)
Q4: Importi in migliaia di EURO
A5: CATEGORIE | D5: Assicurazioni di capitali | H5: Assicurazioni di rendite | L5: Premi di tariffa
D6: Numero polizze/teste | F6: Somme assicurate | H6: Numero polizze/teste | J6: Somme assicurate | L6: Annui | M6: Unici | N6: Ricorrenti | O6: Totale
D7: numero | E7: variazione - anno prec. | F7: importo | G7: variazione - anno prec. | H7: numero | I7: variazione - anno prec. | J7: importo | K7: variazione - anno prec. | O7: raccolta | P7: variazione - anno prec. | Q7: incidenza
A8: RAMO I: | B8: ASSICURAZIONI INDIVIDUALI
B9: rivalutabili | D9: =+TOT_Tav3!C2 -> 302281 | E9: =+TOT_Tav3!D2 -> -0.080346223 | F9: =+TOT_Tav3!E2 -> 13544367 | G9: =+TOT_Tav3!F2 -> -0.015728586 | H9: =+TOT_Tav3!G2 -> 31624 | I9: =+TOT_Tav3!H2 -> -0.19095375 | J9: =+TOT_Tav3!I2 -> 26589 | K9: =+TOT_Tav3!J2 -> -0.60298926 | ... Q9: =+TOT_Tav3!P2 -> 0.57745754
B10: di cui: | C10: polizze in valuta | D10: =+TOT_Tav3!C3 -> 102 | E10: =+TOT_Tav3!D3 -> -0.40697674 | F10: =+TOT_Tav3!E3 -> 3353 | G10: =+TOT_Tav3!F3 -> 0.42257106 | H10: =+TOT_Tav3!G3 -> 0 | I10: =+TOT_Tav3!H3 -> 0 | J10: =+TOT_Tav3!I3 -> 0 | K10: =+TOT_Tav3!J3 -> -1 | ... Q10: =+TOT_Tav3!P3 -> 0.00014198001
C11: ex art. 13, co.1, lett. b), d.lgs. 252/05 | D11: =+TOT_Tav3!C4 -> 0 | E11: =+TOT_Tav3!D4 -> 0 | F11: =+TOT_Tav3!E4 -> 0 | G11: =+TOT_Tav3!F4 -> 0 | H11: =+TOT_Tav3!G4 -> 31467 | I11: =+TOT_Tav3!H4 -> -0.19249127 | J11: =+TOT_Tav3!I4 -> 19456 | K11: =+TOT_Tav3!J4 -> -0.69674865 | ... Q11: =+TOT_Tav3!P4 -> 0.0047319353
B12: temporanee di puro rischio | D12: =+TOT_Tav3!C5 -> 244688 | E12: =+TOT_Tav3!D5 -> 0.0021666209 | F12: =+TOT_Tav3!E5 -> 19015358 | G12: =+TOT_Tav3!F5 -> 0.027986827 | H12: =+TOT_Tav3!G5 -> 5 | I12: =+TOT_Tav3!H5 -> 4 | J12: =+TOT_Tav3!I5 -> 5 | K12: =+TOT_Tav3!J5 -> 4 | ... Q12: =+TOT_Tav3!P5 -> 0.012468748
B13: altre | D13: =+TOT_Tav3!C6 -> 3194 | E13: =+TOT_Tav3!D6 -> 2.6295455 | F13: =+TOT_Tav3!E6 -> 259417 | G13: =+TOT_Tav3!F6 -> 2.1545047 | H13: =+TOT_Tav3!G6 -> 0 | I13: =+TOT_Tav3!H6 -> 0 | J13: =+TOT_Tav3!I6 -> 0 | K13: =+TOT_Tav3!J6 -> 0 | ... Q13: =+TOT_Tav3!P6 -> 0.0044312618
B14: TOTALE INDIVIDUALI | D14: =+TOT_Tav3!C7 -> 550163 | E14: =+TOT_Tav3!D7 -> -0.041075142 | F14: =+TOT_Tav3!E7 -> 32819142 | G14: =+TOT_Tav3!F7 -> 0.014793522 | H14: =+TOT_Tav3!G7 -> 31629 | I14: =+TOT_Tav3!H7 -> -0.19084653 | J14: =+TOT_Tav3!I7 -> 26594 | K14: =+TOT_Tav3!J7 -> -0.60292054 | ... Q14: =+TOT_Tav3!P7 -> 0.59435755
B15: di cui: | C15: derivanti da trasformazione | D15: =+TOT_Tav3!C8 -> 6831 | E15: =+TOT_Tav3!D8 -> 3.7110345 | F15: =+TOT_Tav3!E8 -> 408954 | G15: =+TOT_Tav3!F8 -> 1.4981155 | H15: =+TOT_Tav3!G8 -> 0 | I15: =+TOT_Tav3!H8 -> 0 | J15: =+TOT_Tav3!I8 -> 0 | K15: =+TOT_Tav3!J8 -> 0 | ... Q15: =+TOT_Tav3!P8 -> 0.010450176
C16: deriv. da trasf. di posiz. previd. a contr. ex art. 13, co. 1, lett. b), d.lgs. 252/05 | D16: =+TOT_Tav3!C9 -> 0 | E16: =+TOT_Tav3!D9 -> 0 | F16: =+TOT_Tav3!E9 -> 0 | G16: =+TOT_Tav3!F9 -> 0 | H16: =+TOT_Tav3!G9 -> 293 | I16: =+TOT_Tav3!H9 -> 0.11406844 | J16: =+TOT_Tav3!I9 -> 5588 | K16: =+TOT_Tav3!J9 -> 5.2575588 | ... Q16: =+TOT_Tav3!P9 -> 0.00081056065
B17: ASSICURAZIONI COLLETTIVE
B18: T.F.R. di legge | D18: =+TOT_Tav3!C10 -> 387504 | E18: =+TOT_Tav3!D10 -> 997.72165 | F18: =+TOT_Tav3!E10 -> 1605761 | G18: =+TOT_Tav3!F10 -> 1435.28 | H18: =+TOT_Tav3!G10 -> 0 | I18: =+TOT_Tav3!H10 -> 0 | J18: =+TOT_Tav3!I10 -> 0 | K18: =+TOT_Tav3!J10 -> 0 | ... Q18: =+TOT_Tav3!P10 -> 0.0020778293
B19: temporanee di gruppo e altre di rischio | D19: =+TOT_Tav3!C11 -> 682016 | E19: =+TOT_Tav3!D11 -> -0.34464767 | F19: =+TOT_Tav3!E11 -> 87925856 | G19: =+TOT_Tav3!F11 -> -0.040302923 | H19: =+TOT_Tav3!G11 -> 18801 | I19: =+TOT_Tav3!H11 -> 1.6196182 | J19: =+TOT_Tav3!I11 -> 90685 | K19: =+TOT_Tav3!J11 -> 0.86200029 | ... Q19: =+TOT_Tav3!P11 -> 0.012939806
B20: previdenziali | D20: =+TOT_Tav3!C12 -> 18684 | E20: =+TOT_Tav3!D12 -> -0.43097305 | F20: =+TOT_Tav3!E12 -> 184557 | G20: =+TOT_Tav3!F12 -> -0.054838297 | H20: =+TOT_Tav3!G12 -> 10118 | I20: =+TOT_Tav3!H12 -> -0.080516176 | J20: =+TOT_Tav3!I12 -> 385 | K20: =+TOT_Tav3!J12 -> -0.17025862 | ... Q20: =+TOT_Tav3!P12 -> 0.0034570696
B21: TOTALE COLLETTIVE | D21: =+TOT_Tav3!C13 -> 1088204 | E21: =+TOT_Tav3!D13 -> 0.013311184 | F21: =+TOT_Tav3!E13 -> 89716174 | G21: =+TOT_Tav3!F13 -> -0.022856377 | H21: =+TOT_Tav3!G13 -> 28919 | I21: =+TOT_Tav3!H13 -> 0.59061658 | J21: =+TOT_Tav3!I13 -> 91070 | K21: =+TOT_Tav3!J13 -> 0.85225863 | ... Q21: =+TOT_Tav3!P13 -> 0.018474705
A22: TOTALE RAMO I | D22: =+TOT_Tav3!C14 -> 1638367 | E22: =+TOT_Tav3!D14 -> -0.0056268428 | F22: =+TOT_Tav3!E14 -> 122535316 | G22: =+TOT_Tav3!F14 -> -0.013049119 | H22: =+TOT_Tav3!G14 -> 60548 | I22: =+TOT_Tav3!H14 -> 0.057237646 | J22: =+TOT_Tav3!I14 -> 117664 | K22: =+TOT_Tav3!J14 -> 0.013113371 | ... Q22: =+TOT_Tav3!P14 -> 0.61283226
A23: TOTALE RAMO II | D23: =+TOT_Tav3!C15 -> 0 | E23: =+TOT_Tav3!D15 -> 0 | F23: =+TOT_Tav3!E15 -> 0 | G23: =+TOT_Tav3!F15 -> 0 | H23: =+TOT_Tav3!G15 -> 0 | I23: =+TOT_Tav3!H15 -> 0 | J23: =+TOT_Tav3!I15 -> 0 | K23: =+TOT_Tav3!J15 -> 0 | ... Q23: =+TOT_Tav3!P15 -> 0
A24: RAMO III: | B24: ASSICURAZIONI INDIVIDUALI
B25: connesse con fondi interni | D25: =+TOT_Tav3!C16 -> 105469 | E25: =+TOT_Tav3!D16 -> 0.15714348 | F25: =+TOT_Tav3!E16 -> 4008421 | G25: =+TOT_Tav3!F16 -> 0.26273025 | H25: =+TOT_Tav3!G16 -> 34482 | I25: =+TOT_Tav3!H16 -> -0.063218235 | J25: =+TOT_Tav3!I16 -> 28642 | K25: =+TOT_Tav3!J16 -> 0.011941775 | ... Q25: =+TOT_Tav3!P16 -> 0.17575968
B26: di cui: | C26: ex art. 13, co. 1, lett. b), d. lgs. 252/05 | D26: =+TOT_Tav3!C17 -> 0 | E26: =+TOT_Tav3!D17 -> 0 | F26: =+TOT_Tav3!E17 -> 0 | G26: =+TOT_Tav3!F17 -> 0 | H26: =+TOT_Tav3!G17 -> 33812 | I26: =+TOT_Tav3!H17 -> -0.067718099 | J26: =+TOT_Tav3!I17 -> 24038 | K26: =+TOT_Tav3!J17 -> -0.14495073 | ... Q26: =+TOT_Tav3!P17 -> 0.0032638097
B27: connesse con fondi esterni | D27: =+TOT_Tav3!C18 -> 59324 | E27: =+TOT_Tav3!D18 -> 0.006446797 | F27: =+TOT_Tav3!E18 -> 4255949 | G27: =+TOT_Tav3!F18 -> -0.07421508 | H27: =+TOT_Tav3!G18 -> 17536 | I27: =+TOT_Tav3!H18 -> 1.1003713 | J27: =+TOT_Tav3!I18 -> 43249 | K27: =+TOT_Tav3!J18 -> 0.51718936 | ... Q27: =+TOT_Tav3!P18 -> 0.18671371
B28: di cui: | C28: ex art. 13, co. 1, lett. b), d. lgs. 252/05 | D28: =+TOT_Tav3!C19 -> 0 | E28: =+TOT_Tav3!D19 -> 0 | F28: =+TOT_Tav3!E19 -> 0 | G28: =+TOT_Tav3!F19 -> 0 | H28: =+TOT_Tav3!G19 -> 17536 | I28: =+TOT_Tav3!H19 -> 1.1003713 | J28: =+TOT_Tav3!I19 -> 43249 | K28: =+TOT_Tav3!J19 -> 0.51718936 | ... Q28: =+TOT_Tav3!P19 -> 0.0018354841
B29: connesse con indice azionario | D29: =+TOT_Tav3!C20 -> 0 | E29: =+TOT_Tav3!D20 -> 0 | F29: =+TOT_Tav3!E20 -> 5418 | G29: =+TOT_Tav3!F20 -> 0 | H29: =+TOT_Tav3!G20 -> 0 | I29: =+TOT_Tav3!H20 -> 0 | J29: =+TOT_Tav3!I20 -> 0 | K29: =+TOT_Tav3!J20 -> 0 | ... Q29: =+TOT_Tav3!P20 -> 0.00022981009
B30: connesse con altro valore di riferimento | D30: =+TOT_Tav3!C21 -> 0 | E30: =+TOT_Tav3!D21 -> 0 | F30: =+TOT_Tav3!E21 -> 0 | G30: =+TOT_Tav3!F21 -> 0 | H30: =+TOT_Tav3!G21 -> 0 | I30: =+TOT_Tav3!H21 -> 0 | J30: =+TOT_Tav3!I21 -> 0 | K30: =+TOT_Tav3!J21 -> 0 | ... Q30: =+TOT_Tav3!P21 -> 0
B31: TOTALE INDIVIDUALI | D31: =+TOT_Tav3!C22 -> 164793 | E31: =+TOT_Tav3!D22 -> 0.097961223 | F31: =+TOT_Tav3!E22 -> 8269788 | G31: =+TOT_Tav3!F22 -> 0.064112833 | H31: =+TOT_Tav3!G22 -> 52018 | I31: =+TOT_Tav3!H22 -> 0.15191107 | J31: =+TOT_Tav3!I22 -> 71891 | K31: =+TOT_Tav3!J22 -> 0.26546383 | ... Q31: =+TOT_Tav3!P22 -> 0.3627032
B32: di cui: | C32: deriv. da trasf. di posiz. previd. a contr. ex art. 13, co. 1, lett. b), d.lgs. 252/05 | D32: =+TOT_Tav3!C23 -> 0 | E32: =+TOT_Tav3!D23 -> 0 | F32: =+TOT_Tav3!E23 -> 0 | G32: =+TOT_Tav3!F23 -> 0 | H32: =+TOT_Tav3!G23 -> 2385 | I32: =+TOT_Tav3!H23 -> 0.63692519 | J32: =+TOT_Tav3!I23 -> 35881 | K32: =+TOT_Tav3!J23 -> 0.55456869 | ... Q32: =+TOT_Tav3!P23 -> 0.0021230316
B33: ASSICURAZIONI COLLETTIVE | D33: =+TOT_Tav3!C24 -> 226 | E33: =+TOT_Tav3!D24 -> 0.93162393 | F33: =+TOT_Tav3!E24 -> 142 | G33: =+TOT_Tav3!F24 -> -0.77531646 | H33: =+TOT_Tav3!G24 -> 0 | I33: =+TOT_Tav3!H24 -> -1 | J33: =+TOT_Tav3!I24 -> 0 | K33: =+TOT_Tav3!J24 -> -1 | ... Q33: =+TOT_Tav3!P24 -> 1.0382604e-05
A34: TOTALE RAMO III | D34: =+TOT_Tav3!C25 -> 165019 | E34: =+TOT_Tav3!D25 -> 0.098610584 | F34: =+TOT_Tav3!E25 -> 8269930 | G34: =+TOT_Tav3!F25 -> 0.064044574 | H34: =+TOT_Tav3!G25 -> 52018 | I34: =+TOT_Tav3!H25 -> 0.14840162 | J34: =+TOT_Tav3!I25 -> 71891 | K34: =+TOT_Tav3!J25 -> 0.26521885 | ... Q34: =+TOT_Tav3!P25 -> 0.36271359
A35: TOTALE RAMO IV | D35: =+TOT_Tav3!C26 -> 46408 | E35: =+TOT_Tav3!D26 -> 32.315147 | F35: =+TOT_Tav3!E26 -> 224786 | G35: =+TOT_Tav3!F26 -> 4.562633 | H35: =+TOT_Tav3!G26 -> 1068708 | I35: =+TOT_Tav3!H26 -> 1.7279034 | J35: =+TOT_Tav3!I26 -> 15636773 | K35: =+TOT_Tav3!J26 -> 3.032237 | ... Q35: =+TOT_Tav3!P26 -> 0.0014052391
A36: RAMO V: | B36: OPER. DI CAPITALIZZ. INDIVIDUALI | D36: =+TOT_Tav3!C27 -> 419 | E36: =+TOT_Tav3!D27 -> 2.4344262 | F36: =+TOT_Tav3!E27 -> 96813 | G36: =+TOT_Tav3!F27 -> -0.33309683 | H36: =+TOT_Tav3!G27 -> 0 | I36: =+TOT_Tav3!H27 -> 0 | J36: =+TOT_Tav3!I27 -> 0 | K36: =+TOT_Tav3!J27 -> 0 | ... Q36: =+TOT_Tav3!P27 -> 0.0056234465
B37: di cui | C37: contratti ex art. 41 d.lgs. 209/05 | D37: =+TOT_Tav3!C28 -> 0 | E37: =+TOT_Tav3!D28 -> -1 | F37: =+TOT_Tav3!E28 -> 0 | G37: =+TOT_Tav3!F28 -> -1 | H37: =+TOT_Tav3!G28 -> 0 | I37: =+TOT_Tav3!H28 -> 0 | J37: =+TOT_Tav3!I28 -> 0 | K37: =+TOT_Tav3!J28 -> 0 | ... Q37: =+TOT_Tav3!P28 -> 0
C38: connessi con fondi interni | D38: =+TOT_Tav3!C29 -> 0 | E38: =+TOT_Tav3!D29 -> 0 | F38: =+TOT_Tav3!E29 -> 0 | G38: =+TOT_Tav3!F29 -> 0 | H38: =+TOT_Tav3!G29 -> 0 | I38: =+TOT_Tav3!H29 -> 0 | J38: =+TOT_Tav3!I29 -> 0 | K38: =+TOT_Tav3!J29 -> 0 | ... Q38: =+TOT_Tav3!P29 -> 0
C39: connessi con fondi esterni | D39: =+TOT_Tav3!C30 -> 0 | E39: =+TOT_Tav3!D30 -> 0 | F39: =+TOT_Tav3!E30 -> 0 | G39: =+TOT_Tav3!F30 -> 0 | H39: =+TOT_Tav3!G30 -> 0 | I39: =+TOT_Tav3!H30 -> 0 | J39: =+TOT_Tav3!I30 -> 0 | K39: =+TOT_Tav3!J30 -> 0 | ... Q39: =+TOT_Tav3!P30 -> 0
C40: connessi con indice azionario | D40: =+TOT_Tav3!C31 -> 0 | E40: =+TOT_Tav3!D31 -> 0 | F40: =+TOT_Tav3!E31 -> 0 | G40: =+TOT_Tav3!F31 -> 0 | H40: =+TOT_Tav3!G31 -> 0 | I40: =+TOT_Tav3!H31 -> 0 | J40: =+TOT_Tav3!I31 -> 0 | K40: =+TOT_Tav3!J31 -> 0 | ... Q40: =+TOT_Tav3!P31 -> 0
C41: connessi con altro valore di riferimento | D41: =+TOT_Tav3!C32 -> 0 | E41: =+TOT_Tav3!D32 -> -1 | F41: =+TOT_Tav3!E32 -> 0 | G41: =+TOT_Tav3!F32 -> -1 | H41: =+TOT_Tav3!G32 -> 0 | I41: =+TOT_Tav3!H32 -> 0 | J41: =+TOT_Tav3!I32 -> 0 | K41: =+TOT_Tav3!J32 -> 0 | ... Q41: =+TOT_Tav3!P32 -> 0
B42: OPER. DI CAPITALIZZ. COLLETTIVE | D42: =+TOT_Tav3!C33 -> 1145 | E42: =+TOT_Tav3!D33 -> 0.043755697 | F42: =+TOT_Tav3!E33 -> 285750 | G42: =+TOT_Tav3!F33 -> 0.33489986 | H42: =+TOT_Tav3!G33 -> 0 | I42: =+TOT_Tav3!H33 -> 0 | J42: =+TOT_Tav3!I33 -> 0 | K42: =+TOT_Tav3!J33 -> 0 | ... Q42: =+TOT_Tav3!P33 -> 0.0074535282
B43: di cui: | C43: T.F.R. di legge | D43: =+TOT_Tav3!C34 -> 800 | E43: =+TOT_Tav3!D34 -> 0.070950469 | F43: =+TOT_Tav3!E34 -> 2572 | G43: =+TOT_Tav3!F34 -> 1.1505017 | H43: =+TOT_Tav3!G34 -> 0 | I43: =+TOT_Tav3!H34 -> 0 | J43: =+TOT_Tav3!I34 -> 0 | K43: =+TOT_Tav3!J34 -> 0 | ... Q43: =+TOT_Tav3!P34 -> 0.00011104322
A44: TOTALE RAMO V | D44: =+TOT_Tav3!C35 -> 1564 | E44: =+TOT_Tav3!D35 -> 0.28301887 | F44: =+TOT_Tav3!E35 -> 382563 | G44: =+TOT_Tav3!F35 -> 0.06495578 | H44: =+TOT_Tav3!G35 -> 0 | I44: =+TOT_Tav3!H35 -> 0 | J44: =+TOT_Tav3!I35 -> 0 | K44: =+TOT_Tav3!J35 -> 0 | ... Q44: =+TOT_Tav3!P35 -> 0.013076975
A45: TOTALE RAMO VI | D45: =+TOT_Tav3!C36 -> 41796 | E45: =+TOT_Tav3!D36 -> -0.62459919 | F45: =+TOT_Tav3!E36 -> 181199 | G45: =+TOT_Tav3!F36 -> -0.67729819 | H45: =+TOT_Tav3!G36 -> 19287 | I45: =+TOT_Tav3!H36 -> 0.18441415 | J45: =+TOT_Tav3!I36 -> 14935 | K45: =+TOT_Tav3!J36 -> -0.051625603 | ... Q45: =+TOT_Tav3!P36 -> 0.0089770277
A46: ASSICURAZIONI COMPLEMENTARI | D46: =+TOT_Tav3!C37 -> 70891 | E46: =+TOT_Tav3!D37 -> -0.24178316 | F46: =+TOT_Tav3!E37 -> 1539651 | G46: =+TOT_Tav3!F37 -> -0.35428131 | H46: =+TOT_Tav3!G37 -> 0 | I46: =+TOT_Tav3!H37 -> 0 | J46: =+TOT_Tav3!I37 -> 0 | K46: =+TOT_Tav3!J37 -> 0 | ... Q46: =+TOT_Tav3!P37 -> 0.00099491518
B47: di cui: | C47: ramo I | D47: =+TOT_Tav3!C38 -> 70884 | E47: =+TOT_Tav3!D38 -> -0.24124126 | F47: =+TOT_Tav3!E38 -> 1538289 | G47: =+TOT_Tav3!F38 -> -0.35310996 | H47: =+TOT_Tav3!G38 -> 0 | I47: =+TOT_Tav3!H38 -> 0 | J47: =+TOT_Tav3!I38 -> 0 | K47: =+TOT_Tav3!J38 -> 0 | ... Q47: =+TOT_Tav3!P38 -> 0.00070977341
C48: ramo III | D48: =+TOT_Tav3!C39 -> 4 | E48: =+TOT_Tav3!D39 -> -0.94366197 | F48: =+TOT_Tav3!E39 -> 905 | G48: =+TOT_Tav3!F39 -> -0.85422036 | H48: =+TOT_Tav3!G39 -> 0 | I48: =+TOT_Tav3!H39 -> 0 | J48: =+TOT_Tav3!I39 -> 0 | K48: =+TOT_Tav3!J39 -> 0 | ... Q48: =+TOT_Tav3!P39 -> 0.00028509957
C49: ramo V | D49: =+TOT_Tav3!C40 -> 0 | E49: =+TOT_Tav3!D40 -> -1 | F49: =+TOT_Tav3!E40 -> 0 | G49: =+TOT_Tav3!F40 -> -1 | H49: =+TOT_Tav3!G40 -> 0 | I49: =+TOT_Tav3!H40 -> 0 | J49: =+TOT_Tav3!I40 -> 0 | K49: =+TOT_Tav3!J40 -> 0 | ... Q49: =+TOT_Tav3!P40 -> 0
C50: ramo VI | D50: =+TOT_Tav3!C41 -> 3 | E50: =+TOT_Tav3!D41 -> 0 | F50: =+TOT_Tav3!E41 -> 457 | G50: =+TOT_Tav3!F41 -> 2.1958042 | H50: =+TOT_Tav3!G41 -> 0 | I50: =+TOT_Tav3!H41 -> 0 | J50: =+TOT_Tav3!I41 -> 0 | K50: =+TOT_Tav3!J41 -> 0 | ... Q50: =+TOT_Tav3!P41 -> 4.2205709e-08
A51: TOTALE | D51: =+TOT_Tav3!C42 -> 1893154 | E51: =+TOT_Tav3!D42 -> -0.0097500044 | F51: =+TOT_Tav3!E42 -> 133133445 | G51: =+TOT_Tav3!F42 -> -0.015817619 | H51: =+TOT_Tav3!G42 -> 1200561 | I51: =+TOT_Tav3!H42 -> 1.3511875 | J51: =+TOT_Tav3!I42 -> 15841263 | K51: =+TOT_Tav3!J42 -> 2.8954085 | ... Q51: =+TOT_Tav3!P42 -> 1
A52: Nuove teste assicurate su convenzioni in corso al 1° gennaio per polizze collettive | D52: =+TOT_Tav3!C44 -> 112448 | E52: =+TOT_Tav3!D44 -> 0.091187858 | F52: =+TOT_Tav3!E44 -> 14189556 | G52: =+TOT_Tav3!F44 -> 0.41505359 | H52: =+TOT_Tav3!G44 -> 42201 | I52: =+TOT_Tav3!H44 -> 2.8427427 | J52: =+TOT_Tav3!I44 -> 1172960 | K52: =+TOT_Tav3!J44 -> 11.279346 | ... Q52: =+TOT_Tav3!P44 -> 0.0043195011
A53: ="Numero nuove convenzioni emesse per polizze collettive a tutto il "&IF(MID(TOT_Tav3!C1,5,4)="0331","1°", IF(MID(TOT_Tav3!C1,5,4)="0630","2°", IF(MID(TOT_Tav3!C1,5,4)="0930","3°","4°")))&" trimestre "&MID(TOT_Tav3!C1,1,4) -> Numero nuove convenzioni emesse per polizze collettive a tutto il 1° trimestre 2026 | D53: =+TOT_Tav3!C43 -> 1261 | E53: =+TOT_Tav3!D43 -> -0.094759512
A55: (a) Il totale comprende quindi anche i dati relativi alle rappresentanze di imprese dello Spazio Economico Europeo (il cui controllo è esercitato dalle Autorità di vigilanza dei Paesi di origine) operanti in Italia, che hanno partecipato alla rilevazione.
A57: (b) Il concetto di nuova produzione emessa comporta che, per le polizze che prevedono una rateazione del premio, venga indicato l'intero importo di tariffa su base annua, comprensivo di eventuali sovrappremi e garanzie accessorie.

Sheet TOT - Tavola 4
A1: ASSICURAZIONI DANNI: TOTALE IMPRESE VIGILATE IVASS e RAPPRESENTANZE SEE (a)
A2: Lavoro diretto
A3: ="Premi lordi contabilizzati "&IF(MID(TOT_Tav4_1!C1,5,4)="0331","1°", IF(MID(TOT_Tav4_1!C1,5,4)="0630","2°", IF(MID(TOT_Tav4_1!C1,5,4)="0930","3°","4°")))&" trimestre "&MID(TOT_Tav4_1!C1,1,4) -> Premi lordi contabilizzati 1° trimestre 2026
E4: Importi in migliaia di EURO
C5: raccolta | D5: variazione - anno precedente | E5: incidenza
A6: =+TOT_Tav4_1!B2 -> Infortuni | C6: =+TOT_Tav4_1!C2 -> 1177744 | D6: =+TOT_Tav4_1!D2 -> 0.034347267 | E6: =+TOT_Tav4_1!E2 -> 0.085622973
A7: =+TOT_Tav4_1!B3 -> Malattia | C7: =+TOT_Tav4_1!C3 -> 1756090 | D7: =+TOT_Tav4_1!D3 -> 0.11612154 | E7: =+TOT_Tav4_1!E3 -> 0.12766921
A8: =+TOT_Tav4_1!B4 -> Corpi di Veicoli Terrestri | C8: =+TOT_Tav4_1!C4 -> 1512076 | D8: =+TOT_Tav4_1!D4 -> 0.070541 | E8: =+TOT_Tav4_1!E4 -> 0.10992919
A9: =+TOT_Tav4_1!B5 -> Corpi di veicoli Ferroviari | C9: =+TOT_Tav4_1!C5 -> 756 | D9: =+TOT_Tav4_1!D5 -> -0.41213064 | E9: =+TOT_Tav4_1!E5 -> 5.4961832e-05
A10: =+TOT_Tav4_1!B6 -> Corpi di Veicoli Aerei | C10: =+TOT_Tav4_1!C6 -> 7922 | D10: =+TOT_Tav4_1!D6 -> -0.13647264 | E10: =+TOT_Tav4_1!E6 -> 0.00057593602
A11: =+TOT_Tav4_1!B7 -> Corpi di Veicoli Marittimi,Lacustri e Fluviali | C11: =+TOT_Tav4_1!C7 -> 80546 | D11: =+TOT_Tav4_1!D7 -> -0.35032546 | E11: =+TOT_Tav4_1!E7 -> 0.0058557615
A12: =+TOT_Tav4_1!B8 -> Merci Trasportate | C12: =+TOT_Tav4_1!C8 -> 127335 | D12: =+TOT_Tav4_1!D8 -> -0.041195428 | E12: =+TOT_Tav4_1!E8 -> 0.009257361
A13: =+TOT_Tav4_1!B9 -> Incendio Ed Elementi Naturali | C13: =+TOT_Tav4_1!C9 -> 1161838 | D13: =+TOT_Tav4_1!D9 -> 0.067161561 | E13: =+TOT_Tav4_1!E9 -> 0.084466594
A14: =+TOT_Tav4_1!B10 -> Altri Danni Ai Beni | C14: =+TOT_Tav4_1!C10 -> 1128005 | D14: =+TOT_Tav4_1!D10 -> 0.010659363 | E14: =+TOT_Tav4_1!E10 -> 0.082006907
A15: =+TOT_Tav4_1!B11 -> R.C. Autoveicoli Terrestri | C15: =+TOT_Tav4_1!C11 -> 3877231 | D15: =+TOT_Tav4_1!D11 -> 0.036870768 | E15: =+TOT_Tav4_1!E11 -> 0.28187794
A16: =+TOT_Tav4_1!B12 -> R.C. Aeromobili | C16: =+TOT_Tav4_1!C12 -> 4837 | D16: =+TOT_Tav4_1!D12 -> 0.21869489 | E16: =+TOT_Tav4_1!E12 -> 0.00035165394
A17: =+TOT_Tav4_1!B13 -> R.C. Veicoli Marittimi, Lacustri E Fluviali | C17: =+TOT_Tav4_1!C13 -> 6240 | D17: =+TOT_Tav4_1!D13 -> -0.21341233 | E17: =+TOT_Tav4_1!E13 -> 0.00045365322
... A22: =+TOT_Tav4_1!B18 -> Tutela Legale | C22: =+TOT_Tav4_1!C18 -> 215121 | D22: =+TOT_Tav4_1!D18 -> 0.050303196 | E22: =+TOT_Tav4_1!E18 -> 0.015639477
A23: Assistenza | C23: =+TOT_Tav4_1!C19 -> 364983 | D23: =+TOT_Tav4_1!D19 -> 0.073236355 | E23: =+TOT_Tav4_1!E19 -> 0.026534569
A24: =+TOT_Tav4_1!B20 -> TOTALE | C24: =+TOT_Tav4_1!C20 -> 13755000 | D24: =+TOT_Tav4_1!D20 -> 0.037518494 | E24: =+TOT_Tav4_1!E20 -> 1
A26: (a) Il totale comprende quindi anche i premi raccolti in Italia da rappresentanze di imprese dello Spazio Economico Europeo (il cui controllo è esercitato dalle Autorità di Vigilanza dei Paesi di origine) che hanno partecipato alla rilevazione.
A29: ="Distribuzione per canale distributivo dei premi lordi "&IF(MID(TOT_Tav4_2!C1,5,4)="0331","1°", IF(MID(TOT_Tav4_2!C1,5,4)="0630","2°", IF(MID(TOT_Tav4_2!C1,5,4)="0930","3°","4°")))&" trimestre "&MID(TOT_Tav4_1!C1,1,4) &" (b)" -> Distribuzione per canale distributivo dei premi lordi 1° trimestre 2026 (b)
H30: Importi in migliaia di EURO
C31: Totale rami danni | F31: R.c.autoveicoli terrestri
C32: raccolta | D32: variazione - anno precedente | E32: incidenza | F32: raccolta | G32: variazione - anno precedente | H32: incidenza
A33: =+TOT_Tav4_2!B2 -> Agenzie con mandato | C33: =+TOT_Tav4_2!C2 -> 8986182 | D33: =+TOT_Tav4_2!D2 -> 0.039460167 | E33: =+TOT_Tav4_2!E2 -> 0.65330294 | F33: =+TOT_Tav4_2!F2 -> 3336322 | G33: =+TOT_Tav4_2!G2 -> 0.026879738 | H33: =+TOT_Tav4_2!H2 -> 0.8604909
A34: Consulenti finanziari | C34: =+TOT_Tav4_2!C3 -> 81238 | D34: =+TOT_Tav4_2!D3 -> 0.34089296 | E34: =+TOT_Tav4_2!E3 -> 0.0059060705 | F34: =+TOT_Tav4_2!F3 -> 212 | G34: =+TOT_Tav4_2!G3 -> 0 | H34: =+TOT_Tav4_2!H3 -> 5.4678197e-05
A35: =+TOT_Tav4_2!B4 -> Sportelli bancari e postali | C35: =+TOT_Tav4_2!C4 -> 1300903 | D35: =+TOT_Tav4_2!D4 -> 0.093952372 | E35: =+TOT_Tav4_2!E4 -> 0.094576736 | F35: =+TOT_Tav4_2!F4 -> 82533 | G35: =+TOT_Tav4_2!G4 -> 0.018473271 | H35: =+TOT_Tav4_2!H4 -> 0.021286583
A36: =+TOT_Tav4_2!B5 -> Brokers | C36: =+TOT_Tav4_2!C5 -> 2167918 | D36: =+TOT_Tav4_2!D5 -> -0.042197057 | E36: =+TOT_Tav4_2!E5 -> 0.15760945 | F36: =+TOT_Tav4_2!F5 -> 210201 | G36: =+TOT_Tav4_2!G5 -> 0.0022457445 | H36: =+TOT_Tav4_2!H5 -> 0.054214206
A37: =+TOT_Tav4_2!B6 -> Agenzie in economia e gerenze | C37: =+TOT_Tav4_2!C6 -> 734105 | D37: =+TOT_Tav4_2!D6 -> 0.24772247 | E37: =+TOT_Tav4_2!E6 -> 0.053370047 | F37: =+TOT_Tav4_2!F6 -> 58892 | G37: =+TOT_Tav4_2!G6 -> 1.7805477 | H37: =+TOT_Tav4_2!H6 -> 0.01518919
A38: =+TOT_Tav4_2!B7 &" (b)" -> Altre forme di vendita diretta (b) | C38: =+TOT_Tav4_2!C7 -> 484654 | D38: =+TOT_Tav4_2!D7 -> -0.051561442 | E38: =+TOT_Tav4_2!E7 -> 0.035234751 | F38: =+TOT_Tav4_2!F7 -> 189071 | G38: =+TOT_Tav4_2!G7 -> 0.059684344 | H38: =+TOT_Tav4_2!H7 -> 0.04876444
A39: =+TOT_Tav4_2!B8 -> TOTALE | C39: =+TOT_Tav4_2!C8 -> 13755000 | D39: =+TOT_Tav4_2!D8 -> 0.037518494 | E39: =+TOT_Tav4_2!E8 -> 1 | F39: =+TOT_Tav4_2!F8 -> 3877231 | G39: =+TOT_Tav4_2!G8 -> 0.036870768 | H39: =+TOT_Tav4_2!H8 -> 1
A41: (b) Il dato comprende anche i premi acquisiti attraverso il canale telefonico e il canale internet

Sheet VIG_Tav1
A1: POSIZ | B1: NOME | C1: 20260331_01 - Premi lordi contabilizzati - Annui | D1: 20260331_02 - Premi lordi contabilizzati - Unici | E1: 20260331_03 - Premi lordi contabilizzati - Ricorrenti | F1: 20260331_04 - Premi lordi contabilizzati - Totale | G1: 20260331_05 - Premi lordi contabilizzati - Di cui(**) di prima annualità | H1: varAnnua04 | I1: varAnnuaOmog04 | J1: incidenza04
A2: 1 | B2: RAMO I - ASSICURAZIONI INDIVIDUALI - popolari, adeguabili e indicizzate | C2: 0 | D2: 1 | E2: 249 | F2: 250 | G2: 0 | J2: 7.8831269e-06
A3: 2 | B3: RAMO I - ASSICURAZIONI INDIVIDUALI - rivalutabili | C3: 390447 | D3: 15618229 | E3: 1475352 | F3: 17484028 | G3: 226970 | H3: -0.04929447 | I3: -0.04929447 | J3: 0.55131525
A4: 3 | B4: RAMO I - ASSICURAZIONI INDIVIDUALI - rivalutabili - di cui: polizze in valuta | C4: 431 | D4: 3109 | E4: 2824 | F4: 6364 | G4: 58 | H4: 0.075363298 | I4: 0.075363298 | J4: 0.00020067288
A5: 4 | B5: RAMO I - ASSICURAZIONI INDIVIDUALI - rivalutabili - di cui: contratti ex art. 13, comma 1, lett. b) d.lgs. 252/05 | C5: 1769 | D5: 0 | E5: 694536 | F5: 696305 | G5: 64401 | H5: -0.074089588 | I5: -0.074089588 | J5: 0.021956243
A6: 5 | B6: RAMO I - ASSICURAZIONI INDIVIDUALI - temporanee di puro rischio | C6: 237101 | D6: 166836 | E6: 20 | F6: 403957 | G6: 42685 | H6: 0.085634505 | I6: 0.085634505 | J6: 0.012737777
A7: 6 | B7: RAMO I - ASSICURAZIONI INDIVIDUALI - altre | C7: 5966 | D7: 81343 | E7: 713 | F7: 88022 | G7: 482 | H7: 1.0240061 | I7: 1.0240061 | J7: 0.0027755544
A8: 7 | B8: RAMO I - ASSICURAZIONI INDIVIDUALI - TOTALE INDIVIDUALI | C8: 633514 | D8: 15866409 | E8: 1476334 | F8: 17976257 | G8: 270137 | H8: -0.044129521 | I8: -0.044129521 | J8: 0.56683646
A9: 8 | B9: RAMO I - ASSICURAZIONI COLLETTIVE - T.F.R. di legge | C9: 583 | D9: 4059 | E9: 1620 | F9: 6262 | G9: 608 | H9: -0.2000511 | I9: -0.2000511 | J9: 0.00019745656
A10: 9 | B10: RAMO I - ASSICURAZIONI COLLETTIVE - tempor. di gruppo e altre di rischio | C10: 134671 | D10: 244749 | E10: 3197 | F10: 382617 | G10: 48244 | H10: 0.074960105 | I10: 0.074960105 | J10: 0.012064873
A11: 10 | B11: RAMO I - ASSICURAZIONI COLLETTIVE - previdenziali | C11: 283433 | D11: 230844 | E11: 66681 | F11: 580958 | G11: 17142 | H11: -0.049307057 | I11: -0.049307057 | J11: 0.018319063
A12: 11 | B12: RAMO I - TOTALE COLLETTIVE | C12: 418687 | D12: 479652 | E12: 71498 | F12: 969837 | G12: 65994 | H12: -0.0051453912 | I12: -0.0051453912 | J12: 0.030581393
A13: 12 | B13: TOTALE RAMO I | C13: 1052201 | D13: 16346061 | E13: 1547832 | F13: 18946094 | G13: 336131 | H13: -0.042208295 | I13: -0.042208295 | J13: 0.59741785
A14: 13 | B14: TOTALE RAMO II | C14: 0 | D14: 0 | E14: 0 | F14: 0 | G14: 0 | J14: 0
A15: 14 | B15: RAMO III - ASSICURAZIONI INDIVIDUALI - connesse con fondi interni | C15: 15703 | D15: 4359028 | E15: 946702 | F15: 5321433 | G15: 217092 | H15: 0.099568226 | I15: 0.099568226 | J15: 0.16779813
A16: 15 | B16: RAMO III - ASSICURAZIONI INDIVIDUALI - connesse con fondi interni - di cui: contratti ex art. 13, comma 1, lett. b) d.lgs. 252/05 | C16: 0 | D16: 0 | E16: 354819 | F16: 354819 | G16: 63095 | H16: 0.10600634 | I16: 0.10600634 | J16: 0.011188333
A17: 16 | B17: RAMO III - ASSICURAZIONI INDIVIDUALI - connesse con quote di OICR | C17: 1017 | D17: 5007426 | E17: 603462 | F17: 5611905 | G17: 180193 | H17: 0.056436939 | I17: 0.056436939 | J17: 0.17695744
A18: 17 | B18: RAMO III - ASSICURAZIONI INDIVIDUALI - connesse con quote di OICR - di cui: contratti ex art. 13, comma 1, lett. b) d.lgs. 252/05 | C18: 0 | D18: 0 | E18: 310375 | F18: 310375 | G18: 117802 | H18: 0.46529096 | I18: 0.46529096 | J18: 0.0097869021
A19: 18 | B19: RAMO III - ASSICURAZIONI INDIVIDUALI - connesse con indice azionario | C19: 0 | D19: 0 | E19: 0 | F19: 0 | G19: 0 | J19: 0
A20: 19 | B20: RAMO III - ASSICURAZIONI INDIVIDUALI - connesse con altro valore di riferimento | C20: 0 | D20: 0 | E20: 0 | F20: 0 | G20: 0 | J20: 0
A21: 20 | B21: RAMO III - ASSICURAZIONI INDIVIDUALI - TOTALE INDIVIDUALI | C21: 16720 | D21: 9366454 | E21: 1550164 | F21: 10933338 | G21: 397285 | H21: 0.076998745 | I21: 0.076998745 | J21: 0.34475556
A22: 21 | B22: RAMO III - ASSICURAZIONI COLLETTIVE | C22: 8239 | D22: 2808 | E22: 0 | F22: 11047 | G22: 507 | H22: 0.70189493 | I22: 0.70189493 | J22: 0.00034833961
A23: 22 | B23: TOTALE RAMO III | C23: 24959 | D23: 9369262 | E23: 1550164 | F23: 10944385 | G23: 397792 | H23: 0.077398049 | I23: 0.077398049 | J23: 0.3451039
A24: 23 | B24: TOTALE RAMO IV | C24: 80795 | D24: 16609 | E24: 1383 | F24: 98787 | G24: 19193 | H24: 0.16261033 | I24: 0.16261033 | J24: 0.0031150018
A25: 24 | B25: RAMO V - OPER.DI CAPITALIZZAZIONE INDIVIDUALI | C25: 15 | D25: 218308 | E25: 33508 | F25: 251831 | G25: 465 | H25: -0.33071553 | I25: -0.33071553 | J25: 0.0079408629
A26: 25 | B26: RAMO V - OPER.DI CAPITALIZZAZIONE INDIVIDUALI - di cui: contratti ex art. 41 d.lgs. 209/05 | C26: 0 | D26: 103 | E26: 56 | F26: 159 | G26: 0 | H26: -0.76090226 | I26: -0.76090226 | J26: 5.0136687e-06
A27: 26 | B27: RAMO V - OPER.DI CAPITALIZZAZIONE INDIVIDUALI - di cui: connessi con fondi interni | C27: 0 | D27: 103 | E27: 56 | F27: 159 | G27: 0 | H27: -0.080924855 | I27: -0.080924855 | J27: 5.0136687e-06
A28: 27 | B28: RAMO V - OPER.DI CAPITALIZZAZIONE INDIVIDUALI - di cui: connessi con quote di OICR | C28: 0 | D28: 0 | E28: 0 | F28: 0 | G28: 0 | J28: 0
A29: 28 | B29: RAMO V - OPER.DI CAPITALIZZAZIONE INDIVIDUALI - di cui: connessi con indice azionario | C29: 0 | D29: 0 | E29: 0 | F29: 0 | G29: 0 | J29: 0
A30: 29 | B30: RAMO V - OPER.DI CAPITALIZZAZIONE INDIVIDUALI - di cui: connessi con altro valore di riferimento | C30: 0 | D30: 0 | E30: 0 | F30: 0 | G30: 0 | H30: -1 | I30: -1 | J30: 0
A31: 30 | B31: RAMO V - OPER.DI CAPITALIZZAZIONE COLLETTIVE | C31: 695 | D31: 233501 | E31: 10844 | F31: 245040 | G31: 104 | H31: 0.39557135 | I31: 0.39557135 | J31: 0.0077267257
A32: 31 | B32: RAMO V - OPER.DI CAPITALIZZAZIONE COLLETTIVE - di cui: T.F.R. di legge | C32: 18 | D32: 30185 | E32: 821 | F32: 31024 | G32: 87 | H32: 0.53896523 | I32: 0.53896523 | J32: 0.00097826452
A33: 32 | B33: TOTALE RAMO V | C33: 710 | D33: 451809 | E33: 44352 | F33: 496871 | G33: 569 | H33: -0.099631605 | I33: -0.099631605 | J33: 0.015667589
A34: 33 | B34: TOTALE RAMO VI | C34: 534 | D34: 938553 | E34: 206175 | F34: 1145262 | G34: 5193 | H34: -0.19554751 | I34: -0.19554751 | J34: 0.036112983
A35: 34 | B35: ASSICURAZIONI COMPLEMENTARI | C35: 16340 | D35: 10333 | E35: 55232 | F35: 81905 | G35: 10797 | H35: -0.19440346 | I35: -0.19440346 | J35: 0.00258267
A36: 35 | B36: ASSICURAZIONI COMPLEMENTARI - di cui: ramo I | C36: 16340 | D36: 6024 | E36: 49860 | F36: 72224 | G36: 8436 | H36: -0.18568545 | I36: -0.18568545 | J36: 0.0022774038
A37: 36 | B37: ASSICURAZIONI COMPLEMENTARI - di cui: ramo III | C37: 0 | D37: 4309 | E37: 5370 | F37: 9679 | G37: 2360 | H37: -0.25402697 | I37: -0.25402697 | J37: 0.00030520314
A38: 37 | B38: ASSICURAZIONI COMPLEMENTARI - di cui: ramo V | C38: 0 | D38: 0 | E38: 0 | F38: 0 | G38: 0 | J38: 0
A39: 38 | B39: ASSICURAZIONI COMPLEMENTARI - di cui: ramo VI | C39: 0 | D39: 0 | E39: 2 | F39: 2 | G39: 1 | H39: 0 | I39: 0 | J39: 6.3065015e-08
A40: 39 | B40: TOTALE | C40: 1175539 | D40: 27132627 | E40: 3405138 | F40: 31713304 | G40: 769675 | H40: -0.012087444 | I40: -0.012087444 | J40: 1

Sheet VIG_Tav2
A1: POSIZ | B1: NOME | C1: 20260331_01 - Agenzie con mandato | D1: varAnnua01 | E1: 20260331_02 - Promotori finanziari | F1: varAnnua02 | G1: 20260331_03 - Sportelli bancari e postali | H1: varAnnua03 | I1: 20260331_04 - Brokers | J1: varAnnua04 | K1: 20260331_05 - Agenzie in economia e gerenze | L1: varAnnua05 | M1: 20260331_06 - Altre forme di vendita diretta | N1: varAnnua06 | O1: 20260331_07 - Totale | P1: varAnnua07 | Q1: incidenza07
A2: 1 | B2: SETTORE INDIVIDUALI - RAMO I | C2: 2526421 | D2: 0.10216011 | E2: 1684058 | F2: 0.012304121 | G2: 12220971 | H2: -0.068235216 | I2: 93028 | J2: -0.35508738 | K2: 1399291 | L2: -0.064924451 | M2: 52487 | N2: -0.43980404 | O2: 17976256 | P2: -0.044129574 | Q2: 0.56830417
A3: 2 | B3: SETTORE INDIVIDUALI - RAMO I - di cui contratti ex art. 13, comma 1, lett. b) d.lgs. 252/05 | C3: 217302 | D3: -0.023870701 | E3: 12257 | F3: -0.15322971 | G3: 254174 | H3: -0.050164799 | I3: 2193 | J3: -0.087010824 | K3: 200772 | L3: 0.018697327 | M3: 9607 | N3: -0.79920157 | O3: 696305 | P3: -0.074089588 | Q3: 0.022013095
A4: 3 | B4: SETTORE INDIVIDUALI - RAMO II | C4: 0 | E4: 0 | G4: 0 | I4: 0 | K4: 0 | M4: 0 | O4: 0 | Q4: 0
A5: 4 | B5: SETTORE INDIVIDUALI - RAMO III | C5: 778980 | D5: -0.179952 | E5: 3108491 | F5: -0.051575119 | G5: 6597499 | H5: 0.21927739 | I5: 24736 | J5: -0.25541073 | K5: 420198 | L5: -0.10996308 | M5: 3434 | N5: -0.56515132 | O5: 10933338 | P5: 0.076998745 | Q5: 0.34564826
A6: 5 | B6: SETTORE INDIVIDUALI - RAMO III - di cui contratti ex art. 13, comma 1, lett. b) d.lgs. 252/05 | C6: 146075 | D6: 0.15320244 | E6: 373236 | F6: 0.3309038 | G6: 35079 | H6: -0.0007690993 | I6: 4837 | J6: 0.53312203 | K6: 104524 | L6: 0.2730683 | M6: 1443 | N6: -0.72018615 | O6: 665194 | P6: 0.24888806 | Q6: 0.021029547
A7: 6 | B7: SETTORE INDIVIDUALI - RAMO IV | C7: 60507 | D7: 0.13696494 | E7: 296 | F7: 0.29257642 | G7: 9394 | H7: 0.029705141 | I7: 19 | J7: -0.05 | K7: 11658 | L7: 0.19753467 | M7: 1 | O7: 81875 | P7: 0.13204286 | Q7: 0.0025884091
A8: 7 | B8: SETTORE INDIVIDUALI - RAMO V | C8: 17984 | D8: -0.87142071 | E8: 198 | F8: 2.1935484 | G8: 110542 | H8: 4.6854395 | I8: 1687 | J8: 25.359375 | K8: 120118 | L8: -0.41400708 | M8: 1301 | N8: -0.89022023 | O8: 251830 | P8: -0.33071818 | Q8: 0.007961393
A9: 8 | B9: SETTORE INDIVIDUALI - RAMO V - di cui contratti ex art. 41 d.lgs. 209/05 | C9: 159 | D9: -0.080924855 | E9: 0 | G9: 0 | H9: -1 | I9: 0 | K9: 0 | L9: -1 | M9: 0 | O9: 159 | P9: -0.76090226 | Q9: 5.0266509e-06
A10: 9 | B10: SETTORE INDIVIDUALI - RAMO VI | C10: 105740 | D10: 0.1369159 | E10: 106124 | F10: 0.28672584 | G10: 201210 | H10: 0.012499623 | I10: 1542 | J10: 0.27332783 | K10: 12624 | L10: 0.075023418 | M10: 778 | N10: -0.97446501 | O10: 428018 | P10: 0.024873692 | Q10: 0.013531428
A11: 10 | B11: TOTALE INDIVIDUALI | C11: 3489632 | D11: -0.010947051 | E11: 4899167 | F11: -0.024825205 | G11: 19139616 | H11: 0.020549665 | I11: 121012 | J11: -0.3230666 | K11: 1963889 | L11: -0.1052979 | M11: 58001 | N11: -0.59696338 | O11: 29671317 | P11: -0.005121469 | Q11: 0.93803366
A12: 11 | B12: TOTALE INDIVIDUALI - di cui : premi annui | C12: 331809 | D12: 0.0043010037 | E12: 18448 | F12: 0.0029357399 | G12: 128129 | H12: 0.04478257 | I12: 6042 | J12: 0.076237976 | K12: 236725 | L12: -0.13377341 | M12: 4583 | N12: 0.12549116 | O12: 725736 | P12: -0.037980456 | Q12: 0.022943532
A13: 12 | B13: TOTALE INDIVIDUALI - di cui : premi unici | C13: 2385608 | D13: -0.031260583 | E13: 4327149 | F13: -0.043613439 | G13: 17908612 | H13: 0.021594566 | I13: 106309 | J13: -0.36095482 | K13: 1117777 | L13: -0.15442661 | M13: 30441 | N13: -0.59481152 | O13: 25875896 | P13: -0.007846046 | Q13: 0.81804463
A14: 13 | B14: TOTALE INDIVIDUALI - di cui : premi ricorrenti | C14: 772215 | D14: 0.050235421 | E14: 553570 | F14: 0.15083729 | G14: 1102875 | H14: 0.0012228468 | I14: 8661 | J14: 0.27461369 | K14: 609387 | L14: 0.015948091 | M14: 22977 | N14: -0.6449235 | O14: 3069685 | P14: 0.026943473 | Q14: 0.097045502
A15: 14 | B15: SETTORE COLLETTIVE - RAMO I | C15: 172874 | D15: -0.022692325 | E15: 3136 | F15: 0.54864198 | G15: 149590 | H15: -0.045062528 | I15: 123801 | J15: 0.16758148 | K15: 496607 | L15: -0.028527553 | M15: 23830 | N15: 0.079795188 | O15: 969838 | P15: -0.0051443654 | Q15: 0.03066061
A16: 15 | B16: SETTORE COLLETTIVE - RAMO II | C16: 0 | E16: 0 | G16: 0 | I16: 0 | K16: 0 | M16: 0 | O16: 0 | Q16: 0
A17: 16 | B17: SETTORE COLLETTIVE - RAMO III | C17: 0 | E17: 0 | G17: 0 | I17: 0 | K17: 10943 | L17: 0.91110723 | M17: 104 | N17: -0.86405229 | O17: 11047 | P17: 0.70189493 | Q17: 0.00034924159
A18: 17 | B18: SETTORE COLLETTIVE - RAMO IV | C18: 6234 | D18: 0.1332485 | E18: 6 | G18: 1202 | H18: 25.130435 | I18: 4080 | J18: 0.044279498 | K18: 5388 | L18: 0.68955786 | M18: 2 | N18: 0 | O18: 16912 | P18: 0.33744563 | Q18: 0.00053465862
A19: 18 | B19: SETTORE COLLETTIVE - RAMO V | C19: 41758 | D19: 0.068909026 | E19: 9308 | F19: 50.425414 | G19: 1041 | H19: -0.082010582 | I19: 11701 | J19: -0.6072831 | K19: 171738 | L19: 0.76648838 | M19: 9495 | N19: 0.15962384 | O19: 245041 | P19: 0.39557705 | Q19: 0.0077467645
A20: 19 | B20: SETTORE COLLETTIVE - RAMO VI | C20: 69654 | D20: 0.17071449 | E20: 29422 | F20: 0.36074369 | G20: 30816 | H20: 0.024161654 | I20: 8352 | J20: -0.14827657 | K20: 501402 | L20: -0.43345047 | M20: 77598 | O20: 717244 | P20: -0.28705081 | Q20: 0.022675064
A21: 20 | B21: TOTALE COLLETTIVE | C21: 290520 | D21: 0.034055639 | E21: 41872 | F21: 0.75726037 | G21: 182649 | H21: -0.028038825 | I21: 147934 | J21: -0.010739601 | K21: 1186078 | L21: -0.21051031 | M21: 111029 | N21: 2.57881 | O21: 1960082 | P21: -0.099060166 | Q21: 0.061966339
A22: 21 | B22: T O T A L E | C22: 3780152 | D22: -0.0076278323 | E22: 4941039 | F22: -0.021133329 | G22: 19322265 | H22: 0.020067636 | I22: 268946 | J22: -0.18080443 | K22: 3149967 | L22: -0.14804854 | M22: 169030 | N22: -0.033749871 | O22: 31631399 | P22: -0.011508186 | Q22: 1

Sheet VIG_Tav3
A1: POSIZ | B1: NOME | C1: 20260331_01 - Assicurazioni di capitali - Numero polizze/teste | D1: varAnnua01 | E1: 20260331_02 - Assicurazioni di capitali - Somme assicurate | F1: varAnnua02 | G1: 20260331_03 - Assicurazioni di rendite - Numero polizze/teste | H1: varAnnua03 | I1: 20260331_04 - Assicurazioni di tendite - Somme assicurate | J1: varAnnua04 | K1: 20260331_05 - Premi di tariffa - Annui | L1: 20260331_06 - Premi di tariffa - Unici | M1: 20260331_07 - Premi di tariffa - Ricorrenti | N1: 20260331_08 - Premi di tariffa - Totale | O1: varAnnua08 | P1: incidenza08
A2: 1 | B2: RAMO I - ASSICURAZIONI INDIVIDUALI - rivalutabili | C2: 301866 | D2: -0.081415978 | E2: 13463413 | F2: -0.020909696 | G2: 31490 | H2: -0.19304 | I2: 24944 | J2: -0.62019033 | K2: 19681 | L2: 13355944 | M2: 227301 | N2: 13602926 | O2: -0.024275187 | P2: 0.59372056
A3: 2 | B3: RAMO I - ASSICURAZIONI INDIVIDUALI - rivalutabili - di cui: Polizze in valuta | C3: 102 | D3: -0.40697674 | E3: 3353 | F3: 0.42257106 | G3: 0 | I3: 0 | J3: -1 | K3: 0 | L3: 3364 | M3: 0 | N3: 3364 | O3: 0.41761483 | P3: 0.00014682694
A4: 3 | B4: RAMO I - ASSICURAZIONI INDIVIDUALI - rivalutabili - di cui: contratti ex art. 13, comma 1, lett. b) d.lgs. 252/05 | C4: 0 | E4: 0 | G4: 31393 | H4: -0.1938524 | I4: 19145 | J4: -0.7015728 | K4: 0 | L4: 0 | M4: 112111 | N4: 112111 | O4: -0.10157389 | P4: 0.0048932565
A5: 4 | B5: RAMO I - ASSICURAZIONI INDIVIDUALI - temporanee di puro rischio | C5: 182885 | D5: -0.0057193496 | E5: 17193139 | F5: 0.034603111 | G5: 5 | H5: 4 | I5: 5 | J5: 4 | K5: 41960 | L5: 172762 | M5: 0 | N5: 214722 | O5: 0.05943999 | P5: 0.009371871
A6: 5 | B6: RAMO I - ASSICURAZIONI INDIVIDUALI - altre | C6: 3194 | D6: 2.6295455 | E6: 259417 | F6: 2.1545047 | G6: 0 | I6: 0 | K6: 467 | L6: 103423 | M6: 0 | N6: 103890 | O6: 1.3016594 | P6: 0.0045344384
A7: 6 | B7: RAMO I - ASSICURAZIONI INDIVIDUALI - TOTALE INDIVIDUALI | C7: 487945 | D7: -0.049651565 | E7: 30915969 | F7: 0.015260114 | G7: 31495 | H7: -0.19293255 | I7: 24949 | J7: -0.62011998 | K7: 62108 | L7: 13632129 | M7: 227301 | N7: 13921538 | O7: -0.018861502 | P7: 0.60762687
A8: 7 | B8: RAMO I - ASSICURAZIONI INDIVIDUALI - TOTALE INDIVIDUALI - di cui: deriv. da trasformazione | C8: 6831 | D8: 3.7110345 | E8: 408954 | F8: 1.4981155 | G8: 0 | I8: 0 | K8: 1033 | L8: 246563 | M8: 5 | N8: 247601 | O8: 5.0455367 | P8: 0.010806925
A9: 8 | B9: RAMO I - ASSICURAZIONI INDIVIDUALI - TOTALE INDIVIDUALI - di cui: deriv. da trasferimenti di posiz. previd. a contratti ex art. 13, co. 1, lett. b), d.lgs. 252/05 | C9: 0 | E9: 0 | G9: 293 | H9: 0.11406844 | I9: 5588 | J9: 5.2575588 | K9: 0 | L9: 19205 | M9: 0 | N9: 19205 | O9: 0.061694953 | P9: 0.00083823167
A10: 9 | B10: RAMO I - ASSICURAZIONI COLLETTIVE - T.F.R. di legge | C10: 1098 | D10: 1.8298969 | E10: 2363 | F10: 1.1135957 | G10: 0 | I10: 0 | K10: 0 | L10: 2403 | M10: 0 | N10: 2403 | O10: 0.91321656 | P10: 0.00010488262
A11: 10 | B11: RAMO I - ASSICURAZIONI COLLETTIVE - tempor. di gruppo e altre di rischio | C11: 586741 | D11: -0.02826078 | E11: 38228945 | F11: -0.08156471 | G11: 18801 | H11: 1.6196182 | I11: 90685 | J11: 0.86200029 | K11: 33321 | L11: 183939 | M11: 0 | N11: 217260 | O11: 0.061586272 | P11: 0.0094826459
A12: 11 | B12: RAMO I - ASSICURAZIONI COLLETTIVE - previdenziali | C12: 18684 | D12: -0.43097305 | E12: 184557 | F12: -0.054838297 | G12: 10118 | H12: -0.080516176 | I12: 385 | J12: -0.17025862 | K12: 48689 | L12: 33221 | M12: 0 | N12: 81910 | O12: -0.17804783 | P12: 0.0035750876
A13: 12 | B13: RAMO I - ASSICURAZIONI COLLETTIVE - TOTALE COLLETTIVE | C13: 606523 | D13: -0.047886435 | E13: 38415865 | F13: -0.08140797 | G13: 28919 | H13: 0.59061658 | I13: 91070 | J13: 0.85225863 | K13: 82010 | L13: 219563 | M13: 0 | N13: 301573 | O13: -0.013064323 | P13: 0.013162616
A14: 13 | B14: TOTALE RAMO I | C14: 1094468 | D14: -0.048674189 | E14: 69331834 | F14: -0.040677385 | G14: 60414 | H14: 0.056096495 | I14: 116019 | J14: 0.010240067 | K14: 144118 | L14: 13851692 | M14: 227301 | N14: 14223111 | O14: -0.018739291 | P14: 0.62078949
A15: 14 | B15: TOTALE RAMO II | C15: 0 | E15: 0 | G15: 0 | I15: 0 | K15: 0 | L15: 0 | M15: 0 | N15: 0 | P15: 0
A16: 15 | B16: RAMO III - ASSICURAZIONI INDIVIDUALI - connesse con fondi interni | C16: 100329 | D16: 0.17925903 | E16: 3561635 | F16: 0.32647965 | G16: 34161 | H16: -0.064492277 | I16: 21208 | J16: 0.0032166509 | K16: 5248 | L16: 3409816 | M16: 276009 | N16: 3691073 | O16: 0.32840407 | P16: 0.16110254
A17: 16 | B17: RAMO III - ASSICURAZIONI INDIVIDUALI - connesse con fondi interni - di cui: art. 13, comma 1, lett. b) d.lgs. 252/05 | C17: 0 | E17: 0 | G17: 33491 | H17: -0.06904795 | I17: 16604 | J17: -0.20740847 | K17: 0 | L17: 0 | M17: 69894 | N17: 69894 | O17: 0.041980977 | P17: 0.0030506308
A18: 17 | B18: RAMO III - ASSICURAZIONI INDIVIDUALI - connesse con quote di OICR | C18: 59254 | D18: 0.0064715574 | E18: 4249738 | F18: -0.074489664 | G18: 17536 | H18: 1.1003713 | I18: 43249 | J18: 0.51718936 | K18: 289 | L18: 4303520 | M18: 115837 | N18: 4419646 | O18: -0.059317346 | P18: 0.19290223
A19: 18 | B19: RAMO III - ASSICURAZIONI INDIVIDUALI - connesse con quote di OICR - di cui: art. 13, comma 1, lett. b) d.lgs. 252/05 | C19: 0 | E19: 0 | G19: 17536 | H19: 1.1003713 | I19: 43249 | J19: 0.51718936 | K19: 0 | L19: 0 | M19: 43489 | N19: 43489 | O19: 0.51900105 | P19: 0.0018981441
A20: 19 | B20: RAMO III - ASSICURAZIONI INDIVIDUALI - connesse con indice azionario | C20: 0 | E20: 0 | G20: 0 | I20: 0 | K20: 0 | L20: 0 | M20: 0 | N20: 0 | P20: 0
A21: 20 | B21: RAMO III - ASSICURAZIONI INDIVIDUALI - connesse con altro valore di riferimento | C21: 0 | E21: 0 | G21: 0 | I21: 0 | K21: 0 | L21: 0 | M21: 0 | N21: 0 | P21: 0
A22: 21 | B22: RAMO III - TOTALE INDIVIDUALI | C22: 159583 | D22: 0.10859251 | E22: 7811373 | F22: 0.073461763 | G22: 51697 | H22: 0.15227906 | I22: 64457 | J22: 0.29833219 | K22: 5537 | L22: 7713336 | M22: 391846 | N22: 8110719 | O22: 0.084767971 | P22: 0.35400477
A23: 22 | B23: RAMO III - TOTALE INDIVIDUALI - ASSICURAZIONI INDIVIDUALI - di cui: deriv. da trasferimenti di posiz. previd. a contratti ex art. 9-ter d.lgs. 124/93 | C23: 0 | E23: 0 | G23: 2385 | H23: 0.63692519 | I23: 35881 | J23: 0.55456869 | K23: 0 | L23: 50302 | M23: 0 | N23: 50302 | O23: 0.21867429 | P23: 0.0021955079
A24: 23 | B24: RAMO III - ASSICURAZIONI COLLETTIVE | C24: 226 | D24: 0.93162393 | E24: 142 | F24: -0.77531646 | G24: 0 | H24: -1 | I24: 0 | J24: -1 | K24: 142 | L24: 104 | M24: 0 | N24: 246 | O24: -0.70853081 | P24: 1.0737047e-05
A25: 24 | B25: TOTALE RAMO III | C25: 159809 | D25: 0.1092609 | E25: 7811515 | F25: 0.073388052 | G25: 51697 | H25: 0.14874564 | I25: 64457 | J25: 0.29804459 | K25: 5679 | L25: 7713440 | M25: 391846 | N25: 8110965 | O25: 0.084678433 | P25: 0.35401551
A26: 25 | B26: TOTALE RAMO IV | C26: 46408 | D26: 32.315147 | E26: 224786 | F26: 4.562633 | G26: 1068708 | H26: 1.7279034 | I26: 15636773 | J26: 3.032237 | K26: 23962 | L26: 9040 | M26: 293 | N26: 33295 | O26: 0.19710207 | P26: 0.0014532113
A27: 26 | B27: RAMO V - OPER.DI CAPITALIZZAZIONE INDIVIDUALI | C27: 419 | D27: 2.4344262 | E27: 96813 | F27: -0.33309683 | G27: 0 | I27: 0 | K27: 0 | L27: 133239 | M27: 0 | N27: 133239 | O27: -0.080780694 | P27: 0.0058154205
A28: 27 | B28: RAMO V - OPER.DI CAPITALIZZAZIONE INDIVIDUALI - di cui: contratti ex art. 41 d.lgs. 209/05 | C28: 0 | D28: -1 | E28: 0 | F28: -1 | G28: 0 | I28: 0 | K28: 0 | L28: 0 | M28: 0 | N28: 0 | O28: -1 | P28: 0
A29: 28 | B29: RAMO V - OPER.DI CAPITALIZZAZIONE INDIVIDUALI - di cui: connessi con fondi interni | C29: 0 | E29: 0 | G29: 0 | I29: 0 | K29: 0 | L29: 0 | M29: 0 | N29: 0 | P29: 0
A30: 29 | B30: RAMO V - OPER.DI CAPITALIZZAZIONE INDIVIDUALI - di cui: connessi con quote di OICR | C30: 0 | E30: 0 | G30: 0 | I30: 0 | K30: 0 | L30: 0 | M30: 0 | N30: 0 | P30: 0
A31: 30 | B31: RAMO V - OPER.DI CAPITALIZZAZIONE INDIVIDUALI - di cui: connessi con indice azionario | C31: 0 | E31: 0 | G31: 0 | I31: 0 | K31: 0 | L31: 0 | M31: 0 | N31: 0 | P31: 0
A32: 31 | B32: RAMO V - OPER.DI CAPITALIZZAZIONE INDIVIDUALI - di cui: connessi con altro valore di riferimento | C32: 0 | D32: -1 | E32: 0 | F32: -1 | G32: 0 | I32: 0 | K32: 0 | L32: 0 | M32: 0 | N32: 0 | O32: -1 | P32: 0
A33: 32 | B33: RAMO V - OPER.DI CAPITALIZZAZIONE COLLETTIVE | C33: 1145 | D33: 0.043755697 | E33: 285750 | F33: 0.33489986 | G33: 0 | I33: 0 | K33: 0 | L33: 176600 | M33: 0 | N33: 176600 | O33: 0.84621818 | P33: 0.0077079778
A34: 33 | B34: RAMO V - OPER.DI CAPITALIZZAZIONE COLLETTIVE - di cui: T.F.R. di legge | C34: 800 | D34: 0.070950469 | E34: 2572 | F34: 1.1505017 | G34: 0 | I34: 0 | K34: 0 | L34: 2631 | M34: 0 | N34: 2631 | O34: 1.1425081 | P34: 0.00011483403
A35: 34 | B35: TOTALE RAMO V | C35: 1564 | D35: 0.28301887 | E35: 382563 | F35: 0.06495578 | G35: 0 | I35: 0 | K35: 0 | L35: 309839 | M35: 0 | N35: 309839 | O35: 0.28776034 | P35: 0.013523398
A36: 35 | B36: TOTALE RAMO VI | C36: 41796 | D36: -0.62459919 | E36: 181199 | F36: -0.67729819 | G36: 19287 | H36: 0.18441415 | I36: 14935 | J36: -0.051625603 | K36: 144 | L36: 204731 | M36: 7822 | N36: 212697 | O36: -0.64329342 | P36: 0.0092834867
A37: 36 | B37: ASSICURAZIONI COMPLEMENTARI | C37: 45848 | D37: -0.34775867 | E37: 1084096 | F37: -0.44933548 | G37: 0 | I37: 0 | K37: 1659 | L37: 11253 | M37: 8508 | N37: 21420 | O37: -0.4950495 | P37: 0.00093490875
A38: 37 | B38: ASSICURAZIONI COMPLEMENTARI - di cui: ramo I | C38: 45841 | D38: -0.3471524 | E38: 1082734 | F38: -0.44822712 | G38: 0 | I38: 0 | K38: 1645 | L38: 7000 | M38: 6019 | N38: 14664 | O38: -0.5071587 | P38: 0.00064003277
A39: 38 | B39: ASSICURAZIONI COMPLEMENTARI - di cui: ramo III | C39: 4 | D39: -0.94366197 | E39: 905 | F39: -0.85422036 | G39: 0 | I39: 0 | K39: 14 | L39: 4253 | M39: 2488 | N39: 6755 | O39: -0.46668246 | P39: 0.00029483233
A40: 39 | B40: ASSICURAZIONI COMPLEMENTARI - di cui: ramo V | C40: 0 | D40: -1 | E40: 0 | F40: -1 | G40: 0 | I40: 0 | K40: 0 | L40: 0 | M40: 0 | N40: 0 | P40: 0
A41: 40 | B41: ASSICURAZIONI COMPLEMENTARI - di cui: ramo VI | C41: 3 | D41: 0 | E41: 457 | F41: 2.1958042 | G41: 0 | I41: 0 | K41: 0 | L41: 0 | M41: 1 | N41: 1 | P41: 4.3646533e-08
A42: 41 | B42: TOTALE | C42: 1344045 | D42: -0.045749931 | E42: 79015993 | F42: -0.041985879 | G42: 1200106 | H42: 1.3519454 | I42: 15832184 | J42: 2.9012939 | K42: 175562 | L42: 22099995 | M42: 635770 | N42: 22911327 | O42: 0.0013863437 | P42: 1
A43: 42 | B43: ASSICURAZIONI ED OPERAZIONI DI CAPITALIZZAZIONE COLLETTIVE - a tutto il trimestre: | C43: 1261 | D43: -0.094759512 | E43: 0 | G43: 0 | I43: 0 | K43: 0 | L43: 0 | M43: 0 | N43: 0 | P43: 0
A44: 43 | B44: ASSICURAZIONI ED OPERAZIONI DI CAPITALIZZAZIONE COLLETTIVE - 1° gennaio (valori complessivi): | C44: 112448 | D44: 0.091187858 | E44: 14189556 | F44: 0.41505359 | G44: 42201 | H44: 2.8427427 | I44: 1172960 | J44: 11.279346 | K44: 17282 | L44: 85062 | M44: 0 | N44: 102344 | O44: 0.30469258 | P44: 0.0044669608

Sheet VIG_Tav4_1
A1: POSIZ | B1: NOME | C1: 20260331_01 - PREMI | D1: varAnnua01 | E1: varAnnuaOmog01 | F1: incidenza01
A2: 1 | B2: Infortuni | C2: 976154 | D2: 0.028149581 | E2: 0.028149581 | F2: 0.086331135
A3: 2 | B3: Malattia | C3: 1620191 | D3: 0.11488192 | E3: 0.11488192 | F3: 0.14328982
A4: 3 | B4: Corpi di Veicoli Terrestri | C4: 1330829 | D4: 0.060048174 | E4: 0.060048174 | F4: 0.11769862
A5: 4 | B5: Corpi di veicoli Ferroviari | C5: 756 | D5: -0.41213064 | E5: -0.41213064 | F5: 6.6860698e-05
A6: 5 | B6: Corpi di Veicoli Aerei | C6: 6180 | D6: -0.11015119 | E6: -0.11015119 | F6: 0.00054655968
A7: 6 | B7: Corpi di Veicoli Marittimi,Lacustri e Fluviali | C7: 63753 | D7: -0.25454269 | E7: -0.25454269 | F7: 0.0056383202
A8: 7 | B8: Merci Trasportate | C8: 62337 | D8: -0.071426443 | E8: -0.071426443 | F8: 0.0055130891
A9: 8 | B9: Incendio Ed Elementi Naturali | C9: 1015674 | D9: 0.0624983 | E9: 0.0624983 | F9: 0.089826287
A10: 9 | B10: Altri Danni Ai Beni | C10: 932019 | D10: 0.0086916713 | E10: 0.0086916713 | F10: 0.082427832
A11: 10 | B11: R.C. Autoveicoli Terrestri | C11: 3380345 | D11: 0.033912541 | E11: 0.033912541 | F11: 0.29895797
A12: 11 | B12: R.C. Aeromobili | C12: 2324 | D12: 0.50615684 | E12: 0.50615684 | F12: 0.00020553474
A13: 12 | B13: R.C. Veicoli Marittimi, Lacustri E Fluviali | C13: 5546 | D13: 0.037023186 | E13: 0.037023186 | F13: 0.00049048867
... A20: 19 | B20: TOTALE | C20: 11307091 | D20: 0.044685612 | E20: 0.044685612 | F20: 1

Sheet VIG_Tav4_2
A1: POSIZ | B1: NOME | C1: 20260331_01 - Totale rami danni | D1: varAnnua01 | E1: incidenza01 | F1: 20260331_02 - di: R.C. Autoveicoli terrestri | G1: varAnnua02 | H1: incidenza02
A2: 1 | B2: Agenzie con mandato | C2: 7800084 | D2: 0.04007402 | E2: 0.68984003 | F2: 2877076 | G2: 0.019718286 | H2: 0.85111904
A3: 2 | B3: Promotori finanziari | C3: 56203 | D3: 0.13828861 | E3: 0.0049705977 | F3: 0 | H3: 0
A4: 3 | B4: Sportelli bancari e postali | C4: 1190818 | D4: 0.090159237 | E4: 0.10531604 | F4: 82484 | G4: 0.018497024 | H4: 0.02440106
A5: 4 | B5: Brokers | C5: 1176578 | D5: -0.041757544 | E5: 0.10405665 | F5: 175369 | G5: 0.017693825 | H5: 0.051879024
A6: 5 | B6: Agenzie in economia e gerenze | C6: 690554 | D6: 0.28390365 | E6: 0.061072649 | F6: 56520 | G6: 2.1095951 | H6: 0.016720187
A7: 6 | B7: Altre forme di vendita diretta | C7: 392854 | D7: -0.056723284 | E7: 0.034744038 | F7: 188896 | G7: 0.0699595 | H7: 0.055880687
A8: 7 | B8: TOTALE | C8: 11307091 | D8: 0.044685612 | E8: 1 | F8: 3380345 | G8: 0.033912541 | H8: 1

Sheet A - Tavola 1
A1: ASSICURAZIONI VITA: TOTALE IMPRESE VIGILATE IVASS
A2: Lavoro diretto
A3: ="Premi lordi contabilizzati a tutto il "&IF(MID(VIG_Tav1!C1,5,4)="0331","1°", IF(MID(VIG_Tav1!C1,5,4)="0630","2°", IF(MID(VIG_Tav1!C1,5,4)="0930","3°","4°")))&" trimestre "&MID(VIG_Tav1!C1,1,4) -> Premi lordi contabilizzati a tutto il 1° trimestre 2026
K4: Importi in migliaia di EURO
A5: CATEGORIE | D5: Premi e rate di premi
D6: Annui | E6: Unici | F6: Ricorrenti | G6: Di cui di prima annualità (a) | H6: Totale | I6: variazione - anno precedente | J6: variazione a perim. omogeneo - anno precedente | K6: incidenza
A8: RAMO I: | B8: ASSICURAZIONI INDIVIDUALI
B9: popolari, adeguabili e indicizzate | D9: =+VIG_Tav1!C2 -> 0 | E9: =+VIG_Tav1!D2 -> 1 | F9: =+VIG_Tav1!E2 -> 249 | G9: =+VIG_Tav1!G2 -> 0 | H9: =+VIG_Tav1!F2 -> 250 | I9: =+VIG_Tav1!H2 -> 0 | J9: =+VIG_Tav1!I2 -> 0 | K9: =+VIG_Tav1!J2 -> 7.8831269e-06
B10: rivalutabili | D10: =+VIG_Tav1!C3 -> 390447 | E10: =+VIG_Tav1!D3 -> 15618229 | F10: =+VIG_Tav1!E3 -> 1475352 | G10: =+VIG_Tav1!G3 -> 226970 | H10: =+VIG_Tav1!F3 -> 17484028 | I10: =+VIG_Tav1!H3 -> -0.04929447 | J10: =+VIG_Tav1!I3 -> -0.04929447 | K10: =+VIG_Tav1!J3 -> 0.55131525
B11: di cui: | C11: polizze in valuta | D11: =+VIG_Tav1!C4 -> 431 | E11: =+VIG_Tav1!D4 -> 3109 | F11: =+VIG_Tav1!E4 -> 2824 | G11: =+VIG_Tav1!G4 -> 58 | H11: =+VIG_Tav1!F4 -> 6364 | I11: =+VIG_Tav1!H4 -> 0.075363298 | J11: =+VIG_Tav1!I4 -> 0.075363298 | K11: =+VIG_Tav1!J4 -> 0.00020067288
C12: art. 13, co. 1, lett. b), d.lgs. 252/05 | D12: =+VIG_Tav1!C5 -> 1769 | E12: =+VIG_Tav1!D5 -> 0 | F12: =+VIG_Tav1!E5 -> 694536 | G12: =+VIG_Tav1!G5 -> 64401 | H12: =+VIG_Tav1!F5 -> 696305 | I12: =+VIG_Tav1!H5 -> -0.074089588 | J12: =+VIG_Tav1!I5 -> -0.074089588 | K12: =+VIG_Tav1!J5 -> 0.021956243
B13: temporanee di puro rischio | D13: =+VIG_Tav1!C6 -> 237101 | E13: =+VIG_Tav1!D6 -> 166836 | F13: =+VIG_Tav1!E6 -> 20 | G13: =+VIG_Tav1!G6 -> 42685 | H13: =+VIG_Tav1!F6 -> 403957 | I13: =+VIG_Tav1!H6 -> 0.085634505 | J13: =+VIG_Tav1!I6 -> 0.085634505 | K13: =+VIG_Tav1!J6 -> 0.012737777
B14: altre | D14: =+VIG_Tav1!C7 -> 5966 | E14: =+VIG_Tav1!D7 -> 81343 | F14: =+VIG_Tav1!E7 -> 713 | G14: =+VIG_Tav1!G7 -> 482 | H14: =+VIG_Tav1!F7 -> 88022 | I14: =+VIG_Tav1!H7 -> 1.0240061 | J14: =+VIG_Tav1!I7 -> 1.0240061 | K14: =+VIG_Tav1!J7 -> 0.0027755544
B15: TOTALE INDIVIDUALI | D15: =+VIG_Tav1!C8 -> 633514 | E15: =+VIG_Tav1!D8 -> 15866409 | F15: =+VIG_Tav1!E8 -> 1476334 | G15: =+VIG_Tav1!G8 -> 270137 | H15: =+VIG_Tav1!F8 -> 17976257 | I15: =+VIG_Tav1!H8 -> -0.044129521 | J15: =+VIG_Tav1!I8 -> -0.044129521 | K15: =+VIG_Tav1!J8 -> 0.56683646
B16: ASSICURAZIONI COLLETTIVE
B17: T.F.R. di legge | D17: =+VIG_Tav1!C9 -> 583 | E17: =+VIG_Tav1!D9 -> 4059 | F17: =+VIG_Tav1!E9 -> 1620 | G17: =+VIG_Tav1!G9 -> 608 | H17: =+VIG_Tav1!F9 -> 6262 | I17: =+VIG_Tav1!H9 -> -0.2000511 | J17: =+VIG_Tav1!I9 -> -0.2000511 | K17: =+VIG_Tav1!J9 -> 0.00019745656
B18: temporanee di gruppo e altre di rischio | D18: =+VIG_Tav1!C10 -> 134671 | E18: =+VIG_Tav1!D10 -> 244749 | F18: =+VIG_Tav1!E10 -> 3197 | G18: =+VIG_Tav1!G10 -> 48244 | H18: =+VIG_Tav1!F10 -> 382617 | I18: =+VIG_Tav1!H10 -> 0.074960105 | J18: =+VIG_Tav1!I10 -> 0.074960105 | K18: =+VIG_Tav1!J10 -> 0.012064873
B19: previdenziali | D19: =+VIG_Tav1!C11 -> 283433 | E19: =+VIG_Tav1!D11 -> 230844 | F19: =+VIG_Tav1!E11 -> 66681 | G19: =+VIG_Tav1!G11 -> 17142 | H19: =+VIG_Tav1!F11 -> 580958 | I19: =+VIG_Tav1!H11 -> -0.049307057 | J19: =+VIG_Tav1!I11 -> -0.049307057 | K19: =+VIG_Tav1!J11 -> 0.018319063
B20: TOTALE COLLETTIVE | D20: =+VIG_Tav1!C12 -> 418687 | E20: =+VIG_Tav1!D12 -> 479652 | F20: =+VIG_Tav1!E12 -> 71498 | G20: =+VIG_Tav1!G12 -> 65994 | H20: =+VIG_Tav1!F12 -> 969837 | I20: =+VIG_Tav1!H12 -> -0.0051453912 | J20: =+VIG_Tav1!I12 -> -0.0051453912 | K20: =+VIG_Tav1!J12 -> 0.030581393
A21: TOTALE RAMO I | D21: =+VIG_Tav1!C13 -> 1052201 | E21: =+VIG_Tav1!D13 -> 16346061 | F21: =+VIG_Tav1!E13 -> 1547832 | G21: =+VIG_Tav1!G13 -> 336131 | H21: =+VIG_Tav1!F13 -> 18946094 | I21: =+VIG_Tav1!H13 -> -0.042208295 | J21: =+VIG_Tav1!I13 -> -0.042208295 | K21: =+VIG_Tav1!J13 -> 0.59741785
A22: TOTALE RAMO II | D22: =+VIG_Tav1!C14 -> 0 | E22: =+VIG_Tav1!D14 -> 0 | F22: =+VIG_Tav1!E14 -> 0 | G22: =+VIG_Tav1!G14 -> 0 | H22: =+VIG_Tav1!F14 -> 0 | I22: - | J22: - | K22: -
A23: RAMO III: | B23: ASSICURAZIONI INDIVIDUALI
B24: connesse con fondi interni | D24: =+VIG_Tav1!C15 -> 15703 | E24: =+VIG_Tav1!D15 -> 4359028 | F24: =+VIG_Tav1!E15 -> 946702 | G24: =+VIG_Tav1!G15 -> 217092 | H24: =+VIG_Tav1!F15 -> 5321433 | I24: =+VIG_Tav1!H15 -> 0.099568226 | J24: =+VIG_Tav1!I15 -> 0.099568226 | K24: =+VIG_Tav1!J15 -> 0.16779813
B25: di cui: | C25: art. 13, co. 1, lett. b), d.lgs. 252/05 | D25: =+VIG_Tav1!C16 -> 0 | E25: =+VIG_Tav1!D16 -> 0 | F25: =+VIG_Tav1!E16 -> 354819 | G25: =+VIG_Tav1!G16 -> 63095 | H25: =+VIG_Tav1!F16 -> 354819 | I25: =+VIG_Tav1!H16 -> 0.10600634 | J25: =+VIG_Tav1!I16 -> 0.10600634 | K25: =+VIG_Tav1!J16 -> 0.011188333
B26: connesse con fondi esterni | D26: =+VIG_Tav1!C17 -> 1017 | E26: =+VIG_Tav1!D17 -> 5007426 | F26: =+VIG_Tav1!E17 -> 603462 | G26: =+VIG_Tav1!G17 -> 180193 | H26: =+VIG_Tav1!F17 -> 5611905 | I26: =+VIG_Tav1!H17 -> 0.056436939 | J26: =+VIG_Tav1!I17 -> 0.056436939 | K26: =+VIG_Tav1!J17 -> 0.17695744
B27: di cui: | C27: art. 13, co. 1, lett. b), d.lgs. 252/05 | D27: =+VIG_Tav1!C18 -> 0 | E27: =+VIG_Tav1!D18 -> 0 | F27: =+VIG_Tav1!E18 -> 310375 | G27: =+VIG_Tav1!G18 -> 117802 | H27: =+VIG_Tav1!F18 -> 310375 | I27: =+VIG_Tav1!H18 -> 0.46529096 | J27: =+VIG_Tav1!I18 -> 0.46529096 | K27: =+VIG_Tav1!J18 -> 0.0097869021
B28: connesse con indice azionario | D28: =+VIG_Tav1!C19 -> 0 | E28: =+VIG_Tav1!D19 -> 0 | F28: =+VIG_Tav1!E19 -> 0 | G28: =+VIG_Tav1!G19 -> 0 | H28: =+VIG_Tav1!F19 -> 0 | I28: - | J28: - | K28: -
B29: connesse con altro valore di riferimento | D29: =+VIG_Tav1!C20 -> 0 | E29: =+VIG_Tav1!D20 -> 0 | F29: =+VIG_Tav1!E20 -> 0 | G29: =+VIG_Tav1!G20 -> 0 | H29: =+VIG_Tav1!F20 -> 0 | I29: =+VIG_Tav1!H20 -> 0 | J29: =+VIG_Tav1!I20 -> 0 | K29: =+VIG_Tav1!J20 -> 0
B30: TOTALE INDIVIDUALI | D30: =+VIG_Tav1!C21 -> 16720 | E30: =+VIG_Tav1!D21 -> 9366454 | F30: =+VIG_Tav1!E21 -> 1550164 | G30: =+VIG_Tav1!G21 -> 397285 | H30: =+VIG_Tav1!F21 -> 10933338 | I30: =+VIG_Tav1!H21 -> 0.076998745 | J30: =+VIG_Tav1!I21 -> 0.076998745 | K30: =+VIG_Tav1!J21 -> 0.34475556
B31: ASSICURAZIONI COLLETTIVE | D31: =+VIG_Tav1!C22 -> 8239 | E31: =+VIG_Tav1!D22 -> 2808 | F31: =+VIG_Tav1!E22 -> 0 | G31: =+VIG_Tav1!G22 -> 507 | H31: =+VIG_Tav1!F22 -> 11047 | I31: =+VIG_Tav1!H22 -> 0.70189493 | J31: =+VIG_Tav1!I22 -> 0.70189493 | K31: =+VIG_Tav1!J22 -> 0.00034833961
A32: TOTALE RAMO III | D32: =+VIG_Tav1!C23 -> 24959 | E32: =+VIG_Tav1!D23 -> 9369262 | F32: =+VIG_Tav1!E23 -> 1550164 | G32: =+VIG_Tav1!G23 -> 397792 | H32: =+VIG_Tav1!F23 -> 10944385 | I32: =+VIG_Tav1!H23 -> 0.077398049 | J32: =+VIG_Tav1!I23 -> 0.077398049 | K32: =+VIG_Tav1!J23 -> 0.3451039
A33: TOTALE RAMO IV | D33: =+VIG_Tav1!C24 -> 80795 | E33: =+VIG_Tav1!D24 -> 16609 | F33: =+VIG_Tav1!E24 -> 1383 | G33: =+VIG_Tav1!G24 -> 19193 | H33: =+VIG_Tav1!F24 -> 98787 | I33: =+VIG_Tav1!H24 -> 0.16261033 | J33: =+VIG_Tav1!I24 -> 0.16261033 | K33: =+VIG_Tav1!J24 -> 0.0031150018
A34: RAMO V: | B34: OPER. DI CAPITALIZZ. INDIVIDUALI | D34: =+VIG_Tav1!C25 -> 15 | E34: =+VIG_Tav1!D25 -> 218308 | F34: =+VIG_Tav1!E25 -> 33508 | G34: =+VIG_Tav1!G25 -> 465 | H34: =+VIG_Tav1!F25 -> 251831 | I34: =+VIG_Tav1!H25 -> -0.33071553 | J34: =+VIG_Tav1!I25 -> -0.33071553 | K34: =+VIG_Tav1!J25 -> 0.0079408629
B35: di cui: | C35: contratti art. 41 d.lgs. 209/05 | D35: =+VIG_Tav1!C26 -> 0 | E35: =+VIG_Tav1!D26 -> 103 | F35: =+VIG_Tav1!E26 -> 56 | G35: =+VIG_Tav1!G26 -> 0 | H35: =+VIG_Tav1!F26 -> 159 | I35: =+VIG_Tav1!H26 -> -0.76090226 | J35: =+VIG_Tav1!I26 -> -0.76090226 | K35: =+VIG_Tav1!J26 -> 5.0136687e-06
C36: connessi con fondi interni | D36: =+VIG_Tav1!C27 -> 0 | E36: =+VIG_Tav1!D27 -> 103 | F36: =+VIG_Tav1!E27 -> 56 | G36: =+VIG_Tav1!G27 -> 0 | H36: =+VIG_Tav1!F27 -> 159 | I36: =+VIG_Tav1!H27 -> -0.080924855 | J36: =+VIG_Tav1!I27 -> -0.080924855 | K36: =+VIG_Tav1!J27 -> 5.0136687e-06
C37: connessi con fondi esterni | D37: =+VIG_Tav1!C28 -> 0 | E37: =+VIG_Tav1!D28 -> 0 | F37: =+VIG_Tav1!E28 -> 0 | G37: =+VIG_Tav1!G28 -> 0 | H37: =+VIG_Tav1!F28 -> 0 | I37: - | J37: - | K37: -
C38: connessi con indice azionario | D38: =+VIG_Tav1!C29 -> 0 | E38: =+VIG_Tav1!D29 -> 0 | F38: =+VIG_Tav1!E29 -> 0 | G38: =+VIG_Tav1!G29 -> 0 | H38: =+VIG_Tav1!F29 -> 0 | I38: - | J38: - | K38: -
C39: connessi con altro valore di riferimento | D39: =+VIG_Tav1!C30 -> 0 | E39: =+VIG_Tav1!D30 -> 0 | F39: =+VIG_Tav1!E30 -> 0 | G39: =+VIG_Tav1!G30 -> 0 | H39: =+VIG_Tav1!F30 -> 0 | I39: - | J39: - | K39: -
B40: OPER. DI CAPITALIZZ. COLLETTIVE | D40: =+VIG_Tav1!C31 -> 695 | E40: =+VIG_Tav1!D31 -> 233501 | F40: =+VIG_Tav1!E31 -> 10844 | G40: =+VIG_Tav1!G31 -> 104 | H40: =+VIG_Tav1!F31 -> 245040 | I40: =+VIG_Tav1!H31 -> 0.39557135 | J40: =+VIG_Tav1!I31 -> 0.39557135 | K40: =+VIG_Tav1!J31 -> 0.0077267257
B41: di cui: | C41: T.F.R. di legge | D41: =+VIG_Tav1!C32 -> 18 | E41: =+VIG_Tav1!D32 -> 30185 | F41: =+VIG_Tav1!E32 -> 821 | G41: =+VIG_Tav1!G32 -> 87 | H41: =+VIG_Tav1!F32 -> 31024 | I41: =+VIG_Tav1!H32 -> 0.53896523 | J41: =+VIG_Tav1!I32 -> 0.53896523 | K41: =+VIG_Tav1!J32 -> 0.00097826452
A42: TOTALE RAMO V | D42: =+VIG_Tav1!C33 -> 710 | E42: =+VIG_Tav1!D33 -> 451809 | F42: =+VIG_Tav1!E33 -> 44352 | G42: =+VIG_Tav1!G33 -> 569 | H42: =+VIG_Tav1!F33 -> 496871 | I42: =+VIG_Tav1!H33 -> -0.099631605 | J42: =+VIG_Tav1!I33 -> -0.099631605 | K42: =+VIG_Tav1!J33 -> 0.015667589
A43: TOTALE RAMO VI | D43: =+VIG_Tav1!C34 -> 534 | E43: =+VIG_Tav1!D34 -> 938553 | F43: =+VIG_Tav1!E34 -> 206175 | G43: =+VIG_Tav1!G34 -> 5193 | H43: =+VIG_Tav1!F34 -> 1145262 | I43: =+VIG_Tav1!H34 -> -0.19554751 | J43: =+VIG_Tav1!I34 -> -0.19554751 | K43: =+VIG_Tav1!J34 -> 0.036112983
A44: ASSICURAZIONI COMPLEMENTARI | D44: =+VIG_Tav1!C35 -> 16340 | E44: =+VIG_Tav1!D35 -> 10333 | F44: =+VIG_Tav1!E35 -> 55232 | G44: =+VIG_Tav1!G35 -> 10797 | H44: =+VIG_Tav1!F35 -> 81905 | I44: =+VIG_Tav1!H35 -> -0.19440346 | J44: =+VIG_Tav1!I35 -> -0.19440346 | K44: =+VIG_Tav1!J35 -> 0.00258267
B45: di cui: | C45: ramo I | D45: =+VIG_Tav1!C36 -> 16340 | E45: =+VIG_Tav1!D36 -> 6024 | F45: =+VIG_Tav1!E36 -> 49860 | G45: =+VIG_Tav1!G36 -> 8436 | H45: =+VIG_Tav1!F36 -> 72224 | I45: =+VIG_Tav1!H36 -> -0.18568545 | J45: =+VIG_Tav1!I36 -> -0.18568545 | K45: =+VIG_Tav1!J36 -> 0.0022774038
C46: ramo III | D46: =+VIG_Tav1!C37 -> 0 | E46: =+VIG_Tav1!D37 -> 4309 | F46: =+VIG_Tav1!E37 -> 5370 | G46: =+VIG_Tav1!G37 -> 2360 | H46: =+VIG_Tav1!F37 -> 9679 | I46: =+VIG_Tav1!H37 -> -0.25402697 | J46: =+VIG_Tav1!I37 -> -0.25402697 | K46: =+VIG_Tav1!J37 -> 0.00030520314
C47: ramo V | D47: =+VIG_Tav1!C38 -> 0 | E47: =+VIG_Tav1!D38 -> 0 | F47: =+VIG_Tav1!E38 -> 0 | G47: =+VIG_Tav1!G38 -> 0 | H47: =+VIG_Tav1!F38 -> 0 | I47: =+VIG_Tav1!H38 -> 0 | J47: =+VIG_Tav1!I38 -> 0 | K47: =+VIG_Tav1!J38 -> 0
C48: ramo VI | D48: =+VIG_Tav1!C39 -> 0 | E48: =+VIG_Tav1!D39 -> 0 | F48: =+VIG_Tav1!E39 -> 2 | G48: =+VIG_Tav1!G39 -> 1 | H48: =+VIG_Tav1!F39 -> 2 | I48: =+VIG_Tav1!H39 -> 0 | J48: =+VIG_Tav1!I39 -> 0 | K48: =+VIG_Tav1!J39 -> 6.3065015e-08
A49: TOTALE | D49: =+VIG_Tav1!C40 -> 1175539 | E49: =+VIG_Tav1!D40 -> 27132627 | F49: =+VIG_Tav1!E40 -> 3405138 | G49: =+VIG_Tav1!G40 -> 769675 | H49: =+VIG_Tav1!F40 -> 31713304 | I49: =+VIG_Tav1!H40 -> -0.012087444 | J49: =+VIG_Tav1!I40 -> -0.012087444 | K49: =+VIG_Tav1!J40 -> 1
A51: (a) I premi di prima annualità sono riferiti ai soli premi annui e ricorrenti (col. 1 e 3).

Sheet A - Tavola 2
A1: ASSICURAZIONI VITA: IMPRESE VIGILATE IVASS
A2: Portafoglio italiano - Lavoro diretto
A3: ="Ripartizione per canale distributivo dei premi lordi contabilizzati a tutto il "&IF(MID(VIG_Tav2!C1,5,4)="0331","1°", IF(MID(VIG_Tav2!C1,5,4)="0630","2°", IF(MID(VIG_Tav2!C1,5,4)="0930","3°","4°")))&" trimestre "&MID(VIG_Tav2!C1,1,4) -> Ripartizione per canale distributivo dei premi lordi contabilizzati a tutto il 1° trimestre 2026
P4: Importi in migliaia di EURO
B5: Agenzie con mandato | D5: Consulenti finanziari | F5: Sportelli bancari e postali | H5: Brokers | J5: Agenzie in economia e gerenze | L5: Altre forme di vendita diretta | N5: Totale
B6: raccolta | C6: variazione - anno prec. | D6: raccolta | E6: variazione - anno prec. | F6: raccolta | G6: variazione - anno prec. | H6: raccolta | I6: variazione - anno prec. | J6: raccolta | K6: variazione - anno prec. | L6: raccolta | M6: variazione - anno prec. | N6: raccolta | O6: variazione - anno precedente | P6: incidenza
A7: SETTORE INDIVIDUALI
A8: RAMO I | B8: =+VIG_Tav2!C2 -> 2526421 | C8: =+VIG_Tav2!D2 -> 0.10216011 | D8: =+VIG_Tav2!E2 -> 1684058 | E8: =+VIG_Tav2!F2 -> 0.012304121 | F8: =+VIG_Tav2!G2 -> 12220971 | G8: =+VIG_Tav2!H2 -> -0.068235216 | H8: =+VIG_Tav2!I2 -> 93028 | I8: =+VIG_Tav2!J2 -> -0.35508738 | ... P8: =+VIG_Tav2!Q2 -> 0.56830417
A9: di cui art. 13, c. 1, lett. b) d.lgs. 252/05 | B9: =+VIG_Tav2!C3 -> 217302 | C9: =+VIG_Tav2!D3 -> -0.023870701 | D9: =+VIG_Tav2!E3 -> 12257 | E9: =+VIG_Tav2!F3 -> -0.15322971 | F9: =+VIG_Tav2!G3 -> 254174 | G9: =+VIG_Tav2!H3 -> -0.050164799 | H9: =+VIG_Tav2!I3 -> 2193 | I9: =+VIG_Tav2!J3 -> -0.087010824 | ... P9: =+VIG_Tav2!Q3 -> 0.022013095
A10: RAMO II | B10: =+VIG_Tav2!C4 -> 0 | C10: =+VIG_Tav2!D4 -> 0 | D10: =+VIG_Tav2!E4 -> 0 | E10: =+VIG_Tav2!F4 -> 0 | F10: =+VIG_Tav2!G4 -> 0 | G10: =+VIG_Tav2!H4 -> 0 | H10: =+VIG_Tav2!I4 -> 0 | I10: =+VIG_Tav2!J4 -> 0 | ... P10: =+VIG_Tav2!Q4 -> 0
A11: RAMO III | B11: =+VIG_Tav2!C5 -> 778980 | C11: =+VIG_Tav2!D5 -> -0.179952 | D11: =+VIG_Tav2!E5 -> 3108491 | E11: =+VIG_Tav2!F5 -> -0.051575119 | F11: =+VIG_Tav2!G5 -> 6597499 | G11: =+VIG_Tav2!H5 -> 0.21927739 | H11: =+VIG_Tav2!I5 -> 24736 | I11: =+VIG_Tav2!J5 -> -0.25541073 | ... P11: =+VIG_Tav2!Q5 -> 0.34564826
A12: di cui art. 13, c. 1, lett. b) d.lgs. 252/05 | B12: =+VIG_Tav2!C6 -> 146075 | C12: =+VIG_Tav2!D6 -> 0.15320244 | D12: =+VIG_Tav2!E6 -> 373236 | E12: =+VIG_Tav2!F6 -> 0.3309038 | F12: =+VIG_Tav2!G6 -> 35079 | G12: =+VIG_Tav2!H6 -> -0.0007690993 | H12: =+VIG_Tav2!I6 -> 4837 | I12: =+VIG_Tav2!J6 -> 0.53312203 | ... P12: =+VIG_Tav2!Q6 -> 0.021029547
A13: RAMO IV | B13: =+VIG_Tav2!C7 -> 60507 | C13: =+VIG_Tav2!D7 -> 0.13696494 | D13: =+VIG_Tav2!E7 -> 296 | E13: =+VIG_Tav2!F7 -> 0.29257642 | F13: =+VIG_Tav2!G7 -> 9394 | G13: =+VIG_Tav2!H7 -> 0.029705141 | H13: =+VIG_Tav2!I7 -> 19 | I13: =+VIG_Tav2!J7 -> -0.05 | ... P13: =+VIG_Tav2!Q7 -> 0.0025884091
A14: RAMO V | B14: =+VIG_Tav2!C8 -> 17984 | C14: =+VIG_Tav2!D8 -> -0.87142071 | D14: =+VIG_Tav2!E8 -> 198 | E14: =+VIG_Tav2!F8 -> 2.1935484 | F14: =+VIG_Tav2!G8 -> 110542 | G14: =+VIG_Tav2!H8 -> 4.6854395 | H14: =+VIG_Tav2!I8 -> 1687 | I14: =+VIG_Tav2!J8 -> 25.359375 | ... P14: =+VIG_Tav2!Q8 -> 0.007961393
A15: di cui art. 41 d.lgs. 209/05 | B15: =+VIG_Tav2!C9 -> 159 | C15: =+VIG_Tav2!D9 -> -0.080924855 | D15: =+VIG_Tav2!E9 -> 0 | E15: =+VIG_Tav2!F9 -> 0 | F15: =+VIG_Tav2!G9 -> 0 | G15: =+VIG_Tav2!H9 -> -1 | H15: =+VIG_Tav2!I9 -> 0 | I15: =+VIG_Tav2!J9 -> 0 | ... P15: =+VIG_Tav2!Q9 -> 5.0266509e-06
A16: RAMO VI | B16: =+VIG_Tav2!C10 -> 105740 | C16: =+VIG_Tav2!D10 -> 0.1369159 | D16: =+VIG_Tav2!E10 -> 106124 | E16: =+VIG_Tav2!F10 -> 0.28672584 | F16: =+VIG_Tav2!G10 -> 201210 | G16: =+VIG_Tav2!H10 -> 0.012499623 | H16: =+VIG_Tav2!I10 -> 1542 | I16: =+VIG_Tav2!J10 -> 0.27332783 | ... P16: =+VIG_Tav2!Q10 -> 0.013531428
A17: TOTALE INDIVIDUALI | B17: =+VIG_Tav2!C11 -> 3489632 | C17: =+VIG_Tav2!D11 -> -0.010947051 | D17: =+VIG_Tav2!E11 -> 4899167 | E17: =+VIG_Tav2!F11 -> -0.024825205 | F17: =+VIG_Tav2!G11 -> 19139616 | G17: =+VIG_Tav2!H11 -> 0.020549665 | H17: =+VIG_Tav2!I11 -> 121012 | I17: =+VIG_Tav2!J11 -> -0.3230666 | ... P17: =+VIG_Tav2!Q11 -> 0.93803366
A18: di cui:
A19: premi annui | B19: =+VIG_Tav2!C12 -> 331809 | C19: =+VIG_Tav2!D12 -> 0.0043010037 | D19: =+VIG_Tav2!E12 -> 18448 | E19: =+VIG_Tav2!F12 -> 0.0029357399 | F19: =+VIG_Tav2!G12 -> 128129 | G19: =+VIG_Tav2!H12 -> 0.04478257 | H19: =+VIG_Tav2!I12 -> 6042 | I19: =+VIG_Tav2!J12 -> 0.076237976 | ... P19: =+VIG_Tav2!Q12 -> 0.022943532
A20: premi unici | B20: =+VIG_Tav2!C13 -> 2385608 | C20: =+VIG_Tav2!D13 -> -0.031260583 | D20: =+VIG_Tav2!E13 -> 4327149 | E20: =+VIG_Tav2!F13 -> -0.043613439 | F20: =+VIG_Tav2!G13 -> 17908612 | G20: =+VIG_Tav2!H13 -> 0.021594566 | H20: =+VIG_Tav2!I13 -> 106309 | I20: =+VIG_Tav2!J13 -> -0.36095482 | ... P20: =+VIG_Tav2!Q13 -> 0.81804463
A21: premi ricorrenti | B21: =+VIG_Tav2!C14 -> 772215 | C21: =+VIG_Tav2!D14 -> 0.050235421 | D21: =+VIG_Tav2!E14 -> 553570 | E21: =+VIG_Tav2!F14 -> 0.15083729 | F21: =+VIG_Tav2!G14 -> 1102875 | G21: =+VIG_Tav2!H14 -> 0.0012228468 | H21: =+VIG_Tav2!I14 -> 8661 | I21: =+VIG_Tav2!J14 -> 0.27461369 | ... P21: =+VIG_Tav2!Q14 -> 0.097045502
B22: =B19+B20+B21 -> 3489632 | D22: =D19+D20+D21 -> 4899167 | F22: =F19+F20+F21 -> 19139616 | H22: =H19+H20+H21 -> 121012 | J22: =J19+J20+J21 -> 1963889 | L22: =L19+L20+L21 -> 58001 | N22: =N19+N20+N21 -> 29671317 | O22: =O19+O20+O21 -> -0.018883029 | P22: =P19+P20+P21 -> 0.93803366
A23: SETTORE COLLETTIVE
A24: RAMO I | B24: =+VIG_Tav2!C15 -> 172874 | C24: =+VIG_Tav2!D15 -> -0.022692325 | D24: =+VIG_Tav2!E15 -> 3136 | E24: =+VIG_Tav2!F15 -> 0.54864198 | F24: =+VIG_Tav2!G15 -> 149590 | G24: =+VIG_Tav2!H15 -> -0.045062528 | H24: =+VIG_Tav2!I15 -> 123801 | I24: =+VIG_Tav2!J15 -> 0.16758148 | ... P24: =+VIG_Tav2!Q15 -> 0.03066061
A25: RAMO II | B25: =+VIG_Tav2!C16 -> 0 | C25: =+VIG_Tav2!D16 -> 0 | D25: =+VIG_Tav2!E16 -> 0 | E25: =+VIG_Tav2!F16 -> 0 | F25: =+VIG_Tav2!G16 -> 0 | G25: =+VIG_Tav2!H16 -> 0 | H25: =+VIG_Tav2!I16 -> 0 | I25: =+VIG_Tav2!J16 -> 0 | ... P25: =+VIG_Tav2!Q16 -> 0
A26: RAMO III | B26: =+VIG_Tav2!C17 -> 0 | C26: =+VIG_Tav2!D17 -> 0 | D26: =+VIG_Tav2!E17 -> 0 | E26: =+VIG_Tav2!F17 -> 0 | F26: =+VIG_Tav2!G17 -> 0 | G26: =+VIG_Tav2!H17 -> 0 | H26: =+VIG_Tav2!I17 -> 0 | I26: =+VIG_Tav2!J17 -> 0 | ... P26: =+VIG_Tav2!Q17 -> 0.00034924159
A27: RAMO IV | B27: =+VIG_Tav2!C18 -> 6234 | C27: =+VIG_Tav2!D18 -> 0.1332485 | D27: =+VIG_Tav2!E18 -> 6 | E27: =+VIG_Tav2!F18 -> 0 | F27: =+VIG_Tav2!G18 -> 1202 | G27: =+VIG_Tav2!H18 -> 25.130435 | H27: =+VIG_Tav2!I18 -> 4080 | I27: =+VIG_Tav2!J18 -> 0.044279498 | ... P27: =+VIG_Tav2!Q18 -> 0.00053465862
A28: RAMO V | B28: =+VIG_Tav2!C19 -> 41758 | C28: =+VIG_Tav2!D19 -> 0.068909026 | D28: =+VIG_Tav2!E19 -> 9308 | E28: =+VIG_Tav2!F19 -> 50.425414 | F28: =+VIG_Tav2!G19 -> 1041 | G28: =+VIG_Tav2!H19 -> -0.082010582 | H28: =+VIG_Tav2!I19 -> 11701 | I28: =+VIG_Tav2!J19 -> -0.6072831 | ... P28: =+VIG_Tav2!Q19 -> 0.0077467645
A29: RAMO VI | B29: =+VIG_Tav2!C20 -> 69654 | C29: =+VIG_Tav2!D20 -> 0.17071449 | D29: =+VIG_Tav2!E20 -> 29422 | E29: =+VIG_Tav2!F20 -> 0.36074369 | F29: =+VIG_Tav2!G20 -> 30816 | G29: =+VIG_Tav2!H20 -> 0.024161654 | H29: =+VIG_Tav2!I20 -> 8352 | I29: =+VIG_Tav2!J20 -> -0.14827657 | ... P29: =+VIG_Tav2!Q20 -> 0.022675064
A30: TOTALE COLLETTIVE | B30: =+VIG_Tav2!C21 -> 290520 | C30: =+VIG_Tav2!D21 -> 0.034055639 | D30: =+VIG_Tav2!E21 -> 41872 | E30: =+VIG_Tav2!F21 -> 0.75726037 | F30: =+VIG_Tav2!G21 -> 182649 | G30: =+VIG_Tav2!H21 -> -0.028038825 | H30: =+VIG_Tav2!I21 -> 147934 | I30: =+VIG_Tav2!J21 -> -0.010739601 | ... P30: =+VIG_Tav2!Q21 -> 0.061966339
A31: TOTALE
B32: =+VIG_Tav2!C22 -> 3780152 | C32: =+VIG_Tav2!D22 -> -0.0076278323 | D32: =+VIG_Tav2!E22 -> 4941039 | E32: =+VIG_Tav2!F22 -> -0.021133329 | F32: =+VIG_Tav2!G22 -> 19322265 | G32: =+VIG_Tav2!H22 -> 0.020067636 | H32: =+VIG_Tav2!I22 -> 268946 | I32: =+VIG_Tav2!J22 -> -0.18080443 | ... P32: =+VIG_Tav2!Q22 -> 1
A34: NOTA: sono esclusi i premi relativi alle assicurazioni complementari.

Sheet A - Tavola 3
A1: ASSICURAZIONI VITA: IMPRESE VIGILATE IVASS
A2: Portafoglio italiano - Lavoro diretto
A3: ="Nuova produzione emessa a tutto il "&IF(MID(VIG_Tav3!C1,5,4)="0331","1°", IF(MID(VIG_Tav3!C1,5,4)="0630","2°", IF(MID(VIG_Tav3!C1,5,4)="0930","3°","4°")))&" trimestre "&MID(VIG_Tav3!C1,1,4)&" (a)" -> Nuova produzione emessa a tutto il 1° trimestre 2026 (a)
Q4: Importi in migliaia di EURO
A5: CATEGORIE | D5: Assicurazioni di capitali | H5: Assicurazioni di rendite | L5: Premi di tariffa
D6: Numero polizze/teste | F6: Somme assicurate | H6: Numero polizze/teste | J6: Somme assicurate | L6: Annui | M6: Unici | N6: Ricorrenti | O6: Totale
D7: numero | E7: variazione - anno prec. | F7: importo | G7: variazione - anno prec. | H7: numero | I7: variazione - anno prec. | J7: importo | K7: variazione - anno prec. | O7: raccolta | P7: variazione - anno prec. | Q7: incidenza
A8: RAMO I: | B8: ASSICURAZIONI INDIVIDUALI
B9: rivalutabili | D9: =+VIG_Tav3!C2 -> 301866 | E9: =+VIG_Tav3!D2 -> -0.081415978 | F9: =+VIG_Tav3!E2 -> 13463413 | G9: =+VIG_Tav3!F2 -> -0.020909696 | H9: =+VIG_Tav3!G2 -> 31490 | I9: =+VIG_Tav3!H2 -> -0.19304 | J9: =+VIG_Tav3!I2 -> 24944 | K9: =+VIG_Tav3!J2 -> -0.62019033 | ... Q9: =+VIG_Tav3!P2 -> 0.59372056
B10: di cui: | C10: polizze in valuta | D10: =+VIG_Tav3!C3 -> 102 | E10: =+VIG_Tav3!D3 -> -0.40697674 | F10: =+VIG_Tav3!E3 -> 3353 | G10: =+VIG_Tav3!F3 -> 0.42257106 | H10: =+VIG_Tav3!G3 -> 0 | I10: =+VIG_Tav3!H3 -> 0 | J10: =+VIG_Tav3!I3 -> 0 | K10: =+VIG_Tav3!J3 -> -1 | ... Q10: =+VIG_Tav3!P3 -> 0.00014682694
C11: ex art. 13, co.1, lett. b), d.lgs. 252/05 | D11: =+VIG_Tav3!C4 -> 0 | E11: =+VIG_Tav3!D4 -> 0 | F11: =+VIG_Tav3!E4 -> 0 | G11: =+VIG_Tav3!F4 -> 0 | H11: =+VIG_Tav3!G4 -> 31393 | I11: =+VIG_Tav3!H4 -> -0.1938524 | J11: =+VIG_Tav3!I4 -> 19145 | K11: =+VIG_Tav3!J4 -> -0.7015728 | ... Q11: =+VIG_Tav3!P4 -> 0.0048932565
B12: temporanee di puro rischio | D12: =+VIG_Tav3!C5 -> 182885 | E12: =+VIG_Tav3!D5 -> -0.0057193496 | F12: =+VIG_Tav3!E5 -> 17193139 | G12: =+VIG_Tav3!F5 -> 0.034603111 | H12: =+VIG_Tav3!G5 -> 5 | I12: =+VIG_Tav3!H5 -> 4 | J12: =+VIG_Tav3!I5 -> 5 | K12: =+VIG_Tav3!J5 -> 4 | ... Q12: =+VIG_Tav3!P5 -> 0.009371871
B13: altre | D13: =+VIG_Tav3!C6 -> 3194 | E13: =+VIG_Tav3!D6 -> 2.6295455 | F13: =+VIG_Tav3!E6 -> 259417 | G13: =+VIG_Tav3!F6 -> 2.1545047 | H13: =+VIG_Tav3!G6 -> 0 | I13: =+VIG_Tav3!H6 -> 0 | J13: =+VIG_Tav3!I6 -> 0 | K13: =+VIG_Tav3!J6 -> 0 | ... Q13: =+VIG_Tav3!P6 -> 0.0045344384
B14: TOTALE INDIVIDUALI | D14: =+VIG_Tav3!C7 -> 487945 | E14: =+VIG_Tav3!D7 -> -0.049651565 | F14: =+VIG_Tav3!E7 -> 30915969 | G14: =+VIG_Tav3!F7 -> 0.015260114 | H14: =+VIG_Tav3!G7 -> 31495 | I14: =+VIG_Tav3!H7 -> -0.19293255 | J14: =+VIG_Tav3!I7 -> 24949 | K14: =+VIG_Tav3!J7 -> -0.62011998 | ... Q14: =+VIG_Tav3!P7 -> 0.60762687
B15: di cui: | C15: derivanti da trasformazione | D15: =+VIG_Tav3!C8 -> 6831 | E15: =+VIG_Tav3!D8 -> 3.7110345 | F15: =+VIG_Tav3!E8 -> 408954 | G15: =+VIG_Tav3!F8 -> 1.4981155 | H15: =+VIG_Tav3!G8 -> 0 | I15: =+VIG_Tav3!H8 -> 0 | J15: =+VIG_Tav3!I8 -> 0 | K15: =+VIG_Tav3!J8 -> 0 | ... Q15: =+VIG_Tav3!P8 -> 0.010806925
C16: deriv. da trasf. di posiz. previd. a contr. ex art. 13, co. 1, lett. b), d.lgs. 252/05 | D16: =+VIG_Tav3!C9 -> 0 | E16: =+VIG_Tav3!D9 -> 0 | F16: =+VIG_Tav3!E9 -> 0 | G16: =+VIG_Tav3!F9 -> 0 | H16: =+VIG_Tav3!G9 -> 293 | I16: =+VIG_Tav3!H9 -> 0.11406844 | J16: =+VIG_Tav3!I9 -> 5588 | K16: =+VIG_Tav3!J9 -> 5.2575588 | ... Q16: =+VIG_Tav3!P9 -> 0.00083823167
B17: ASSICURAZIONI COLLETTIVE
B18: T.F.R. di legge | D18: =+VIG_Tav3!C10 -> 1098 | E18: =+VIG_Tav3!D10 -> 1.8298969 | F18: =+VIG_Tav3!E10 -> 2363 | G18: =+VIG_Tav3!F10 -> 1.1135957 | H18: =+VIG_Tav3!G10 -> 0 | I18: =+VIG_Tav3!H10 -> 0 | J18: =+VIG_Tav3!I10 -> 0 | K18: =+VIG_Tav3!J10 -> 0 | ... Q18: =+VIG_Tav3!P10 -> 0.00010488262
B19: temporanee di gruppo e altre di rischio | D19: =+VIG_Tav3!C11 -> 586741 | E19: =+VIG_Tav3!D11 -> -0.02826078 | F19: =+VIG_Tav3!E11 -> 38228945 | G19: =+VIG_Tav3!F11 -> -0.08156471 | H19: =+VIG_Tav3!G11 -> 18801 | I19: =+VIG_Tav3!H11 -> 1.6196182 | J19: =+VIG_Tav3!I11 -> 90685 | K19: =+VIG_Tav3!J11 -> 0.86200029 | ... Q19: =+VIG_Tav3!P11 -> 0.0094826459
B20: previdenziali | D20: =+VIG_Tav3!C12 -> 18684 | E20: =+VIG_Tav3!D12 -> -0.43097305 | F20: =+VIG_Tav3!E12 -> 184557 | G20: =+VIG_Tav3!F12 -> -0.054838297 | H20: =+VIG_Tav3!G12 -> 10118 | I20: =+VIG_Tav3!H12 -> -0.080516176 | J20: =+VIG_Tav3!I12 -> 385 | K20: =+VIG_Tav3!J12 -> -0.17025862 | ... Q20: =+VIG_Tav3!P12 -> 0.0035750876
B21: TOTALE COLLETTIVE | D21: =+VIG_Tav3!C13 -> 606523 | E21: =+VIG_Tav3!D13 -> -0.047886435 | F21: =+VIG_Tav3!E13 -> 38415865 | G21: =+VIG_Tav3!F13 -> -0.08140797 | H21: =+VIG_Tav3!G13 -> 28919 | I21: =+VIG_Tav3!H13 -> 0.59061658 | J21: =+VIG_Tav3!I13 -> 91070 | K21: =+VIG_Tav3!J13 -> 0.85225863 | ... Q21: =+VIG_Tav3!P13 -> 0.013162616
A22: TOTALE RAMO I | D22: =+VIG_Tav3!C14 -> 1094468 | E22: =+VIG_Tav3!D14 -> -0.048674189 | F22: =+VIG_Tav3!E14 -> 69331834 | G22: =+VIG_Tav3!F14 -> -0.040677385 | H22: =+VIG_Tav3!G14 -> 60414 | I22: =+VIG_Tav3!H14 -> 0.056096495 | J22: =+VIG_Tav3!I14 -> 116019 | K22: =+VIG_Tav3!J14 -> 0.010240067 | ... Q22: =+VIG_Tav3!P14 -> 0.62078949
A23: TOTALE RAMO II | D23: =+VIG_Tav3!C15 -> 0 | E23: =+VIG_Tav3!D15 -> 0 | F23: =+VIG_Tav3!E15 -> 0 | G23: =+VIG_Tav3!F15 -> 0 | H23: =+VIG_Tav3!G15 -> 0 | I23: =+VIG_Tav3!H15 -> 0 | J23: =+VIG_Tav3!I15 -> 0 | K23: =+VIG_Tav3!J15 -> 0 | ... Q23: =+VIG_Tav3!P15 -> 0
A24: RAMO III: | B24: ASSICURAZIONI INDIVIDUALI
B25: connesse con fondi interni | D25: =+VIG_Tav3!C16 -> 100329 | E25: =+VIG_Tav3!D16 -> 0.17925903 | F25: =+VIG_Tav3!E16 -> 3561635 | G25: =+VIG_Tav3!F16 -> 0.32647965 | H25: =+VIG_Tav3!G16 -> 34161 | I25: =+VIG_Tav3!H16 -> -0.064492277 | J25: =+VIG_Tav3!I16 -> 21208 | K25: =+VIG_Tav3!J16 -> 0.0032166509 | ... Q25: =+VIG_Tav3!P16 -> 0.16110254
B26: di cui: | C26: ex art. 13, co. 1, lett. b), d. lgs. 252/05 | D26: =+VIG_Tav3!C17 -> 0 | E26: =+VIG_Tav3!D17 -> 0 | F26: =+VIG_Tav3!E17 -> 0 | G26: =+VIG_Tav3!F17 -> 0 | H26: =+VIG_Tav3!G17 -> 33491 | I26: =+VIG_Tav3!H17 -> -0.06904795 | J26: =+VIG_Tav3!I17 -> 16604 | K26: =+VIG_Tav3!J17 -> -0.20740847 | ... Q26: =+VIG_Tav3!P17 -> 0.0030506308
B27: connesse con fondi esterni | D27: =+VIG_Tav3!C18 -> 59254 | E27: =+VIG_Tav3!D18 -> 0.0064715574 | F27: =+VIG_Tav3!E18 -> 4249738 | G27: =+VIG_Tav3!F18 -> -0.074489664 | H27: =+VIG_Tav3!G18 -> 17536 | I27: =+VIG_Tav3!H18 -> 1.1003713 | J27: =+VIG_Tav3!I18 -> 43249 | K27: =+VIG_Tav3!J18 -> 0.51718936 | ... Q27: =+VIG_Tav3!P18 -> 0.19290223
B28: di cui: | C28: ex art. 13, co. 1, lett. b), d. lgs. 252/05 | D28: =+VIG_Tav3!C19 -> 0 | E28: =+VIG_Tav3!D19 -> 0 | F28: =+VIG_Tav3!E19 -> 0 | G28: =+VIG_Tav3!F19 -> 0 | H28: =+VIG_Tav3!G19 -> 17536 | I28: =+VIG_Tav3!H19 -> 1.1003713 | J28: =+VIG_Tav3!I19 -> 43249 | K28: =+VIG_Tav3!J19 -> 0.51718936 | ... Q28: =+VIG_Tav3!P19 -> 0.0018981441
B29: connesse con indice azionario | D29: =+VIG_Tav3!C20 -> 0 | E29: =+VIG_Tav3!D20 -> 0 | F29: =+VIG_Tav3!E20 -> 0 | G29: =+VIG_Tav3!F20 -> 0 | H29: =+VIG_Tav3!G20 -> 0 | I29: =+VIG_Tav3!H20 -> 0 | J29: =+VIG_Tav3!I20 -> 0 | K29: =+VIG_Tav3!J20 -> 0 | ... Q29: =+VIG_Tav3!P20 -> 0
B30: connesse con altro valore di riferimento | D30: =+VIG_Tav3!C21 -> 0 | E30: =+VIG_Tav3!D21 -> 0 | F30: =+VIG_Tav3!E21 -> 0 | G30: =+VIG_Tav3!F21 -> 0 | H30: =+VIG_Tav3!G21 -> 0 | I30: =+VIG_Tav3!H21 -> 0 | J30: =+VIG_Tav3!I21 -> 0 | K30: =+VIG_Tav3!J21 -> 0 | ... Q30: =+VIG_Tav3!P21 -> 0
B31: TOTALE INDIVIDUALI | D31: =+VIG_Tav3!C22 -> 159583 | E31: =+VIG_Tav3!D22 -> 0.10859251 | F31: =+VIG_Tav3!E22 -> 7811373 | G31: =+VIG_Tav3!F22 -> 0.073461763 | H31: =+VIG_Tav3!G22 -> 51697 | I31: =+VIG_Tav3!H22 -> 0.15227906 | J31: =+VIG_Tav3!I22 -> 64457 | K31: =+VIG_Tav3!J22 -> 0.29833219 | ... Q31: =+VIG_Tav3!P22 -> 0.35400477
B32: di cui: | C32: deriv. da trasf. di posiz. previd. a contr. ex art. 13, co. 1, lett. b), d.lgs. 252/05 | D32: =+VIG_Tav3!C23 -> 0 | E32: =+VIG_Tav3!D23 -> 0 | F32: =+VIG_Tav3!E23 -> 0 | G32: =+VIG_Tav3!F23 -> 0 | H32: =+VIG_Tav3!G23 -> 2385 | I32: =+VIG_Tav3!H23 -> 0.63692519 | J32: =+VIG_Tav3!I23 -> 35881 | K32: =+VIG_Tav3!J23 -> 0.55456869 | ... Q32: =+VIG_Tav3!P23 -> 0.0021955079
B33: ASSICURAZIONI COLLETTIVE | D33: =+VIG_Tav3!C24 -> 226 | E33: =+VIG_Tav3!D24 -> 0.93162393 | F33: =+VIG_Tav3!E24 -> 142 | G33: =+VIG_Tav3!F24 -> -0.77531646 | H33: =+VIG_Tav3!G24 -> 0 | I33: =+VIG_Tav3!H24 -> -1 | J33: =+VIG_Tav3!I24 -> 0 | K33: =+VIG_Tav3!J24 -> -1 | ... Q33: =+VIG_Tav3!P24 -> 1.0737047e-05
A34: TOTALE RAMO III | D34: =+VIG_Tav3!C25 -> 159809 | E34: =+VIG_Tav3!D25 -> 0.1092609 | F34: =+VIG_Tav3!E25 -> 7811515 | G34: =+VIG_Tav3!F25 -> 0.073388052 | H34: =+VIG_Tav3!G25 -> 51697 | I34: =+VIG_Tav3!H25 -> 0.14874564 | J34: =+VIG_Tav3!I25 -> 64457 | K34: =+VIG_Tav3!J25 -> 0.29804459 | ... Q34: =+VIG_Tav3!P25 -> 0.35401551
A35: TOTALE RAMO IV | D35: =+VIG_Tav3!C26 -> 46408 | E35: =+VIG_Tav3!D26 -> 32.315147 | F35: =+VIG_Tav3!E26 -> 224786 | G35: =+VIG_Tav3!F26 -> 4.562633 | H35: =+VIG_Tav3!G26 -> 1068708 | I35: =+VIG_Tav3!H26 -> 1.7279034 | J35: =+VIG_Tav3!I26 -> 15636773 | K35: =+VIG_Tav3!J26 -> 3.032237 | ... Q35: =+VIG_Tav3!P26 -> 0.0014532113
A36: RAMO V: | B36: OPER. DI CAPITALIZZ. INDIVIDUALI | D36: =+VIG_Tav3!C27 -> 419 | E36: =+VIG_Tav3!D27 -> 2.4344262 | F36: =+VIG_Tav3!E27 -> 96813 | G36: =+VIG_Tav3!F27 -> -0.33309683 | H36: =+VIG_Tav3!G27 -> 0 | I36: =+VIG_Tav3!H27 -> 0 | J36: =+VIG_Tav3!I27 -> 0 | K36: =+VIG_Tav3!J27 -> 0 | ... Q36: =+VIG_Tav3!P27 -> 0.0058154205
B37: di cui | C37: contratti ex art. 41 d.lgs. 209/05 | D37: =+VIG_Tav3!C28 -> 0 | E37: =+VIG_Tav3!D28 -> -1 | F37: =+VIG_Tav3!E28 -> 0 | G37: =+VIG_Tav3!F28 -> -1 | H37: =+VIG_Tav3!G28 -> 0 | I37: =+VIG_Tav3!H28 -> 0 | J37: =+VIG_Tav3!I28 -> 0 | K37: =+VIG_Tav3!J28 -> 0 | ... Q37: =+VIG_Tav3!P28 -> 0
C38: connessi con fondi interni | D38: =+VIG_Tav3!C29 -> 0 | E38: =+VIG_Tav3!D29 -> 0 | F38: =+VIG_Tav3!E29 -> 0 | G38: =+VIG_Tav3!F29 -> 0 | H38: =+VIG_Tav3!G29 -> 0 | I38: =+VIG_Tav3!H29 -> 0 | J38: =+VIG_Tav3!I29 -> 0 | K38: =+VIG_Tav3!J29 -> 0 | ... Q38: =+VIG_Tav3!P29 -> 0
C39: connessi con fondi esterni | D39: =+VIG_Tav3!C30 -> 0 | E39: =+VIG_Tav3!D30 -> 0 | F39: =+VIG_Tav3!E30 -> 0 | G39: =+VIG_Tav3!F30 -> 0 | H39: =+VIG_Tav3!G30 -> 0 | I39: =+VIG_Tav3!H30 -> 0 | J39: =+VIG_Tav3!I30 -> 0 | K39: =+VIG_Tav3!J30 -> 0 | ... Q39: =+VIG_Tav3!P30 -> 0
C40: connessi con indice azionario | D40: =+VIG_Tav3!C31 -> 0 | E40: =+VIG_Tav3!D31 -> 0 | F40: =+VIG_Tav3!E31 -> 0 | G40: =+VIG_Tav3!F31 -> 0 | H40: =+VIG_Tav3!G31 -> 0 | I40: =+VIG_Tav3!H31 -> 0 | J40: =+VIG_Tav3!I31 -> 0 | K40: =+VIG_Tav3!J31 -> 0 | ... Q40: =+VIG_Tav3!P31 -> 0
C41: connessi con altro valore di riferimento | D41: =+VIG_Tav3!C32 -> 0 | E41: =+VIG_Tav3!D32 -> -1 | F41: =+VIG_Tav3!E32 -> 0 | G41: =+VIG_Tav3!F32 -> -1 | H41: =+VIG_Tav3!G32 -> 0 | I41: =+VIG_Tav3!H32 -> 0 | J41: =+VIG_Tav3!I32 -> 0 | K41: =+VIG_Tav3!J32 -> 0 | ... Q41: =+VIG_Tav3!P32 -> 0
B42: OPER. DI CAPITALIZZ. COLLETTIVE | D42: =+VIG_Tav3!C33 -> 1145 | E42: =+VIG_Tav3!D33 -> 0.043755697 | F42: =+VIG_Tav3!E33 -> 285750 | G42: =+VIG_Tav3!F33 -> 0.33489986 | H42: =+VIG_Tav3!G33 -> 0 | I42: =+VIG_Tav3!H33 -> 0 | J42: =+VIG_Tav3!I33 -> 0 | K42: =+VIG_Tav3!J33 -> 0 | ... Q42: =+VIG_Tav3!P33 -> 0.0077079778
B43: di cui: | C43: T.F.R. di legge | D43: =+VIG_Tav3!C34 -> 800 | E43: =+VIG_Tav3!D34 -> 0.070950469 | F43: =+VIG_Tav3!E34 -> 2572 | G43: =+VIG_Tav3!F34 -> 1.1505017 | H43: =+VIG_Tav3!G34 -> 0 | I43: =+VIG_Tav3!H34 -> 0 | J43: =+VIG_Tav3!I34 -> 0 | K43: =+VIG_Tav3!J34 -> 0 | ... Q43: =+VIG_Tav3!P34 -> 0.00011483403
A44: TOTALE RAMO V | D44: =+VIG_Tav3!C35 -> 1564 | E44: =+VIG_Tav3!D35 -> 0.28301887 | F44: =+VIG_Tav3!E35 -> 382563 | G44: =+VIG_Tav3!F35 -> 0.06495578 | H44: =+VIG_Tav3!G35 -> 0 | I44: =+VIG_Tav3!H35 -> 0 | J44: =+VIG_Tav3!I35 -> 0 | K44: =+VIG_Tav3!J35 -> 0 | ... Q44: =+VIG_Tav3!P35 -> 0.013523398
A45: TOTALE RAMO VI | D45: =+VIG_Tav3!C36 -> 41796 | E45: =+VIG_Tav3!D36 -> -0.62459919 | F45: =+VIG_Tav3!E36 -> 181199 | G45: =+VIG_Tav3!F36 -> -0.67729819 | H45: =+VIG_Tav3!G36 -> 19287 | I45: =+VIG_Tav3!H36 -> 0.18441415 | J45: =+VIG_Tav3!I36 -> 14935 | K45: =+VIG_Tav3!J36 -> -0.051625603 | ... Q45: =+VIG_Tav3!P36 -> 0.0092834867
A46: ASSICURAZIONI COMPLEMENTARI | D46: =+VIG_Tav3!C37 -> 45848 | E46: =+VIG_Tav3!D37 -> -0.34775867 | F46: =+VIG_Tav3!E37 -> 1084096 | G46: =+VIG_Tav3!F37 -> -0.44933548 | H46: =+VIG_Tav3!G37 -> 0 | I46: =+VIG_Tav3!H37 -> 0 | J46: =+VIG_Tav3!I37 -> 0 | K46: =+VIG_Tav3!J37 -> 0 | ... Q46: =+VIG_Tav3!P37 -> 0.00093490875
B47: di cui: | C47: ramo I | D47: =+VIG_Tav3!C38 -> 45841 | E47: =+VIG_Tav3!D38 -> -0.3471524 | F47: =+VIG_Tav3!E38 -> 1082734 | G47: =+VIG_Tav3!F38 -> -0.44822712 | H47: =+VIG_Tav3!G38 -> 0 | I47: =+VIG_Tav3!H38 -> 0 | J47: =+VIG_Tav3!I38 -> 0 | K47: =+VIG_Tav3!J38 -> 0 | ... Q47: =+VIG_Tav3!P38 -> 0.00064003277
C48: ramo III | D48: =+VIG_Tav3!C39 -> 4 | E48: =+VIG_Tav3!D39 -> -0.94366197 | F48: =+VIG_Tav3!E39 -> 905 | G48: =+VIG_Tav3!F39 -> -0.85422036 | H48: =+VIG_Tav3!G39 -> 0 | I48: =+VIG_Tav3!H39 -> 0 | J48: =+VIG_Tav3!I39 -> 0 | K48: =+VIG_Tav3!J39 -> 0 | ... Q48: =+VIG_Tav3!P39 -> 0.00029483233
C49: ramo V | D49: =+VIG_Tav3!C40 -> 0 | E49: =+VIG_Tav3!D40 -> -1 | F49: =+VIG_Tav3!E40 -> 0 | G49: =+VIG_Tav3!F40 -> -1 | H49: =+VIG_Tav3!G40 -> 0 | I49: =+VIG_Tav3!H40 -> 0 | J49: =+VIG_Tav3!I40 -> 0 | K49: =+VIG_Tav3!J40 -> 0 | ... Q49: =+VIG_Tav3!P40 -> 0
C50: ramo VI | D50: =+VIG_Tav3!C41 -> 3 | E50: =+VIG_Tav3!D41 -> 0 | F50: =+VIG_Tav3!E41 -> 457 | G50: =+VIG_Tav3!F41 -> 2.1958042 | H50: =+VIG_Tav3!G41 -> 0 | I50: =+VIG_Tav3!H41 -> 0 | J50: =+VIG_Tav3!I41 -> 0 | K50: =+VIG_Tav3!J41 -> 0 | ... Q50: =+VIG_Tav3!P41 -> 4.3646533e-08
A51: TOTALE | D51: =+VIG_Tav3!C42 -> 1344045 | E51: =+VIG_Tav3!D42 -> -0.045749931 | F51: =+VIG_Tav3!E42 -> 79015993 | G51: =+VIG_Tav3!F42 -> -0.041985879 | H51: =+VIG_Tav3!G42 -> 1200106 | I51: =+VIG_Tav3!H42 -> 1.3519454 | J51: =+VIG_Tav3!I42 -> 15832184 | K51: =+VIG_Tav3!J42 -> 2.9012939 | ... Q51: =+VIG_Tav3!P42 -> 1
A52: Nuove teste assicurate su convenzioni in corso al 1° gennaio per polizze collettive | D52: =+VIG_Tav3!C44 -> 112448 | E52: =+VIG_Tav3!D44 -> 0.091187858 | F52: =+VIG_Tav3!E44 -> 14189556 | G52: =+VIG_Tav3!F44 -> 0.41505359 | H52: =+VIG_Tav3!G44 -> 42201 | I52: =+VIG_Tav3!H44 -> 2.8427427 | J52: =+VIG_Tav3!I44 -> 1172960 | K52: =+VIG_Tav3!J44 -> 11.279346 | ... Q52: =+VIG_Tav3!P44 -> 0.0044669608
A53: ="Numero nuove convenzioni emesse per polizze collettive a tutto il "&IF(MID(VIG_Tav3!C1,5,4)="0331","1°", IF(MID(VIG_Tav3!C1,5,4)="0630","2°", IF(MID(VIG_Tav3!C1,5,4)="0930","3°","4°")))&" trimestre "&MID(VIG_Tav3!C1,1,4) -> Numero nuove convenzioni emesse per polizze collettive a tutto il 1° trimestre 2026 | D53: =+VIG_Tav3!C43 -> 1261 | E53: =+VIG_Tav3!D43 -> -0.094759512
A55: (a) Il concetto di nuova produzione emessa comporta che, per le polizze che prevedono una rateazione del premio, venga indicato l'intero importo di tariffa su base annua, comprensivo di eventuali sovrappremi e garanzie accessorie.

Sheet A - Tavola 4
A1: ASSICURAZIONI DANNI: IMPRESE VIGILATE IVASS
A2: Portafoglio italiano - Lavoro diretto
A3: ="Premi lordi contabilizzati "&IF(MID(TOT_Tav4_1!C1,5,4)="0331","1°", IF(MID(TOT_Tav4_1!C1,5,4)="0630","2°", IF(MID(TOT_Tav4_1!C1,5,4)="0930","3°","4°")))&" trimestre "&MID(TOT_Tav4_1!C1,1,4) -> Premi lordi contabilizzati 1° trimestre 2026
E4: Importi in migliaia di EURO
C5: raccolta | D5: variazione - anno precedente | E5: variazione a perim. omogeneo - anno precedente | F5: incidenza
A6: =+TOT_Tav4_1!B2 -> Infortuni | C6: =+VIG_Tav4_1!C2 -> 976154 | D6: =+VIG_Tav4_1!D2 -> 0.028149581 | E6: =+VIG_Tav4_1!E2 -> 0.028149581 | F6: =+VIG_Tav4_1!F2 -> 0.086331135
A7: =+TOT_Tav4_1!B3 -> Malattia | C7: =+VIG_Tav4_1!C3 -> 1620191 | D7: =+VIG_Tav4_1!D3 -> 0.11488192 | E7: =+VIG_Tav4_1!E3 -> 0.11488192 | F7: =+VIG_Tav4_1!F3 -> 0.14328982
A8: =+TOT_Tav4_1!B4 -> Corpi di Veicoli Terrestri | C8: =+VIG_Tav4_1!C4 -> 1330829 | D8: =+VIG_Tav4_1!D4 -> 0.060048174 | E8: =+VIG_Tav4_1!E4 -> 0.060048174 | F8: =+VIG_Tav4_1!F4 -> 0.11769862
A9: =+TOT_Tav4_1!B5 -> Corpi di veicoli Ferroviari | C9: =+VIG_Tav4_1!C5 -> 756 | D9: =+VIG_Tav4_1!D5 -> -0.41213064 | E9: =+VIG_Tav4_1!E5 -> -0.41213064 | F9: =+VIG_Tav4_1!F5 -> 6.6860698e-05
A10: =+TOT_Tav4_1!B6 -> Corpi di Veicoli Aerei | C10: =+VIG_Tav4_1!C6 -> 6180 | D10: =+VIG_Tav4_1!D6 -> -0.11015119 | E10: =+VIG_Tav4_1!E6 -> -0.11015119 | F10: =+VIG_Tav4_1!F6 -> 0.00054655968
A11: =+TOT_Tav4_1!B7 -> Corpi di Veicoli Marittimi,Lacustri e Fluviali | C11: =+VIG_Tav4_1!C7 -> 63753 | D11: =+VIG_Tav4_1!D7 -> -0.25454269 | E11: =+VIG_Tav4_1!E7 -> -0.25454269 | F11: =+VIG_Tav4_1!F7 -> 0.0056383202
A12: =+TOT_Tav4_1!B8 -> Merci Trasportate | C12: =+VIG_Tav4_1!C8 -> 62337 | D12: =+VIG_Tav4_1!D8 -> -0.071426443 | E12: =+VIG_Tav4_1!E8 -> -0.071426443 | F12: =+VIG_Tav4_1!F8 -> 0.0055130891
A13: =+TOT_Tav4_1!B9 -> Incendio Ed Elementi Naturali | C13: =+VIG_Tav4_1!C9 -> 1015674 | D13: =+VIG_Tav4_1!D9 -> 0.0624983 | E13: =+VIG_Tav4_1!E9 -> 0.0624983 | F13: =+VIG_Tav4_1!F9 -> 0.089826287
A14: =+TOT_Tav4_1!B10 -> Altri Danni Ai Beni | C14: =+VIG_Tav4_1!C10 -> 932019 | D14: =+VIG_Tav4_1!D10 -> 0.0086916713 | E14: =+VIG_Tav4_1!E10 -> 0.0086916713 | F14: =+VIG_Tav4_1!F10 -> 0.082427832
A15: =+TOT_Tav4_1!B11 -> R.C. Autoveicoli Terrestri | C15: =+VIG_Tav4_1!C11 -> 3380345 | D15: =+VIG_Tav4_1!D11 -> 0.033912541 | E15: =+VIG_Tav4_1!E11 -> 0.033912541 | F15: =+VIG_Tav4_1!F11 -> 0.29895797
A16: =+TOT_Tav4_1!B12 -> R.C. Aeromobili | C16: =+VIG_Tav4_1!C12 -> 2324 | D16: =+VIG_Tav4_1!D12 -> 0.50615684 | E16: =+VIG_Tav4_1!E12 -> 0.50615684 | F16: =+VIG_Tav4_1!F12 -> 0.00020553474
A17: =+TOT_Tav4_1!B13 -> R.C. Veicoli Marittimi, Lacustri E Fluviali | C17: =+VIG_Tav4_1!C13 -> 5546 | D17: =+VIG_Tav4_1!D13 -> 0.037023186 | E17: =+VIG_Tav4_1!E13 -> 0.037023186 | F17: =+VIG_Tav4_1!F13 -> 0.00049048867
... A22: =+TOT_Tav4_1!B18 -> Tutela Legale | C22: =+VIG_Tav4_1!C18 -> 155972 | D22: =+VIG_Tav4_1!D18 -> 0.058549662 | E22: =+VIG_Tav4_1!E18 -> 0.058549662 | F22: =+VIG_Tav4_1!F18 -> 0.013794176
A23: Assistenza | C23: =+VIG_Tav4_1!C19 -> 304820 | D23: =+VIG_Tav4_1!D19 -> 0.077826102 | E23: =+VIG_Tav4_1!E19 -> 0.077826102 | F23: =+VIG_Tav4_1!F19 -> 0.026958304
A24: =+TOT_Tav4_1!B20 -> TOTALE | C24: =+VIG_Tav4_1!C20 -> 11307091 | D24: =+VIG_Tav4_1!D20 -> 0.044685612 | E24: =+VIG_Tav4_1!E20 -> 0.044685612 | F24: =+VIG_Tav4_1!F20 -> 1
A28: ="Distribuzione per canale distributivo dei premi lordi "&IF(MID(VIG_Tav4_2!C1,5,4)="0331","1°", IF(MID(VIG_Tav4_2!C1,5,4)="0630","2°", IF(MID(VIG_Tav4_2!C1,5,4)="0930","3°","4°")))&" trimestre "&MID(TOT_Tav4_1!C1,1,4) -> Distribuzione per canale distributivo dei premi lordi 1° trimestre 2026
H29: Importi in migliaia di EURO
C30: Totale rami danni | F30: R.c.autoveicoli terrestri
C31: raccolta | D31: variazione - anno precedente | E31: incidenza | F31: raccolta | G31: variazione - anno precedente | H31: incidenza
A32: =+VIG_Tav4_2!B2 -> Agenzie con mandato | C32: =+VIG_Tav4_2!C2 -> 7800084 | D32: =+VIG_Tav4_2!D2 -> 0.04007402 | E32: =+VIG_Tav4_2!E2 -> 0.68984003 | F32: =+VIG_Tav4_2!F2 -> 2877076 | G32: =+VIG_Tav4_2!G2 -> 0.019718286 | H32: =+VIG_Tav4_2!H2 -> 0.85111904
A33: Consulenti finanziari | C33: =+VIG_Tav4_2!C3 -> 56203 | D33: =+VIG_Tav4_2!D3 -> 0.13828861 | E33: =+VIG_Tav4_2!E3 -> 0.0049705977 | F33: =+VIG_Tav4_2!F3 -> 0 | G33: =+VIG_Tav4_2!G3 -> 0 | H33: =+VIG_Tav4_2!H3 -> 0
A34: =+VIG_Tav4_2!B4 -> Sportelli bancari e postali | C34: =+VIG_Tav4_2!C4 -> 1190818 | D34: =+VIG_Tav4_2!D4 -> 0.090159237 | E34: =+VIG_Tav4_2!E4 -> 0.10531604 | F34: =+VIG_Tav4_2!F4 -> 82484 | G34: =+VIG_Tav4_2!G4 -> 0.018497024 | H34: =+VIG_Tav4_2!H4 -> 0.02440106
A35: =+VIG_Tav4_2!B5 -> Brokers | C35: =+VIG_Tav4_2!C5 -> 1176578 | D35: =+VIG_Tav4_2!D5 -> -0.041757544 | E35: =+VIG_Tav4_2!E5 -> 0.10405665 | F35: =+VIG_Tav4_2!F5 -> 175369 | G35: =+VIG_Tav4_2!G5 -> 0.017693825 | H35: =+VIG_Tav4_2!H5 -> 0.051879024
A36: =+VIG_Tav4_2!B6 -> Agenzie in economia e gerenze | C36: =+VIG_Tav4_2!C6 -> 690554 | D36: =+VIG_Tav4_2!D6 -> 0.28390365 | E36: =+VIG_Tav4_2!E6 -> 0.061072649 | F36: =+VIG_Tav4_2!F6 -> 56520 | G36: =+VIG_Tav4_2!G6 -> 2.1095951 | H36: =+VIG_Tav4_2!H6 -> 0.016720187
A37: =+VIG_Tav4_2!B7 &" (a)" -> Altre forme di vendita diretta (a) | C37: =+VIG_Tav4_2!C7 -> 392854 | D37: =+VIG_Tav4_2!D7 -> -0.056723284 | E37: =+VIG_Tav4_2!E7 -> 0.034744038 | F37: =+VIG_Tav4_2!F7 -> 188896 | G37: =+VIG_Tav4_2!G7 -> 0.0699595 | H37: =+VIG_Tav4_2!H7 -> 0.055880687
A38: =+VIG_Tav4_2!B8 -> TOTALE | C38: =+VIG_Tav4_2!C8 -> 11307091 | D38: =+VIG_Tav4_2!D8 -> 0.044685612 | E38: =+VIG_Tav4_2!E8 -> 1 | F38: =+VIG_Tav4_2!F8 -> 3380345 | G38: =+VIG_Tav4_2!G8 -> 0.033912541 | H38: =+VIG_Tav4_2!H8 -> 1
A40: (a) Il dato comprende anche i premi acquisiti attraverso il canale telefonico e il canale internet

Sheet RAPPR_Tav1
A1: POSIZ | B1: NOME | C1: 20260331_01 - Premi lordi contabilizzati - Annui | D1: 20260331_02 - Premi lordi contabilizzati - Unici | E1: 20260331_03 - Premi lordi contabilizzati - Ricorrenti | F1: 20260331_04 - Premi lordi contabilizzati - Totale | G1: 20260331_05 - Premi lordi contabilizzati - Di cui(**) di prima annualità | H1: varAnnua04 | I1: varAnnuaOmog04 | J1: incidenza04
A2: 1 | B2: RAMO I - ASSICURAZIONI INDIVIDUALI - popolari, adeguabili e indicizzate | C2: 0 | D2: 0 | E2: 0 | F2: 0 | G2: 0 | J2: 0
A3: 2 | B3: RAMO I - ASSICURAZIONI INDIVIDUALI - rivalutabili | C3: 5177 | D3: 73969 | E3: 10116 | F3: 89262 | G3: 0 | H3: 1.1279203 | I3: 1.1279203 | J3: 0.10849713
A4: 3 | B4: RAMO I - ASSICURAZIONI INDIVIDUALI - rivalutabili - di cui: polizze in valuta | C4: 0 | D4: 0 | E4: 0 | F4: 0 | G4: 0 | J4: 0
A5: 4 | B5: RAMO I - ASSICURAZIONI INDIVIDUALI - rivalutabili - di cui: contratti ex art. 13, comma 1, lett. b) d.lgs. 252/05 | C5: 0 | D5: 0 | E5: 9755 | F5: 9755 | G5: 0 | H5: 0.023824517 | I5: 0.023824517 | J5: 0.011857112
A6: 5 | B6: RAMO I - ASSICURAZIONI INDIVIDUALI - temporanee di puro rischio | C6: 3213 | D6: 52981 | E6: 9163 | F6: 65357 | G6: 3670 | H6: -0.063492291 | I6: -0.063492291 | J6: 0.079440826
A7: 6 | B7: RAMO I - ASSICURAZIONI INDIVIDUALI - altre | C7: 0 | D7: 0 | E7: 1 | F7: 1 | G7: 0 | H7: -0.5 | I7: -0.5 | J7: 1.2154907e-06
A8: 7 | B8: RAMO I - ASSICURAZIONI INDIVIDUALI - TOTALE INDIVIDUALI | C8: 8390 | D8: 126950 | E8: 19280 | F8: 154620 | G8: 3670 | H8: 0.38377275 | I8: 0.38377275 | J8: 0.18793917
A9: 8 | B9: RAMO I - ASSICURAZIONI COLLETTIVE - T.F.R. di legge | C9: 0 | D9: 0 | E9: 0 | F9: 0 | G9: 0 | J9: 0
A10: 9 | B10: RAMO I - ASSICURAZIONI COLLETTIVE - tempor. di gruppo e altre di rischio | C10: 25527 | D10: 102926 | E10: 13398 | F10: 141851 | G10: 9802 | H10: 0.099816246 | I10: 0.099816246 | J10: 0.17241857
A11: 10 | B11: RAMO I - ASSICURAZIONI COLLETTIVE - previdenziali | C11: 0 | D11: 0 | E11: 0 | F11: 0 | G11: 0 | J11: 0
A12: 11 | B12: RAMO I - TOTALE COLLETTIVE | C12: 25527 | D12: 102926 | E12: 13398 | F12: 141851 | G12: 9802 | H12: 0.099816246 | I12: 0.099816246 | J12: 0.17241857
A13: 12 | B13: TOTALE RAMO I | C13: 33917 | D13: 229876 | E13: 32678 | F13: 296471 | G13: 13472 | H13: 0.23162661 | I13: 0.23162661 | J13: 0.36035774
A14: 13 | B14: TOTALE RAMO II | C14: 0 | D14: 0 | E14: 0 | F14: 0 | G14: 0 | J14: 0
A15: 14 | B15: RAMO III - ASSICURAZIONI INDIVIDUALI - connesse con fondi interni | C15: 514 | D15: 492168 | E15: 19605 | F15: 512287 | G15: 5289 | H15: -0.1027463 | I15: -0.1027463 | J15: 0.62268008
A16: 15 | B16: RAMO III - ASSICURAZIONI INDIVIDUALI - connesse con fondi interni - di cui: contratti ex art. 13, comma 1, lett. b) d.lgs. 252/05 | C16: 0 | D16: 0 | E16: 9044 | F16: 9044 | G16: 3464 | H16: 0.029716498 | I16: 0.029716498 | J16: 0.010992898
A17: 16 | B17: RAMO III - ASSICURAZIONI INDIVIDUALI - connesse con quote di OICR | C17: 411 | D17: 4348 | E17: 1185 | F17: 5944 | G17: 0 | H17: -0.1592645 | I17: -0.1592645 | J17: 0.0072248767
A18: 17 | B18: RAMO III - ASSICURAZIONI INDIVIDUALI - connesse con quote di OICR - di cui: contratti ex art. 13, comma 1, lett. b) d.lgs. 252/05 | C18: 0 | D18: 0 | E18: 0 | F18: 0 | G18: 0 | J18: 0
A19: 18 | B19: RAMO III - ASSICURAZIONI INDIVIDUALI - connesse con indice azionario | C19: 0 | D19: 5445 | E19: 0 | F19: 5445 | G19: 0 | J19: 0.0066183469
A20: 19 | B20: RAMO III - ASSICURAZIONI INDIVIDUALI - connesse con altro valore di riferimento | C20: 0 | D20: 0 | E20: 0 | F20: 0 | G20: 0 | J20: 0
A21: 20 | B21: RAMO III - ASSICURAZIONI INDIVIDUALI - TOTALE INDIVIDUALI | C21: 925 | D21: 501961 | E21: 20790 | F21: 523676 | G21: 5289 | H21: -0.094017508 | I21: -0.094017508 | J21: 0.63652331
A22: 21 | B22: RAMO III - ASSICURAZIONI COLLETTIVE | C22: 0 | D22: 0 | E22: 0 | F22: 0 | G22: 0 | J22: 0
A23: 22 | B23: TOTALE RAMO III | C23: 925 | D23: 501961 | E23: 20790 | F23: 523676 | G23: 5289 | H23: -0.094017508 | I23: -0.094017508 | J23: 0.63652331
A24: 23 | B24: TOTALE RAMO IV | C24: 0 | D24: 0 | E24: 0 | F24: 0 | G24: 0 | J24: 0
A25: 24 | B25: RAMO V - OPER.DI CAPITALIZZAZIONE INDIVIDUALI | C25: 0 | D25: 438 | E25: 0 | F25: 438 | G25: 0 | H25: -0.49010477 | I25: -0.49010477 | J25: 0.00053238493
A26: 25 | B26: RAMO V - OPER.DI CAPITALIZZAZIONE INDIVIDUALI - di cui: contratti ex art. 41 d.lgs. 209/05 | C26: 0 | D26: 0 | E26: 0 | F26: 0 | G26: 0 | J26: 0
A27: 26 | B27: RAMO V - OPER.DI CAPITALIZZAZIONE INDIVIDUALI - di cui: connessi con fondi interni | C27: 0 | D27: 0 | E27: 0 | F27: 0 | G27: 0 | J27: 0
A28: 27 | B28: RAMO V - OPER.DI CAPITALIZZAZIONE INDIVIDUALI - di cui: connessi con quote di OICR | C28: 0 | D28: 0 | E28: 0 | F28: 0 | G28: 0 | J28: 0
A29: 28 | B29: RAMO V - OPER.DI CAPITALIZZAZIONE INDIVIDUALI - di cui: connessi con indice azionario | C29: 0 | D29: 0 | E29: 0 | F29: 0 | G29: 0 | J29: 0
A30: 29 | B30: RAMO V - OPER.DI CAPITALIZZAZIONE INDIVIDUALI - di cui: connessi con altro valore di riferimento | C30: 0 | D30: 0 | E30: 0 | F30: 0 | G30: 0 | J30: 0
A31: 30 | B31: RAMO V - OPER.DI CAPITALIZZAZIONE COLLETTIVE | C31: 0 | D31: 6 | E31: 0 | F31: 6 | G31: 0 | H31: -0.53846154 | I31: -0.53846154 | J31: 7.2929442e-06
A32: 31 | B32: RAMO V - OPER.DI CAPITALIZZAZIONE COLLETTIVE - di cui: T.F.R. di legge | C32: 0 | D32: 0 | E32: 0 | F32: 0 | G32: 0 | J32: 0
A33: 32 | B33: TOTALE RAMO V | C33: 0 | D33: 444 | E33: 0 | F33: 444 | G33: 0 | H33: -0.49082569 | I33: -0.49082569 | J33: 0.00053967787
A34: 33 | B34: TOTALE RAMO VI | C34: 0 | D34: 0 | E34: 0 | F34: 0 | G34: 0 | J34: 0
A35: 34 | B35: ASSICURAZIONI COMPLEMENTARI | C35: 864 | D35: 1258 | E35: 0 | F35: 2122 | G35: 628 | H35: 0.19146547 | I35: 0.19146547 | J35: 0.0025792713
A36: 35 | B36: ASSICURAZIONI COMPLEMENTARI - di cui: ramo I | C36: 863 | D36: 1258 | E36: 0 | F36: 2121 | G36: 628 | H36: 0.19157303 | I36: 0.19157303 | J36: 0.0025780558
A37: 36 | B37: ASSICURAZIONI COMPLEMENTARI - di cui: ramo III | C37: 0 | D37: 0 | E37: 0 | F37: 0 | G37: 0 | J37: 0
A38: 37 | B38: ASSICURAZIONI COMPLEMENTARI - di cui: ramo V | C38: 1 | D38: 0 | E38: 0 | F38: 1 | G38: 0 | H38: 0 | I38: 0 | J38: 1.2154907e-06
A39: 38 | B39: ASSICURAZIONI COMPLEMENTARI - di cui: ramo VI | C39: 0 | D39: 0 | E39: 0 | F39: 0 | G39: 0 | J39: 0
A40: 39 | B40: TOTALE | C40: 35706 | D40: 733539 | E40: 53468 | F40: 822713 | G40: 19389 | H40: 0.0016131232 | I40: 0.0016131232 | J40: 1

Sheet RAPPR_Tav2
A1: POSIZ | B1: NOME | C1: 20260331_01 - Agenzie con mandato | D1: varAnnua01 | E1: 20260331_02 - Promotori finanziari | F1: varAnnua02 | G1: 20260331_03 - Sportelli bancari e postali | H1: varAnnua03 | I1: 20260331_04 - Brokers | J1: varAnnua04 | K1: 20260331_05 - Agenzie in economia e gerenze | L1: varAnnua05 | M1: 20260331_06 - Altre forme di vendita diretta | N1: varAnnua06 | O1: 20260331_07 - Totale | P1: varAnnua07 | Q1: incidenza07
A2: 1 | B2: SETTORE INDIVIDUALI - RAMO I | C2: 15578 | D2: -0.39767235 | E2: 2703 | F2: -0.45016273 | G2: 55861 | H2: -0.194808 | I2: 70280 | J2: 8.8749473 | K2: 8213 | L2: 1.9811252 | M2: 1985 | N2: 0.16014027 | O2: 154620 | P2: 0.38377275 | Q2: 0.18842517
A3: 2 | B3: SETTORE INDIVIDUALI - RAMO I - di cui contratti ex art. 13, comma 1, lett. b) d.lgs. 252/05 | C3: 9755 | D3: 0.023824517 | E3: 0 | G3: 0 | I3: 0 | K3: 0 | M3: 0 | O3: 9755 | P3: 0.023824517 | Q3: 0.011887774
A4: 3 | B4: SETTORE INDIVIDUALI - RAMO II | C4: 0 | E4: 0 | G4: 0 | I4: 0 | K4: 0 | M4: 0 | O4: 0 | Q4: 0
A5: 4 | B5: SETTORE INDIVIDUALI - RAMO III | C5: 11397 | D5: -0.15764967 | E5: 317256 | F5: -0.095974491 | G5: 12879 | H5: -0.82820899 | I5: 163238 | J5: 0.41822763 | K5: 11454 | L5: -0.29760226 | M5: 7452 | N5: 0.038316845 | O5: 523676 | P5: -0.094017508 | Q5: 0.63816932
A6: 5 | B6: SETTORE INDIVIDUALI - RAMO III - di cui contratti ex art. 13, comma 1, lett. b) d.lgs. 252/05 | C6: 1582 | D6: 0.00063251107 | E6: 21 | F6: -0.32258065 | G6: 0 | I6: 0 | K6: 4 | L6: 0 | M6: 7437 | N6: 0.037672666 | O6: 9044 | P6: 0.029716498 | Q6: 0.011021325
A7: 6 | B7: SETTORE INDIVIDUALI - RAMO IV | C7: 0 | E7: 0 | G7: 0 | I7: 0 | K7: 0 | M7: 0 | O7: 0 | Q7: 0
A8: 7 | B8: SETTORE INDIVIDUALI - RAMO V | C8: 363 | D8: -0.5774156 | E8: 0 | G8: 3 | I8: 72 | K8: 0 | M8: 0 | O8: 438 | P8: -0.49010477 | Q8: 0.00053376164
A9: 8 | B9: SETTORE INDIVIDUALI - RAMO V - di cui contratti ex art. 41 d.lgs. 209/05 | C9: 0 | E9: 0 | G9: 0 | I9: 0 | K9: 0 | M9: 0 | O9: 0 | Q9: 0
A10: 9 | B10: SETTORE INDIVIDUALI - RAMO VI | C10: 0 | E10: 0 | G10: 0 | I10: 0 | K10: 0 | M10: 0 | O10: 0 | Q10: 0
A11: 10 | B11: TOTALE INDIVIDUALI | C11: 27338 | D11: -0.32082878 | E11: 319959 | F11: -0.10086749 | G11: 68743 | H11: -0.52375905 | I11: 233590 | J11: 0.91127257 | K11: 19667 | L11: 0.031738537 | M11: 9437 | N11: 0.061768677 | O11: 678734 | P11: -0.017206353 | Q11: 0.82712825
A12: 11 | B12: TOTALE INDIVIDUALI - di cui : premi annui | C12: 5465 | D12: 0.038973384 | E12: 18 | F12: -0.052631579 | G12: 281 | H12: -0.096463023 | I12: 2159 | J12: 0.21633803 | K12: 80 | L12: 0 | M12: 1313 | N12: 0.22367195 | O12: 9316 | P12: 0.093683963 | Q12: 0.011352793
A13: 12 | B13: TOTALE INDIVIDUALI - di cui : premi unici | C13: 10922 | D13: -0.55416769 | E13: 312475 | F13: -0.10342305 | G13: 64200 | H13: -0.54022001 | I13: 222688 | J13: 0.97407939 | K13: 18484 | L13: 0.028603228 | M13: 580 | N13: 0.11111111 | O13: 629349 | P13: -0.022671085 | Q13: 0.76694602
A14: 13 | B14: TOTALE INDIVIDUALI - di cui : premi ricorrenti | C14: 10951 | D14: 0.043548694 | E14: 7466 | F14: 0.020782062 | G14: 4262 | H14: -0.031803726 | I14: 8743 | J14: 0.14497119 | K14: 1103 | L14: 0.089920949 | M14: 7544 | N14: 0.034416564 | O14: 40069 | P14: 0.050273912 | Q14: 0.048829441
A15: 14 | B15: SETTORE COLLETTIVE - RAMO I | C15: 20336 | D15: -0.086679242 | E15: 1118 | F15: 0.056710775 | G15: 91086 | H15: 0.2001423 | I15: 23134 | J15: 0.0075783972 | K15: 227 | L15: 0.013392857 | M15: 5950 | N15: -0.094781683 | O15: 141851 | P15: 0.099816246 | Q15: 0.17286444
A16: 15 | B16: SETTORE COLLETTIVE - RAMO II | C16: 0 | E16: 0 | G16: 0 | I16: 0 | K16: 0 | M16: 0 | O16: 0 | Q16: 0
A17: 16 | B17: SETTORE COLLETTIVE - RAMO III | C17: 0 | E17: 0 | G17: 0 | I17: 0 | K17: 0 | M17: 0 | O17: 0 | Q17: 0
A18: 17 | B18: SETTORE COLLETTIVE - RAMO IV | C18: 0 | E18: 0 | G18: 0 | I18: 0 | K18: 0 | M18: 0 | O18: 0 | Q18: 0
A19: 18 | B19: SETTORE COLLETTIVE - RAMO V | C19: 3 | D19: -0.7 | E19: 0 | G19: 3 | H19: 0 | I19: 0 | K19: 0 | M19: 0 | O19: 6 | P19: -0.53846154 | Q19: 7.3118033e-06
A20: 19 | B20: SETTORE COLLETTIVE - RAMO VI | C20: 0 | E20: 0 | G20: 0 | I20: 0 | K20: 0 | M20: 0 | O20: 0 | Q20: 0
A21: 20 | B21: TOTALE COLLETTIVE | C21: 20339 | D21: -0.08695457 | E21: 1118 | F21: 0.056710775 | G21: 91089 | H21: 0.20013439 | I21: 23134 | J21: 0.0075783972 | K21: 227 | L21: 0.013392857 | M21: 5950 | N21: -0.094781683 | O21: 141857 | P21: 0.099751919 | Q21: 0.17287175
A22: 21 | B22: T O T A L E | C22: 47677 | D22: -0.2375096 | E22: 321077 | F22: -0.10040038 | G22: 159832 | H22: -0.27429578 | I22: 256724 | J22: 0.76835174 | K22: 19894 | L22: 0.031525459 | M22: 15387 | N22: -0.0047862363 | O22: 820591 | P22: 0.0012005754 | Q22: 1

Sheet RAPPR_Tav3
A1: POSIZ | B1: NOME | C1: 20260331_01 - Assicurazioni di capitali - Numero polizze/teste | D1: varAnnua01 | E1: 20260331_02 - Assicurazioni di capitali - Somme assicurate | F1: varAnnua02 | G1: 20260331_03 - Assicurazioni di rendite - Numero polizze/teste | H1: varAnnua03 | I1: 20260331_04 - Assicurazioni di tendite - Somme assicurate | J1: varAnnua04 | K1: 20260331_05 - Premi di tariffa - Annui | L1: 20260331_06 - Premi di tariffa - Unici | M1: 20260331_07 - Premi di tariffa - Ricorrenti | N1: 20260331_08 - Premi di tariffa - Totale | O1: varAnnua08 | P1: incidenza08
A2: 1 | B2: RAMO I - ASSICURAZIONI INDIVIDUALI - rivalutabili | C2: 415 | D2: 5.0144928 | E2: 80954 | F2: 7.2070154 | G2: 134 | H2: 1.0615385 | I2: 1645 | J2: 0.26733436 | K2: 0 | L2: 63727 | M2: 15324 | N2: 79051 | O2: 6.0638013 | P2: 0.10106885
A3: 2 | B3: RAMO I - ASSICURAZIONI INDIVIDUALI - rivalutabili - di cui: Polizze in valuta | C3: 0 | E3: 0 | G3: 0 | I3: 0 | K3: 0 | L3: 0 | M3: 0 | N3: 0 | P3: 0
A4: 3 | B4: RAMO I - ASSICURAZIONI INDIVIDUALI - rivalutabili - di cui: contratti ex art. 13, comma 1, lett. b) d.lgs. 252/05 | C4: 0 | E4: 0 | G4: 74 | H4: 1.8461538 | I4: 311 | J4: 61.2 | K4: 0 | L4: 0 | M4: 5 | N4: 5 | O4: 0 | P4: 6.3926357e-06
A5: 4 | B5: RAMO I - ASSICURAZIONI INDIVIDUALI - temporanee di puro rischio | C5: 61803 | D5: 0.026252864 | E5: 1822219 | F5: -0.030510767 | G5: 0 | I5: 0 | K5: 2478 | L5: 77612 | M5: 616 | N5: 80706 | O5: -0.027638554 | P5: 0.10318481
A6: 5 | B6: RAMO I - ASSICURAZIONI INDIVIDUALI - altre | C6: 0 | E6: 0 | G6: 0 | I6: 0 | K6: 0 | L6: 0 | M6: 1102 | N6: 1102 | P6: 0.0014089369
A7: 6 | B7: RAMO I - ASSICURAZIONI INDIVIDUALI - TOTALE INDIVIDUALI | C7: 62218 | D7: 0.031961653 | E7: 1903173 | F7: 0.0072736222 | G7: 134 | H7: 1.0615385 | I7: 1645 | J7: 0.26733436 | K7: 2478 | L7: 141339 | M7: 17042 | N7: 160859 | O7: 0.70779586 | P7: 0.2056626
A8: 7 | B8: RAMO I - ASSICURAZIONI INDIVIDUALI - TOTALE INDIVIDUALI - di cui: deriv. da trasformazione | C8: 0 | E8: 0 | G8: 0 | I8: 0 | K8: 0 | L8: 0 | M8: 0 | N8: 0 | P8: 0
A9: 8 | B9: RAMO I - ASSICURAZIONI INDIVIDUALI - TOTALE INDIVIDUALI - di cui: deriv. da trasferimenti di posiz. previd. a contratti ex art. 13, co. 1, lett. b), d.lgs. 252/05 | C9: 0 | E9: 0 | G9: 0 | I9: 0 | K9: 0 | L9: 0 | M9: 0 | N9: 0 | P9: 0
A10: 9 | B10: RAMO I - ASSICURAZIONI COLLETTIVE - T.F.R. di legge | C10: 386406 | E10: 1603398 | G10: 0 | I10: 0 | K10: 1984 | L10: 44844 | M10: 0 | N10: 46828 | P10: 0.059870869
A11: 10 | B11: RAMO I - ASSICURAZIONI COLLETTIVE - tempor. di gruppo e altre di rischio | C11: 95275 | D11: -0.78192002 | E11: 49696911 | F11: -0.0059494324 | G11: 0 | I11: 0 | K11: 2583 | L11: 86746 | M11: 0 | N11: 89329 | O11: -0.28556233 | P11: 0.11420955
A12: 11 | B12: RAMO I - ASSICURAZIONI COLLETTIVE - previdenziali | C12: 0 | E12: 0 | G12: 0 | I12: 0 | K12: 0 | L12: 0 | M12: 0 | N12: 0 | P12: 0
A13: 12 | B13: RAMO I - ASSICURAZIONI COLLETTIVE - TOTALE COLLETTIVE | C13: 481681 | D13: 0.10254509 | E13: 51300309 | F13: 0.026122152 | G13: 0 | I13: 0 | K13: 4567 | L13: 131590 | M13: 0 | N13: 136157 | O13: 0.088959803 | P13: 0.17408042
A14: 13 | B14: TOTALE RAMO I | C14: 543899 | D14: 0.093985582 | E14: 53203482 | F14: 0.025435753 | G14: 134 | H14: 1.0615385 | I14: 1645 | J14: 0.26733436 | K14: 7045 | L14: 272929 | M14: 17042 | N14: 297016 | O14: 0.35484548 | P14: 0.37974302
A15: 14 | B15: TOTALE RAMO II | C15: 0 | E15: 0 | G15: 0 | I15: 0 | K15: 0 | L15: 0 | M15: 0 | N15: 0 | P15: 0
A16: 15 | B16: RAMO III - ASSICURAZIONI INDIVIDUALI - connesse con fondi interni | C16: 5140 | D16: -0.15293342 | E16: 446786 | F16: -0.087036659 | G16: 321 | H16: 0.09556314 | I16: 7434 | J16: 0.037688442 | K16: 0 | L16: 463237 | M16: 10048 | N16: 473285 | O16: -0.088597381 | P16: 0.60510772
A17: 16 | B17: RAMO III - ASSICURAZIONI INDIVIDUALI - connesse con fondi interni - di cui: art. 13, comma 1, lett. b) d.lgs. 252/05 | C17: 0 | E17: 0 | G17: 321 | H17: 0.09556314 | I17: 7434 | J17: 0.037688442 | K17: 0 | L17: 0 | M17: 7437 | N17: 7437 | O17: 0.037672666 | P17: 0.0095084063
A18: 17 | B18: RAMO III - ASSICURAZIONI INDIVIDUALI - connesse con quote di OICR | C18: 70 | D18: -0.014084507 | E18: 6211 | F18: 0.16158594 | G18: 0 | I18: 0 | K18: 0 | L18: 4251 | M18: 0 | N18: 4251 | O18: -0.20926339 | P18: 0.0054350189
A19: 18 | B19: RAMO III - ASSICURAZIONI INDIVIDUALI - connesse con quote di OICR - di cui: art. 13, comma 1, lett. b) d.lgs. 252/05 | C19: 0 | E19: 0 | G19: 0 | I19: 0 | K19: 0 | L19: 0 | M19: 0 | N19: 0 | P19: 0
A20: 19 | B20: RAMO III - ASSICURAZIONI INDIVIDUALI - connesse con indice azionario | C20: 0 | E20: 5418 | G20: 0 | I20: 0 | K20: 0 | L20: 5445 | M20: 0 | N20: 5445 | P20: 0.0069615803
A21: 20 | B21: RAMO III - ASSICURAZIONI INDIVIDUALI - connesse con altro valore di riferimento | C21: 0 | E21: 0 | G21: 0 | I21: 0 | K21: 0 | L21: 0 | M21: 0 | N21: 0 | P21: 0
A22: 21 | B22: RAMO III - TOTALE INDIVIDUALI | C22: 5210 | D22: -0.15132758 | E22: 458415 | F22: -0.073398056 | G22: 321 | H22: 0.09556314 | I22: 7434 | J22: 0.037688442 | K22: 0 | L22: 472933 | M22: 10048 | N22: 482981 | O22: -0.079455809 | P22: 0.61750432
A23: 22 | B23: RAMO III - TOTALE INDIVIDUALI - ASSICURAZIONI INDIVIDUALI - di cui: deriv. da trasferimenti di posiz. previd. a contratti ex art. 9-ter d.lgs. 124/93 | C23: 0 | E23: 0 | G23: 0 | I23: 0 | K23: 0 | L23: 0 | M23: 0 | N23: 0 | P23: 0
A24: 23 | B24: RAMO III - ASSICURAZIONI COLLETTIVE | C24: 0 | E24: 0 | G24: 0 | I24: 0 | K24: 0 | L24: 0 | M24: 0 | N24: 0 | P24: 0
A25: 24 | B25: TOTALE RAMO III | C25: 5210 | D25: -0.15132758 | E25: 458415 | F25: -0.073398056 | G25: 321 | H25: 0.09556314 | I25: 7434 | J25: 0.037688442 | K25: 0 | L25: 472933 | M25: 10048 | N25: 482981 | O25: -0.079455809 | P25: 0.61750432
A26: 25 | B26: TOTALE RAMO IV | C26: 0 | E26: 0 | G26: 0 | I26: 0 | K26: 0 | L26: 0 | M26: 0 | N26: 0 | P26: 0
A27: 26 | B27: RAMO V - OPER.DI CAPITALIZZAZIONE INDIVIDUALI | C27: 0 | E27: 0 | G27: 0 | I27: 0 | K27: 0 | L27: 0 | M27: 0 | N27: 0 | P27: 0
A28: 27 | B28: RAMO V - OPER.DI CAPITALIZZAZIONE INDIVIDUALI - di cui: contratti ex art. 41 d.lgs. 209/05 | C28: 0 | E28: 0 | G28: 0 | I28: 0 | K28: 0 | L28: 0 | M28: 0 | N28: 0 | P28: 0
A29: 28 | B29: RAMO V - OPER.DI CAPITALIZZAZIONE INDIVIDUALI - di cui: connessi con fondi interni | C29: 0 | E29: 0 | G29: 0 | I29: 0 | K29: 0 | L29: 0 | M29: 0 | N29: 0 | P29: 0
A30: 29 | B30: RAMO V - OPER.DI CAPITALIZZAZIONE INDIVIDUALI - di cui: connessi con quote di OICR | C30: 0 | E30: 0 | G30: 0 | I30: 0 | K30: 0 | L30: 0 | M30: 0 | N30: 0 | P30: 0
A31: 30 | B31: RAMO V - OPER.DI CAPITALIZZAZIONE INDIVIDUALI - di cui: connessi con indice azionario | C31: 0 | E31: 0 | G31: 0 | I31: 0 | K31: 0 | L31: 0 | M31: 0 | N31: 0 | P31: 0
A32: 31 | B32: RAMO V - OPER.DI CAPITALIZZAZIONE INDIVIDUALI - di cui: connessi con altro valore di riferimento | C32: 0 | E32: 0 | G32: 0 | I32: 0 | K32: 0 | L32: 0 | M32: 0 | N32: 0 | P32: 0
A33: 32 | B33: RAMO V - OPER.DI CAPITALIZZAZIONE COLLETTIVE | C33: 0 | E33: 0 | G33: 0 | I33: 0 | K33: 0 | L33: 0 | M33: 0 | N33: 0 | P33: 0
A34: 33 | B34: RAMO V - OPER.DI CAPITALIZZAZIONE COLLETTIVE - di cui: T.F.R. di legge | C34: 0 | E34: 0 | G34: 0 | I34: 0 | K34: 0 | L34: 0 | M34: 0 | N34: 0 | P34: 0
A35: 34 | B35: TOTALE RAMO V | C35: 0 | E35: 0 | G35: 0 | I35: 0 | K35: 0 | L35: 0 | M35: 0 | N35: 0 | P35: 0
A36: 35 | B36: TOTALE RAMO VI | C36: 0 | E36: 0 | G36: 0 | I36: 0 | K36: 0 | L36: 0 | M36: 0 | N36: 0 | P36: 0
A37: 36 | B37: ASSICURAZIONI COMPLEMENTARI | C37: 25043 | D37: 0.079253577 | E37: 455555 | F37: 0.095890246 | G37: 0 | I37: 0 | K37: 60 | L37: 2093 | M37: 0 | N37: 2153 | O37: 0.10922205 | P37: 0.0027526689
A38: 37 | B38: ASSICURAZIONI COMPLEMENTARI - di cui: ramo I | C38: 25043 | D38: 0.079253577 | E38: 455555 | F38: 0.095890246 | G38: 0 | I38: 0 | K38: 60 | L38: 2093 | M38: 0 | N38: 2153 | O38: 0.10922205 | P38: 0.0027526689
A39: 38 | B39: ASSICURAZIONI COMPLEMENTARI - di cui: ramo III | C39: 0 | E39: 0 | G39: 0 | I39: 0 | K39: 0 | L39: 0 | M39: 0 | N39: 0 | P39: 0
A40: 39 | B40: ASSICURAZIONI COMPLEMENTARI - di cui: ramo V | C40: 0 | E40: 0 | G40: 0 | I40: 0 | K40: 0 | L40: 0 | M40: 0 | N40: 0 | P40: 0
A41: 40 | B41: ASSICURAZIONI COMPLEMENTARI - di cui: ramo VI | C41: 0 | E41: 0 | G41: 0 | I41: 0 | K41: 0 | L41: 0 | M41: 0 | N41: 0 | P41: 0
A42: 41 | B42: TOTALE | C42: 549109 | D42: 0.090993441 | E42: 54117452 | F42: 0.025064344 | G42: 455 | H42: 0.27094972 | I42: 9079 | J42: 0.072914205 | K42: 7105 | L42: 747955 | M42: 27090 | N42: 782150 | O42: 0.048690394 | P42: 1
A43: 42 | B43: ASSICURAZIONI ED OPERAZIONI DI CAPITALIZZAZIONE COLLETTIVE - a tutto il trimestre: | C43: 0 | E43: 0 | G43: 0 | I43: 0 | K43: 0 | L43: 0 | M43: 0 | N43: 0 | P43: 0
A44: 43 | B44: ASSICURAZIONI ED OPERAZIONI DI CAPITALIZZAZIONE COLLETTIVE - 1° gennaio (valori complessivi): | C44: 0 | E44: 0 | G44: 0 | I44: 0 | K44: 0 | L44: 0 | M44: 0 | N44: 0 | P44: 0

Sheet RAPPR_Tav4_1
A1: POSIZ | B1: NOME | C1: 20260331_01 - PREMI | D1: varAnnua01 | E1: varAnnuaOmog01 | F1: incidenza01
A2: 1 | B2: Infortuni | C2: 201590 | D2: 0.065446839 | E2: 0.065446839 | F2: 0.082351917
A3: 2 | B3: Malattia | C3: 135899 | D3: 0.13111548 | E3: 0.13111548 | F3: 0.055516361
A4: 3 | B4: Corpi di Veicoli Terrestri | C4: 181247 | D4: 0.15444684 | E4: 0.15444684 | F4: 0.07404156
A5: 4 | B5: Corpi di veicoli Ferroviari | C5: 0 | F5: 0
A6: 5 | B6: Corpi di Veicoli Aerei | C6: 1742 | D6: -0.21848362 | E6: -0.21848362 | F6: 0.00071162776
A7: 6 | B7: Corpi di Veicoli Marittimi,Lacustri e Fluviali | C7: 16793 | D7: -0.56333047 | E7: -0.56333047 | F7: 0.0068601406
A8: 7 | B8: Merci Trasportate | C8: 64998 | D8: -0.010293267 | E8: -0.010293267 | F8: 0.026552458
A9: 8 | B9: Incendio Ed Elementi Naturali | C9: 146164 | D9: 0.10073199 | E9: 0.10073199 | F9: 0.059709736
A10: 9 | B10: Altri Danni Ai Beni | C10: 195986 | D10: 0.02012284 | E10: 0.02012284 | F10: 0.080062617
A11: 10 | B11: R.C. Autoveicoli Terrestri | C11: 496886 | D11: 0.057453994 | E11: 0.057453994 | F11: 0.20298385
A12: 11 | B12: R.C. Aeromobili | C12: 2513 | D12: 0.0358615 | E12: 0.0358615 | F12: 0.0010265904
A13: 12 | B13: R.C. Veicoli Marittimi, Lacustri E Fluviali | C13: 694 | D13: -0.73152805 | E13: -0.73152805 | F13: 0.00028350727
A14: 13 | B14: R.C. Generale | C14: 536645 | D14: -0.06906972 | E14: -0.06906972 | F14: 0.21922588
A15: 14 | B15: Credito | C15: 188031 | D15: -0.090543697 | E15: -0.090543697 | F15: 0.076812904
A16: 15 | B16: Cauzione | C16: 72909 | D16: -0.054921837 | E16: -0.054921837 | F16: 0.029784195
A17: 16 | B17: Perdite Pecuniarie Di Vario Genere | C17: 86500 | D17: -0.00043911345 | E17: -0.00043911345 | F17: 0.035336281
... A20: 19 | B20: TOTALE | C20: 2447909 | D20: 0.0056500076 | E20: 0.0056500076 | F20: 1

Sheet RAPPR_Tav4_2
A1: POSIZ | B1: NOME | C1: 20260331_01 - Totale rami danni | D1: varAnnua01 | E1: incidenza01 | F1: 20260331_02 - di: R.C. Autoveicoli terrestri | G1: varAnnua02 | H1: incidenza02
A2: 1 | B2: Agenzie con mandato | C2: 1186098 | D2: 0.035441292 | E2: 0.48453517 | F2: 459246 | G2: 0.074139044 | H2: 0.92424822
A3: 2 | B3: Promotori finanziari | C3: 25035 | D3: 1.2332739 | E3: 0.010227096 | F3: 212 | H3: 0.00042665722
A4: 3 | B4: Sportelli bancari e postali | C4: 110085 | D4: 0.13673678 | E4: 0.044971034 | F4: 49 | G4: -0.02 | H4: 9.8614169e-05
A5: 4 | B5: Brokers | C5: 991340 | D5: -0.042718173 | E5: 0.4049742 | F5: 34832 | G5: -0.068912056 | H5: 0.070100586
A6: 5 | B6: Agenzie in economia e gerenze | C6: 43551 | D6: -0.13762104 | E6: 0.017791103 | F6: 2372 | G6: -0.21038615 | H6: 0.0047737308
A7: 6 | B7: Altre forme di vendita diretta | C7: 91800 | D7: -0.028818078 | E7: 0.037501394 | F7: 175 | G7: -0.90676612 | H7: 0.00035219346
A8: 7 | B8: TOTALE | C8: 2447909 | D8: 0.0056500076 | E8: 1 | F8: 496886 | G8: 0.057453994 | H8: 1

Sheet B - Tavola 1
A1: ASSICURAZIONI VITA: RAPPRESENTANZE DI IMPRESE SEE (a)
A2: Lavoro diretto
A3: ="Premi lordi contabilizzati a tutto il "&IF(MID(RAPPR_Tav1!C1,5,4)="0331","1°", IF(MID(RAPPR_Tav1!C1,5,4)="0630","2°", IF(MID(RAPPR_Tav1!C1,5,4)="0930","3°","4°")))&" trimestre "&MID(RAPPR_Tav1!C1,1,4) -> Premi lordi contabilizzati a tutto il 1° trimestre 2026
K4: Importi in migliaia di EURO
A5: CATEGORIE | D5: Premi e rate di premi
D6: Annui | E6: Unici | F6: Ricorrenti | G6: Di cui di prima annualità (b) | H6: Totale | I6: variazione - anno precedente | J6: variazione a perim. omogeneo - anno precedente | K6: incidenza
A8: RAMO I: | B8: ASSICURAZIONI INDIVIDUALI
B9: popolari, adeguabili e indicizzate | D9: =+RAPPR_Tav1!C2 -> 0 | E9: =+RAPPR_Tav1!D2 -> 0 | F9: =+RAPPR_Tav1!E2 -> 0 | G9: =+RAPPR_Tav1!G2 -> 0 | H9: =+RAPPR_Tav1!F2 -> 0 | I9: =+RAPPR_Tav1!H2 -> 0 | J9: =+RAPPR_Tav1!I2 -> 0 | K9: =+RAPPR_Tav1!J2 -> 0
B10: rivalutabili | D10: =+RAPPR_Tav1!C3 -> 5177 | E10: =+RAPPR_Tav1!D3 -> 73969 | F10: =+RAPPR_Tav1!E3 -> 10116 | G10: =+RAPPR_Tav1!G3 -> 0 | H10: =+RAPPR_Tav1!F3 -> 89262 | I10: =+RAPPR_Tav1!H3 -> 1.1279203 | J10: =+RAPPR_Tav1!I3 -> 1.1279203 | K10: =+RAPPR_Tav1!J3 -> 0.10849713
B11: di cui: | C11: polizze in valuta | D11: =+RAPPR_Tav1!C4 -> 0 | E11: =+RAPPR_Tav1!D4 -> 0 | F11: =+RAPPR_Tav1!E4 -> 0 | G11: =+RAPPR_Tav1!G4 -> 0 | H11: =+RAPPR_Tav1!F4 -> 0 | I11: =+RAPPR_Tav1!H4 -> 0 | J11: =+RAPPR_Tav1!I4 -> 0 | K11: =+RAPPR_Tav1!J4 -> 0
C12: art. 13, co. 1, lett. b), d.lgs. 252/05 | D12: =+RAPPR_Tav1!C5 -> 0 | E12: =+RAPPR_Tav1!D5 -> 0 | F12: =+RAPPR_Tav1!E5 -> 9755 | G12: =+RAPPR_Tav1!G5 -> 0 | H12: =+RAPPR_Tav1!F5 -> 9755 | I12: =+RAPPR_Tav1!H5 -> 0.023824517 | J12: =+RAPPR_Tav1!I5 -> 0.023824517 | K12: =+RAPPR_Tav1!J5 -> 0.011857112
B13: temporanee di puro rischio | D13: =+RAPPR_Tav1!C6 -> 3213 | E13: =+RAPPR_Tav1!D6 -> 52981 | F13: =+RAPPR_Tav1!E6 -> 9163 | G13: =+RAPPR_Tav1!G6 -> 3670 | H13: =+RAPPR_Tav1!F6 -> 65357 | I13: =+RAPPR_Tav1!H6 -> -0.063492291 | J13: =+RAPPR_Tav1!I6 -> -0.063492291 | K13: =+RAPPR_Tav1!J6 -> 0.079440826
B14: altre | D14: =+RAPPR_Tav1!C7 -> 0 | E14: =+RAPPR_Tav1!D7 -> 0 | F14: =+RAPPR_Tav1!E7 -> 1 | G14: =+RAPPR_Tav1!G7 -> 0 | H14: =+RAPPR_Tav1!F7 -> 1 | I14: =+RAPPR_Tav1!H7 -> -0.5 | J14: =+RAPPR_Tav1!I7 -> -0.5 | K14: =+RAPPR_Tav1!J7 -> 1.2154907e-06
B15: TOTALE INDIVIDUALI | D15: =+RAPPR_Tav1!C8 -> 8390 | E15: =+RAPPR_Tav1!D8 -> 126950 | F15: =+RAPPR_Tav1!E8 -> 19280 | G15: =+RAPPR_Tav1!G8 -> 3670 | H15: =+RAPPR_Tav1!F8 -> 154620 | I15: =+RAPPR_Tav1!H8 -> 0.38377275 | J15: =+RAPPR_Tav1!I8 -> 0.38377275 | K15: =+RAPPR_Tav1!J8 -> 0.18793917
B16: ASSICURAZIONI COLLETTIVE
B17: T.F.R. di legge | D17: =+RAPPR_Tav1!C9 -> 0 | E17: =+RAPPR_Tav1!D9 -> 0 | F17: =+RAPPR_Tav1!E9 -> 0 | G17: =+RAPPR_Tav1!G9 -> 0 | H17: =+RAPPR_Tav1!F9 -> 0 | I17: =+RAPPR_Tav1!H9 -> 0 | J17: =+RAPPR_Tav1!I9 -> 0 | K17: =+RAPPR_Tav1!J9 -> 0
B18: temporanee di gruppo e altre di rischio | D18: =+RAPPR_Tav1!C10 -> 25527 | E18: =+RAPPR_Tav1!D10 -> 102926 | F18: =+RAPPR_Tav1!E10 -> 13398 | G18: =+RAPPR_Tav1!G10 -> 9802 | H18: =+RAPPR_Tav1!F10 -> 141851 | I18: =+RAPPR_Tav1!H10 -> 0.099816246 | J18: =+RAPPR_Tav1!I10 -> 0.099816246 | K18: =+RAPPR_Tav1!J10 -> 0.17241857
B19: previdenziali | D19: =+RAPPR_Tav1!C11 -> 0 | E19: =+RAPPR_Tav1!D11 -> 0 | F19: =+RAPPR_Tav1!E11 -> 0 | G19: =+RAPPR_Tav1!G11 -> 0 | H19: =+RAPPR_Tav1!F11 -> 0 | I19: =+RAPPR_Tav1!H11 -> 0 | J19: =+RAPPR_Tav1!I11 -> 0 | K19: =+RAPPR_Tav1!J11 -> 0
B20: TOTALE COLLETTIVE | D20: =+RAPPR_Tav1!C12 -> 25527 | E20: =+RAPPR_Tav1!D12 -> 102926 | F20: =+RAPPR_Tav1!E12 -> 13398 | G20: =+RAPPR_Tav1!G12 -> 9802 | H20: =+RAPPR_Tav1!F12 -> 141851 | I20: =+RAPPR_Tav1!H12 -> 0.099816246 | J20: =+RAPPR_Tav1!I12 -> 0.099816246 | K20: =+RAPPR_Tav1!J12 -> 0.17241857
A21: TOTALE RAMO I | D21: =+RAPPR_Tav1!C13 -> 33917 | E21: =+RAPPR_Tav1!D13 -> 229876 | F21: =+RAPPR_Tav1!E13 -> 32678 | G21: =+RAPPR_Tav1!G13 -> 13472 | H21: =+RAPPR_Tav1!F13 -> 296471 | I21: =+RAPPR_Tav1!H13 -> 0.23162661 | J21: =+RAPPR_Tav1!I13 -> 0.23162661 | K21: =+RAPPR_Tav1!J13 -> 0.36035774
A22: TOTALE RAMO II | D22: =+RAPPR_Tav1!C14 -> 0 | E22: =+RAPPR_Tav1!D14 -> 0 | F22: =+RAPPR_Tav1!E14 -> 0 | G22: =+RAPPR_Tav1!G14 -> 0 | H22: =+RAPPR_Tav1!F14 -> 0 | I22: - | J22: - | K22: -
A23: RAMO III: | B23: ASSICURAZIONI INDIVIDUALI
B24: connesse con fondi interni | D24: =+RAPPR_Tav1!C15 -> 514 | E24: =+RAPPR_Tav1!D15 -> 492168 | F24: =+RAPPR_Tav1!E15 -> 19605 | G24: =+RAPPR_Tav1!G15 -> 5289 | H24: =+RAPPR_Tav1!F15 -> 512287 | I24: =+RAPPR_Tav1!H15 -> -0.1027463 | J24: =+RAPPR_Tav1!I15 -> -0.1027463 | K24: =+RAPPR_Tav1!J15 -> 0.62268008
B25: di cui: | C25: art. 13, co. 1, lett. b), d.lgs. 252/05 | D25: =+RAPPR_Tav1!C16 -> 0 | E25: =+RAPPR_Tav1!D16 -> 0 | F25: =+RAPPR_Tav1!E16 -> 9044 | G25: =+RAPPR_Tav1!G16 -> 3464 | H25: =+RAPPR_Tav1!F16 -> 9044 | I25: =+RAPPR_Tav1!H16 -> 0.029716498 | J25: =+RAPPR_Tav1!I16 -> 0.029716498 | K25: =+RAPPR_Tav1!J16 -> 0.010992898
B26: connesse con fondi esterni | D26: =+RAPPR_Tav1!C17 -> 411 | E26: =+RAPPR_Tav1!D17 -> 4348 | F26: =+RAPPR_Tav1!E17 -> 1185 | G26: =+RAPPR_Tav1!G17 -> 0 | H26: =+RAPPR_Tav1!F17 -> 5944 | I26: =+RAPPR_Tav1!H17 -> -0.1592645 | J26: =+RAPPR_Tav1!I17 -> -0.1592645 | K26: =+RAPPR_Tav1!J17 -> 0.0072248767
B27: di cui: | C27: art. 13, co. 1, lett. b), d.lgs. 252/05 | D27: =+RAPPR_Tav1!C18 -> 0 | E27: =+RAPPR_Tav1!D18 -> 0 | F27: =+RAPPR_Tav1!E18 -> 0 | G27: =+RAPPR_Tav1!G18 -> 0 | H27: =+RAPPR_Tav1!F18 -> 0 | I27: =+RAPPR_Tav1!H18 -> 0 | J27: =+RAPPR_Tav1!I18 -> 0 | K27: =+RAPPR_Tav1!J18 -> 0
B28: connesse con indice azionario | D28: =+RAPPR_Tav1!C19 -> 0 | E28: =+RAPPR_Tav1!D19 -> 5445 | F28: =+RAPPR_Tav1!E19 -> 0 | G28: =+RAPPR_Tav1!G19 -> 0 | H28: =+RAPPR_Tav1!F19 -> 5445 | I28: - | J28: - | K28: -
B29: connesse con altro valore di riferimento | D29: =+RAPPR_Tav1!C20 -> 0 | E29: =+RAPPR_Tav1!D20 -> 0 | F29: =+RAPPR_Tav1!E20 -> 0 | G29: =+RAPPR_Tav1!G20 -> 0 | H29: =+RAPPR_Tav1!F20 -> 0 | I29: =+RAPPR_Tav1!H20 -> 0 | J29: =+RAPPR_Tav1!I20 -> 0 | K29: =+RAPPR_Tav1!J20 -> 0
B30: TOTALE INDIVIDUALI | D30: =+RAPPR_Tav1!C21 -> 925 | E30: =+RAPPR_Tav1!D21 -> 501961 | F30: =+RAPPR_Tav1!E21 -> 20790 | G30: =+RAPPR_Tav1!G21 -> 5289 | H30: =+RAPPR_Tav1!F21 -> 523676 | I30: =+RAPPR_Tav1!H21 -> -0.094017508 | J30: =+RAPPR_Tav1!I21 -> -0.094017508 | K30: =+RAPPR_Tav1!J21 -> 0.63652331
B31: ASSICURAZIONI COLLETTIVE | D31: =+RAPPR_Tav1!C22 -> 0 | E31: =+RAPPR_Tav1!D22 -> 0 | F31: =+RAPPR_Tav1!E22 -> 0 | G31: =+RAPPR_Tav1!G22 -> 0 | H31: =+RAPPR_Tav1!F22 -> 0 | I31: =+RAPPR_Tav1!H22 -> 0 | J31: =+RAPPR_Tav1!I22 -> 0 | K31: =+RAPPR_Tav1!J22 -> 0
A32: TOTALE RAMO III | D32: =+RAPPR_Tav1!C23 -> 925 | E32: =+RAPPR_Tav1!D23 -> 501961 | F32: =+RAPPR_Tav1!E23 -> 20790 | G32: =+RAPPR_Tav1!G23 -> 5289 | H32: =+RAPPR_Tav1!F23 -> 523676 | I32: =+RAPPR_Tav1!H23 -> -0.094017508 | J32: =+RAPPR_Tav1!I23 -> -0.094017508 | K32: =+RAPPR_Tav1!J23 -> 0.63652331
A33: TOTALE RAMO IV | D33: =+RAPPR_Tav1!C24 -> 0 | E33: =+RAPPR_Tav1!D24 -> 0 | F33: =+RAPPR_Tav1!E24 -> 0 | G33: =+RAPPR_Tav1!G24 -> 0 | H33: =+RAPPR_Tav1!F24 -> 0 | I33: =+RAPPR_Tav1!H24 -> 0 | J33: =+RAPPR_Tav1!I24 -> 0 | K33: =+RAPPR_Tav1!J24 -> 0
A34: RAMO V: | B34: OPER. DI CAPITALIZZ. INDIVIDUALI | D34: =+RAPPR_Tav1!C25 -> 0 | E34: =+RAPPR_Tav1!D25 -> 438 | F34: =+RAPPR_Tav1!E25 -> 0 | G34: =+RAPPR_Tav1!G25 -> 0 | H34: =+RAPPR_Tav1!F25 -> 438 | I34: =+RAPPR_Tav1!H25 -> -0.49010477 | J34: =+RAPPR_Tav1!I25 -> -0.49010477 | K34: =+RAPPR_Tav1!J25 -> 0.00053238493
B35: di cui: | C35: contratti art. 41 d.lgs. 209/05 | D35: =+RAPPR_Tav1!C26 -> 0 | E35: =+RAPPR_Tav1!D26 -> 0 | F35: =+RAPPR_Tav1!E26 -> 0 | G35: =+RAPPR_Tav1!G26 -> 0 | H35: =+RAPPR_Tav1!F26 -> 0 | I35: =+RAPPR_Tav1!H26 -> 0 | J35: =+RAPPR_Tav1!I26 -> 0 | K35: =+RAPPR_Tav1!J26 -> 0
C36: connessi con fondi interni | D36: =+RAPPR_Tav1!C27 -> 0 | E36: =+RAPPR_Tav1!D27 -> 0 | F36: =+RAPPR_Tav1!E27 -> 0 | G36: =+RAPPR_Tav1!G27 -> 0 | H36: =+RAPPR_Tav1!F27 -> 0 | I36: =+RAPPR_Tav1!H27 -> 0 | J36: =+RAPPR_Tav1!I27 -> 0 | K36: =+RAPPR_Tav1!J27 -> 0
C37: connessi con fondi esterni | D37: =+RAPPR_Tav1!C28 -> 0 | E37: =+RAPPR_Tav1!D28 -> 0 | F37: =+RAPPR_Tav1!E28 -> 0 | G37: =+RAPPR_Tav1!G28 -> 0 | H37: =+RAPPR_Tav1!F28 -> 0 | I37: - | J37: - | K37: -
C38: connessi con indice azionario | D38: =+RAPPR_Tav1!C29 -> 0 | E38: =+RAPPR_Tav1!D29 -> 0 | F38: =+RAPPR_Tav1!E29 -> 0 | G38: =+RAPPR_Tav1!G29 -> 0 | H38: =+RAPPR_Tav1!F29 -> 0 | I38: - | J38: - | K38: -
C39: connessi con altro valore di riferimento | D39: =+RAPPR_Tav1!C30 -> 0 | E39: =+RAPPR_Tav1!D30 -> 0 | F39: =+RAPPR_Tav1!E30 -> 0 | G39: =+RAPPR_Tav1!G30 -> 0 | H39: =+RAPPR_Tav1!F30 -> 0 | I39: - | J39: - | K39: -
B40: OPER. DI CAPITALIZZ. COLLETTIVE | D40: =+RAPPR_Tav1!C31 -> 0 | E40: =+RAPPR_Tav1!D31 -> 6 | F40: =+RAPPR_Tav1!E31 -> 0 | G40: =+RAPPR_Tav1!G31 -> 0 | H40: =+RAPPR_Tav1!F31 -> 6 | I40: =+RAPPR_Tav1!H31 -> -0.53846154 | J40: =+RAPPR_Tav1!I31 -> -0.53846154 | K40: =+RAPPR_Tav1!J31 -> 7.2929442e-06
B41: di cui: | C41: T.F.R. di legge | D41: =+RAPPR_Tav1!C32 -> 0 | E41: =+RAPPR_Tav1!D32 -> 0 | F41: =+RAPPR_Tav1!E32 -> 0 | G41: =+RAPPR_Tav1!G32 -> 0 | H41: =+RAPPR_Tav1!F32 -> 0 | I41: =+RAPPR_Tav1!H32 -> 0 | J41: =+RAPPR_Tav1!I32 -> 0 | K41: =+RAPPR_Tav1!J32 -> 0
A42: TOTALE RAMO V | D42: =+RAPPR_Tav1!C33 -> 0 | E42: =+RAPPR_Tav1!D33 -> 444 | F42: =+RAPPR_Tav1!E33 -> 0 | G42: =+RAPPR_Tav1!G33 -> 0 | H42: =+RAPPR_Tav1!F33 -> 444 | I42: =+RAPPR_Tav1!H33 -> -0.49082569 | J42: =+RAPPR_Tav1!I33 -> -0.49082569 | K42: =+RAPPR_Tav1!J33 -> 0.00053967787
A43: TOTALE RAMO VI | D43: =+RAPPR_Tav1!C34 -> 0 | E43: =+RAPPR_Tav1!D34 -> 0 | F43: =+RAPPR_Tav1!E34 -> 0 | G43: =+RAPPR_Tav1!G34 -> 0 | H43: =+RAPPR_Tav1!F34 -> 0 | I43: =+RAPPR_Tav1!H34 -> 0 | J43: =+RAPPR_Tav1!I34 -> 0 | K43: =+RAPPR_Tav1!J34 -> 0
A44: ASSICURAZIONI COMPLEMENTARI | D44: =+RAPPR_Tav1!C35 -> 864 | E44: =+RAPPR_Tav1!D35 -> 1258 | F44: =+RAPPR_Tav1!E35 -> 0 | G44: =+RAPPR_Tav1!G35 -> 628 | H44: =+RAPPR_Tav1!F35 -> 2122 | I44: =+RAPPR_Tav1!H35 -> 0.19146547 | J44: =+RAPPR_Tav1!I35 -> 0.19146547 | K44: =+RAPPR_Tav1!J35 -> 0.0025792713
B45: di cui: | C45: ramo I | D45: =+RAPPR_Tav1!C36 -> 863 | E45: =+RAPPR_Tav1!D36 -> 1258 | F45: =+RAPPR_Tav1!E36 -> 0 | G45: =+RAPPR_Tav1!G36 -> 628 | H45: =+RAPPR_Tav1!F36 -> 2121 | I45: =+RAPPR_Tav1!H36 -> 0.19157303 | J45: =+RAPPR_Tav1!I36 -> 0.19157303 | K45: =+RAPPR_Tav1!J36 -> 0.0025780558
C46: ramo III | D46: =+RAPPR_Tav1!C37 -> 0 | E46: =+RAPPR_Tav1!D37 -> 0 | F46: =+RAPPR_Tav1!E37 -> 0 | G46: =+RAPPR_Tav1!G37 -> 0 | H46: =+RAPPR_Tav1!F37 -> 0 | I46: =+RAPPR_Tav1!H37 -> 0 | J46: =+RAPPR_Tav1!I37 -> 0 | K46: =+RAPPR_Tav1!J37 -> 0
C47: ramo V | D47: =+RAPPR_Tav1!C38 -> 1 | E47: =+RAPPR_Tav1!D38 -> 0 | F47: =+RAPPR_Tav1!E38 -> 0 | G47: =+RAPPR_Tav1!G38 -> 0 | H47: =+RAPPR_Tav1!F38 -> 1 | I47: =+RAPPR_Tav1!H38 -> 0 | J47: =+RAPPR_Tav1!I38 -> 0 | K47: =+RAPPR_Tav1!J38 -> 1.2154907e-06
C48: ramo VI | D48: =+RAPPR_Tav1!C39 -> 0 | E48: =+RAPPR_Tav1!D39 -> 0 | F48: =+RAPPR_Tav1!E39 -> 0 | G48: =+RAPPR_Tav1!G39 -> 0 | H48: =+RAPPR_Tav1!F39 -> 0 | I48: =+RAPPR_Tav1!H39 -> 0 | J48: =+RAPPR_Tav1!I39 -> 0 | K48: =+RAPPR_Tav1!J39 -> 0
A49: TOTALE | D49: =+RAPPR_Tav1!C40 -> 35706 | E49: =+RAPPR_Tav1!D40 -> 733539 | F49: =+RAPPR_Tav1!E40 -> 53468 | G49: =+RAPPR_Tav1!G40 -> 19389 | H49: =+RAPPR_Tav1!F40 -> 822713 | I49: =+RAPPR_Tav1!H40 -> 0.0016131232 | J49: =+RAPPR_Tav1!I40 -> 0.0016131232 | K49: =+RAPPR_Tav1!J40 -> 1
A51: (a) Premi raccolti in Italia da rappresentanze di imprese dello Spazio Economico Europeo (il cui controllo è esercitato dalle Autorità di Vigilanza dei Paesi di origine) che hanno partecipato alla rilevazione.
A52: (b) I premi di prima annualità sono riferiti ai soli premi annui e ricorrenti (col. 1 e 3).

Sheet B - Tavola 2
A1: ASSICURAZIONI VITA: RAPPRESENTANZE DI IMPRESE SEE (a)
A2: Lavoro diretto
A3: ="Ripartizione per canale distributivo dei premi lordi contabilizzati a tutto il "&IF(MID(RAPPR_Tav2!C1,5,4)="0331","1°", IF(MID(RAPPR_Tav2!C1,5,4)="0630","2°", IF(MID(RAPPR_Tav2!C1,5,4)="0930","3°","4°")))&" trimestre "&MID(RAPPR_Tav2!C1,1,4) -> Ripartizione per canale distributivo dei premi lordi contabilizzati a tutto il 1° trimestre 2026
P4: Importi in migliaia di EURO
B5: Agenzie con mandato | D5: Consulenti finanziari | F5: Sportelli bancari e postali | H5: Brokers | J5: Agenzie in economia e gerenze | L5: Altre forme di vendita diretta | N5: Totale
B6: raccolta | C6: variazione - anno prec. | D6: raccolta | E6: variazione - anno prec. | F6: raccolta | G6: variazione - anno prec. | H6: raccolta | I6: variazione - anno prec. | J6: raccolta | K6: variazione - anno prec. | L6: raccolta | M6: variazione - anno prec. | N6: raccolta | O6: variazione - anno precedente | P6: incidenza
A7: SETTORE INDIVIDUALI
A8: RAMO I | B8: =+RAPPR_Tav2!C2 -> 15578 | C8: =+RAPPR_Tav2!D2 -> -0.39767235 | D8: =+RAPPR_Tav2!E2 -> 2703 | E8: =+RAPPR_Tav2!F2 -> -0.45016273 | F8: =+RAPPR_Tav2!G2 -> 55861 | G8: =+RAPPR_Tav2!H2 -> -0.194808 | H8: =+RAPPR_Tav2!I2 -> 70280 | I8: =+RAPPR_Tav2!J2 -> 8.8749473 | ... P8: =+RAPPR_Tav2!Q2 -> 0.18842517
A9: di cui art. 13, c. 1, lett. b) d.lgs. 252/05 | B9: =+RAPPR_Tav2!C3 -> 9755 | C9: =+RAPPR_Tav2!D3 -> 0.023824517 | D9: =+RAPPR_Tav2!E3 -> 0 | E9: =+RAPPR_Tav2!F3 -> 0 | F9: =+RAPPR_Tav2!G3 -> 0 | G9: =+RAPPR_Tav2!H3 -> 0 | H9: =+RAPPR_Tav2!I3 -> 0 | I9: =+RAPPR_Tav2!J3 -> 0 | ... P9: =+RAPPR_Tav2!Q3 -> 0.011887774
A10: RAMO II | B10: =+RAPPR_Tav2!C4 -> 0 | C10: =+RAPPR_Tav2!D4 -> 0 | D10: =+RAPPR_Tav2!E4 -> 0 | E10: =+RAPPR_Tav2!F4 -> 0 | F10: =+RAPPR_Tav2!G4 -> 0 | G10: =+RAPPR_Tav2!H4 -> 0 | H10: =+RAPPR_Tav2!I4 -> 0 | I10: =+RAPPR_Tav2!J4 -> 0 | ... P10: =+RAPPR_Tav2!Q4 -> 0
A11: RAMO III | B11: =+RAPPR_Tav2!C5 -> 11397 | C11: =+RAPPR_Tav2!D5 -> -0.15764967 | D11: =+RAPPR_Tav2!E5 -> 317256 | E11: =+RAPPR_Tav2!F5 -> -0.095974491 | F11: =+RAPPR_Tav2!G5 -> 12879 | G11: =+RAPPR_Tav2!H5 -> -0.82820899 | H11: =+RAPPR_Tav2!I5 -> 163238 | I11: =+RAPPR_Tav2!J5 -> 0.41822763 | ... P11: =+RAPPR_Tav2!Q5 -> 0.63816932
A12: di cui art. 13, c. 1, lett. b) d.lgs. 252/05 | B12: =+RAPPR_Tav2!C6 -> 1582 | C12: =+RAPPR_Tav2!D6 -> 0.00063251107 | D12: =+RAPPR_Tav2!E6 -> 21 | E12: =+RAPPR_Tav2!F6 -> -0.32258065 | F12: =+RAPPR_Tav2!G6 -> 0 | G12: =+RAPPR_Tav2!H6 -> 0 | H12: =+RAPPR_Tav2!I6 -> 0 | I12: =+RAPPR_Tav2!J6 -> 0 | ... P12: =+RAPPR_Tav2!Q6 -> 0.011021325
A13: RAMO IV | B13: =+RAPPR_Tav2!C7 -> 0 | C13: =+RAPPR_Tav2!D7 -> 0 | D13: =+RAPPR_Tav2!E7 -> 0 | E13: =+RAPPR_Tav2!F7 -> 0 | F13: =+RAPPR_Tav2!G7 -> 0 | G13: =+RAPPR_Tav2!H7 -> 0 | H13: =+RAPPR_Tav2!I7 -> 0 | I13: =+RAPPR_Tav2!J7 -> 0 | ... P13: =+RAPPR_Tav2!Q7 -> 0
A14: RAMO V | B14: =+RAPPR_Tav2!C8 -> 363 | C14: =+RAPPR_Tav2!D8 -> -0.5774156 | D14: =+RAPPR_Tav2!E8 -> 0 | E14: =+RAPPR_Tav2!F8 -> 0 | F14: =+RAPPR_Tav2!G8 -> 3 | G14: =+RAPPR_Tav2!H8 -> 0 | H14: =+RAPPR_Tav2!I8 -> 72 | I14: =+RAPPR_Tav2!J8 -> 0 | ... P14: =+RAPPR_Tav2!Q8 -> 0.00053376164
A15: di cui art. 41 d.lgs. 209/05 | B15: =+RAPPR_Tav2!C9 -> 0 | C15: =+RAPPR_Tav2!D9 -> 0 | D15: =+RAPPR_Tav2!E9 -> 0 | E15: =+RAPPR_Tav2!F9 -> 0 | F15: =+RAPPR_Tav2!G9 -> 0 | G15: =+RAPPR_Tav2!H9 -> 0 | H15: =+RAPPR_Tav2!I9 -> 0 | I15: =+RAPPR_Tav2!J9 -> 0 | ... P15: =+RAPPR_Tav2!Q9 -> 0
A16: RAMO VI | B16: =+RAPPR_Tav2!C10 -> 0 | C16: =+RAPPR_Tav2!D10 -> 0 | D16: =+RAPPR_Tav2!E10 -> 0 | E16: =+RAPPR_Tav2!F10 -> 0 | F16: =+RAPPR_Tav2!G10 -> 0 | G16: =+RAPPR_Tav2!H10 -> 0 | H16: =+RAPPR_Tav2!I10 -> 0 | I16: =+RAPPR_Tav2!J10 -> 0 | ... P16: =+RAPPR_Tav2!Q10 -> 0
A17: TOTALE INDIVIDUALI | B17: =+RAPPR_Tav2!C11 -> 27338 | C17: =+RAPPR_Tav2!D11 -> -0.32082878 | D17: =+RAPPR_Tav2!E11 -> 319959 | E17: =+RAPPR_Tav2!F11 -> -0.10086749 | F17: =+RAPPR_Tav2!G11 -> 68743 | G17: =+RAPPR_Tav2!H11 -> -0.52375905 | H17: =+RAPPR_Tav2!I11 -> 233590 | I17: =+RAPPR_Tav2!J11 -> 0.91127257 | ... P17: =+RAPPR_Tav2!Q11 -> 0.82712825
A18: di cui:
A19: premi annui | B19: =+RAPPR_Tav2!C12 -> 5465 | C19: =+RAPPR_Tav2!D12 -> 0.038973384 | D19: =+RAPPR_Tav2!E12 -> 18 | E19: =+RAPPR_Tav2!F12 -> -0.052631579 | F19: =+RAPPR_Tav2!G12 -> 281 | G19: =+RAPPR_Tav2!H12 -> -0.096463023 | H19: =+RAPPR_Tav2!I12 -> 2159 | I19: =+RAPPR_Tav2!J12 -> 0.21633803 | ... P19: =+RAPPR_Tav2!Q12 -> 0.011352793
A20: premi unici | B20: =+RAPPR_Tav2!C13 -> 10922 | C20: =+RAPPR_Tav2!D13 -> -0.55416769 | D20: =+RAPPR_Tav2!E13 -> 312475 | E20: =+RAPPR_Tav2!F13 -> -0.10342305 | F20: =+RAPPR_Tav2!G13 -> 64200 | G20: =+RAPPR_Tav2!H13 -> -0.54022001 | H20: =+RAPPR_Tav2!I13 -> 222688 | I20: =+RAPPR_Tav2!J13 -> 0.97407939 | ... P20: =+RAPPR_Tav2!Q13 -> 0.76694602
A21: premi ricorrenti | B21: =+RAPPR_Tav2!C14 -> 10951 | C21: =+RAPPR_Tav2!D14 -> 0.043548694 | D21: =+RAPPR_Tav2!E14 -> 7466 | E21: =+RAPPR_Tav2!F14 -> 0.020782062 | F21: =+RAPPR_Tav2!G14 -> 4262 | G21: =+RAPPR_Tav2!H14 -> -0.031803726 | H21: =+RAPPR_Tav2!I14 -> 8743 | I21: =+RAPPR_Tav2!J14 -> 0.14497119 | ... P21: =+RAPPR_Tav2!Q14 -> 0.048829441
B22: =B19+B20+B21 -> 27338 | D22: =D19+D20+D21 -> 319959 | F22: =F19+F20+F21 -> 68743 | H22: =H19+H20+H21 -> 233590 | J22: =J19+J20+J21 -> 19667 | L22: =L19+L20+L21 -> 9437 | N22: =N19+N20+N21 -> 678734 | O22: =O19+O20+O21 -> 0.12128679 | P22: =P19+P20+P21 -> 0.82712825
A23: SETTORE COLLETTIVE
A24: RAMO I | B24: =+RAPPR_Tav2!C15 -> 20336 | C24: =+RAPPR_Tav2!D15 -> -0.086679242 | D24: =+RAPPR_Tav2!E15 -> 1118 | E24: =+RAPPR_Tav2!F15 -> 0.056710775 | F24: =+RAPPR_Tav2!G15 -> 91086 | G24: =+RAPPR_Tav2!H15 -> 0.2001423 | H24: =+RAPPR_Tav2!I15 -> 23134 | I24: =+RAPPR_Tav2!J15 -> 0.0075783972 | ... P24: =+RAPPR_Tav2!Q15 -> 0.17286444
A25: RAMO II | B25: =+RAPPR_Tav2!C16 -> 0 | C25: =+RAPPR_Tav2!D16 -> 0 | D25: =+RAPPR_Tav2!E16 -> 0 | E25: =+RAPPR_Tav2!F16 -> 0 | F25: =+RAPPR_Tav2!G16 -> 0 | G25: =+RAPPR_Tav2!H16 -> 0 | H25: =+RAPPR_Tav2!I16 -> 0 | I25: =+RAPPR_Tav2!J16 -> 0 | ... P25: =+RAPPR_Tav2!Q16 -> 0
A26: RAMO III | B26: =+RAPPR_Tav2!C17 -> 0 | C26: =+RAPPR_Tav2!D17 -> 0 | D26: =+RAPPR_Tav2!E17 -> 0 | E26: =+RAPPR_Tav2!F17 -> 0 | F26: =+RAPPR_Tav2!G17 -> 0 | G26: =+RAPPR_Tav2!H17 -> 0 | H26: =+RAPPR_Tav2!I17 -> 0 | I26: =+RAPPR_Tav2!J17 -> 0 | ... P26: =+RAPPR_Tav2!Q17 -> 0
A27: RAMO IV | B27: =+RAPPR_Tav2!C18 -> 0 | C27: =+RAPPR_Tav2!D18 -> 0 | D27: =+RAPPR_Tav2!E18 -> 0 | E27: =+RAPPR_Tav2!F18 -> 0 | F27: =+RAPPR_Tav2!G18 -> 0 | G27: =+RAPPR_Tav2!H18 -> 0 | H27: =+RAPPR_Tav2!I18 -> 0 | I27: =+RAPPR_Tav2!J18 -> 0 | ... P27: =+RAPPR_Tav2!Q18 -> 0
A28: RAMO V | B28: =+RAPPR_Tav2!C19 -> 3 | C28: =+RAPPR_Tav2!D19 -> -0.7 | D28: =+RAPPR_Tav2!E19 -> 0 | E28: =+RAPPR_Tav2!F19 -> 0 | F28: =+RAPPR_Tav2!G19 -> 3 | G28: =+RAPPR_Tav2!H19 -> 0 | H28: =+RAPPR_Tav2!I19 -> 0 | I28: =+RAPPR_Tav2!J19 -> 0 | ... P28: =+RAPPR_Tav2!Q19 -> 7.3118033e-06
A29: RAMO VI | B29: =+RAPPR_Tav2!C20 -> 0 | C29: =+RAPPR_Tav2!D20 -> 0 | D29: =+RAPPR_Tav2!E20 -> 0 | E29: =+RAPPR_Tav2!F20 -> 0 | F29: =+RAPPR_Tav2!G20 -> 0 | G29: =+RAPPR_Tav2!H20 -> 0 | H29: =+RAPPR_Tav2!I20 -> 0 | I29: =+RAPPR_Tav2!J20 -> 0 | ... P29: =+RAPPR_Tav2!Q20 -> 0
A30: TOTALE COLLETTIVE | B30: =+RAPPR_Tav2!C21 -> 20339 | C30: =+RAPPR_Tav2!D21 -> -0.08695457 | D30: =+RAPPR_Tav2!E21 -> 1118 | E30: =+RAPPR_Tav2!F21 -> 0.056710775 | F30: =+RAPPR_Tav2!G21 -> 91089 | G30: =+RAPPR_Tav2!H21 -> 0.20013439 | H30: =+RAPPR_Tav2!I21 -> 23134 | I30: =+RAPPR_Tav2!J21 -> 0.0075783972 | ... P30: =+RAPPR_Tav2!Q21 -> 0.17287175
A31: TOTALE
B32: =+RAPPR_Tav2!C22 -> 47677 | C32: =+RAPPR_Tav2!D22 -> -0.2375096 | D32: =+RAPPR_Tav2!E22 -> 321077 | E32: =+RAPPR_Tav2!F22 -> -0.10040038 | F32: =+RAPPR_Tav2!G22 -> 159832 | G32: =+RAPPR_Tav2!H22 -> -0.27429578 | H32: =+RAPPR_Tav2!I22 -> 256724 | I32: =+RAPPR_Tav2!J22 -> 0.76835174 | ... P32: =+RAPPR_Tav2!Q22 -> 1
A34: NOTA: sono esclusi i premi relativi alle assicurazioni complementari.
A36: (a) Premi raccolti in Italia da rappresentanze di imprese dello Spazio Economico Europeo (il cui controllo è esercitato dalle Autorità di Vigilanza dei Paesi di origine) che hanno partecipato alla rilevazione.

Sheet B - Tavola 3
A1: ASSICURAZIONI VITA: RAPPRESENTANZE DI IMPRESE SEE (a)
A2: Lavoro diretto
A3: ="Nuova produzione emessa a tutto il "&IF(MID(RAPPR_Tav3!C1,5,4)="0331","1°", IF(MID(RAPPR_Tav3!C1,5,4)="0630","2°", IF(MID(RAPPR_Tav3!C1,5,4)="0930","3°","4°")))&" trimestre "&MID(RAPPR_Tav3!C1,1,4)&" (b)" -> Nuova produzione emessa a tutto il 1° trimestre 2026 (b)
Q4: Importi in migliaia di EURO
A5: CATEGORIE | D5: Assicurazioni di capitali | H5: Assicurazioni di rendite | L5: Premi di tariffa
D6: Numero polizze/teste | F6: Somme assicurate | H6: Numero polizze/teste | J6: Somme assicurate | L6: Annui | M6: Unici | N6: Ricorrenti | O6: Totale
D7: numero | E7: variazione - anno prec. | F7: importo | G7: variazione - anno prec. | H7: numero | I7: variazione - anno prec. | J7: importo | K7: variazione - anno prec. | O7: raccolta | P7: variazione - anno prec. | Q7: incidenza
A8: RAMO I: | B8: ASSICURAZIONI INDIVIDUALI
B9: rivalutabili | D9: =+RAPPR_Tav3!C2 -> 415 | E9: =+RAPPR_Tav3!D2 -> 5.0144928 | F9: =+RAPPR_Tav3!E2 -> 80954 | G9: =+RAPPR_Tav3!F2 -> 7.2070154 | H9: =+RAPPR_Tav3!G2 -> 134 | I9: =+RAPPR_Tav3!H2 -> 1.0615385 | J9: =+RAPPR_Tav3!I2 -> 1645 | K9: =+RAPPR_Tav3!J2 -> 0.26733436 | ... Q9: =+RAPPR_Tav3!P2 -> 0.10106885
B10: di cui: | C10: polizze in valuta | D10: =+RAPPR_Tav3!C3 -> 0 | E10: =+RAPPR_Tav3!D3 -> 0 | F10: =+RAPPR_Tav3!E3 -> 0 | G10: =+RAPPR_Tav3!F3 -> 0 | H10: =+RAPPR_Tav3!G3 -> 0 | I10: =+RAPPR_Tav3!H3 -> 0 | J10: =+RAPPR_Tav3!I3 -> 0 | K10: =+RAPPR_Tav3!J3 -> 0 | ... Q10: =+RAPPR_Tav3!P3 -> 0
C11: ex art. 13, co.1, lett. b), d.lgs. 252/05 | D11: =+RAPPR_Tav3!C4 -> 0 | E11: =+RAPPR_Tav3!D4 -> 0 | F11: =+RAPPR_Tav3!E4 -> 0 | G11: =+RAPPR_Tav3!F4 -> 0 | H11: =+RAPPR_Tav3!G4 -> 74 | I11: =+RAPPR_Tav3!H4 -> 1.8461538 | J11: =+RAPPR_Tav3!I4 -> 311 | K11: =+RAPPR_Tav3!J4 -> 61.2 | ... Q11: =+RAPPR_Tav3!P4 -> 6.3926357e-06
B12: temporanee di puro rischio | D12: =+RAPPR_Tav3!C5 -> 61803 | E12: =+RAPPR_Tav3!D5 -> 0.026252864 | F12: =+RAPPR_Tav3!E5 -> 1822219 | G12: =+RAPPR_Tav3!F5 -> -0.030510767 | H12: =+RAPPR_Tav3!G5 -> 0 | I12: =+RAPPR_Tav3!H5 -> 0 | J12: =+RAPPR_Tav3!I5 -> 0 | K12: =+RAPPR_Tav3!J5 -> 0 | ... Q12: =+RAPPR_Tav3!P5 -> 0.10318481
B13: altre | D13: =+RAPPR_Tav3!C6 -> 0 | E13: =+RAPPR_Tav3!D6 -> 0 | F13: =+RAPPR_Tav3!E6 -> 0 | G13: =+RAPPR_Tav3!F6 -> 0 | H13: =+RAPPR_Tav3!G6 -> 0 | I13: =+RAPPR_Tav3!H6 -> 0 | J13: =+RAPPR_Tav3!I6 -> 0 | K13: =+RAPPR_Tav3!J6 -> 0 | ... Q13: =+RAPPR_Tav3!P6 -> 0.0014089369
B14: TOTALE INDIVIDUALI | D14: =+RAPPR_Tav3!C7 -> 62218 | E14: =+RAPPR_Tav3!D7 -> 0.031961653 | F14: =+RAPPR_Tav3!E7 -> 1903173 | G14: =+RAPPR_Tav3!F7 -> 0.0072736222 | H14: =+RAPPR_Tav3!G7 -> 134 | I14: =+RAPPR_Tav3!H7 -> 1.0615385 | J14: =+RAPPR_Tav3!I7 -> 1645 | K14: =+RAPPR_Tav3!J7 -> 0.26733436 | ... Q14: =+RAPPR_Tav3!P7 -> 0.2056626
B15: di cui: | C15: derivanti da trasformazione | D15: =+RAPPR_Tav3!C8 -> 0 | E15: =+RAPPR_Tav3!D8 -> 0 | F15: =+RAPPR_Tav3!E8 -> 0 | G15: =+RAPPR_Tav3!F8 -> 0 | H15: =+RAPPR_Tav3!G8 -> 0 | I15: =+RAPPR_Tav3!H8 -> 0 | J15: =+RAPPR_Tav3!I8 -> 0 | K15: =+RAPPR_Tav3!J8 -> 0 | ... Q15: =+RAPPR_Tav3!P8 -> 0
C16: deriv. da trasf. di posiz. previd. a contr. ex art. 13, co. 1, lett. b), d.lgs. 252/05 | D16: =+RAPPR_Tav3!C9 -> 0 | E16: =+RAPPR_Tav3!D9 -> 0 | F16: =+RAPPR_Tav3!E9 -> 0 | G16: =+RAPPR_Tav3!F9 -> 0 | H16: =+RAPPR_Tav3!G9 -> 0 | I16: =+RAPPR_Tav3!H9 -> 0 | J16: =+RAPPR_Tav3!I9 -> 0 | K16: =+RAPPR_Tav3!J9 -> 0 | ... Q16: =+RAPPR_Tav3!P9 -> 0
B17: ASSICURAZIONI COLLETTIVE
B18: T.F.R. di legge | D18: =+RAPPR_Tav3!C10 -> 386406 | E18: =+RAPPR_Tav3!D10 -> 0 | F18: =+RAPPR_Tav3!E10 -> 1603398 | G18: =+RAPPR_Tav3!F10 -> 0 | H18: =+RAPPR_Tav3!G10 -> 0 | I18: =+RAPPR_Tav3!H10 -> 0 | J18: =+RAPPR_Tav3!I10 -> 0 | K18: =+RAPPR_Tav3!J10 -> 0 | ... Q18: =+RAPPR_Tav3!P10 -> 0.059870869
B19: temporanee di gruppo e altre di rischio | D19: =+RAPPR_Tav3!C11 -> 95275 | E19: =+RAPPR_Tav3!D11 -> -0.78192002 | F19: =+RAPPR_Tav3!E11 -> 49696911 | G19: =+RAPPR_Tav3!F11 -> -0.0059494324 | H19: =+RAPPR_Tav3!G11 -> 0 | I19: =+RAPPR_Tav3!H11 -> 0 | J19: =+RAPPR_Tav3!I11 -> 0 | K19: =+RAPPR_Tav3!J11 -> 0 | ... Q19: =+RAPPR_Tav3!P11 -> 0.11420955
B20: previdenziali | D20: =+RAPPR_Tav3!C12 -> 0 | E20: =+RAPPR_Tav3!D12 -> 0 | F20: =+RAPPR_Tav3!E12 -> 0 | G20: =+RAPPR_Tav3!F12 -> 0 | H20: =+RAPPR_Tav3!G12 -> 0 | I20: =+RAPPR_Tav3!H12 -> 0 | J20: =+RAPPR_Tav3!I12 -> 0 | K20: =+RAPPR_Tav3!J12 -> 0 | ... Q20: =+RAPPR_Tav3!P12 -> 0
B21: TOTALE COLLETTIVE | D21: =+RAPPR_Tav3!C13 -> 481681 | E21: =+RAPPR_Tav3!D13 -> 0.10254509 | F21: =+RAPPR_Tav3!E13 -> 51300309 | G21: =+RAPPR_Tav3!F13 -> 0.026122152 | H21: =+RAPPR_Tav3!G13 -> 0 | I21: =+RAPPR_Tav3!H13 -> 0 | J21: =+RAPPR_Tav3!I13 -> 0 | K21: =+RAPPR_Tav3!J13 -> 0 | ... Q21: =+RAPPR_Tav3!P13 -> 0.17408042
A22: TOTALE RAMO I | D22: =+RAPPR_Tav3!C14 -> 543899 | E22: =+RAPPR_Tav3!D14 -> 0.093985582 | F22: =+RAPPR_Tav3!E14 -> 53203482 | G22: =+RAPPR_Tav3!F14 -> 0.025435753 | H22: =+RAPPR_Tav3!G14 -> 134 | I22: =+RAPPR_Tav3!H14 -> 1.0615385 | J22: =+RAPPR_Tav3!I14 -> 1645 | K22: =+RAPPR_Tav3!J14 -> 0.26733436 | ... Q22: =+RAPPR_Tav3!P14 -> 0.37974302
A23: TOTALE RAMO II | D23: =+RAPPR_Tav3!C15 -> 0 | E23: =+RAPPR_Tav3!D15 -> 0 | F23: =+RAPPR_Tav3!E15 -> 0 | G23: =+RAPPR_Tav3!F15 -> 0 | H23: =+RAPPR_Tav3!G15 -> 0 | I23: =+RAPPR_Tav3!H15 -> 0 | J23: =+RAPPR_Tav3!I15 -> 0 | K23: =+RAPPR_Tav3!J15 -> 0 | ... Q23: =+RAPPR_Tav3!P15 -> 0
A24: RAMO III: | B24: ASSICURAZIONI INDIVIDUALI
B25: connesse con fondi interni | D25: =+RAPPR_Tav3!C16 -> 5140 | E25: =+RAPPR_Tav3!D16 -> -0.15293342 | F25: =+RAPPR_Tav3!E16 -> 446786 | G25: =+RAPPR_Tav3!F16 -> -0.087036659 | H25: =+RAPPR_Tav3!G16 -> 321 | I25: =+RAPPR_Tav3!H16 -> 0.09556314 | J25: =+RAPPR_Tav3!I16 -> 7434 | K25: =+RAPPR_Tav3!J16 -> 0.037688442 | ... Q25: =+RAPPR_Tav3!P16 -> 0.60510772
B26: di cui: | C26: ex art. 13, co. 1, lett. b), d. lgs. 252/05 | D26: =+RAPPR_Tav3!C17 -> 0 | E26: =+RAPPR_Tav3!D17 -> 0 | F26: =+RAPPR_Tav3!E17 -> 0 | G26: =+RAPPR_Tav3!F17 -> 0 | H26: =+RAPPR_Tav3!G17 -> 321 | I26: =+RAPPR_Tav3!H17 -> 0.09556314 | J26: =+RAPPR_Tav3!I17 -> 7434 | K26: =+RAPPR_Tav3!J17 -> 0.037688442 | ... Q26: =+RAPPR_Tav3!P17 -> 0.0095084063
B27: connesse con fondi esterni | D27: =+RAPPR_Tav3!C18 -> 70 | E27: =+RAPPR_Tav3!D18 -> -0.014084507 | F27: =+RAPPR_Tav3!E18 -> 6211 | G27: =+RAPPR_Tav3!F18 -> 0.16158594 | H27: =+RAPPR_Tav3!G18 -> 0 | I27: =+RAPPR_Tav3!H18 -> 0 | J27: =+RAPPR_Tav3!I18 -> 0 | K27: =+RAPPR_Tav3!J18 -> 0 | ... Q27: =+RAPPR_Tav3!P18 -> 0.0054350189
B28: di cui: | C28: ex art. 13, co. 1, lett. b), d. lgs. 252/05 | D28: =+RAPPR_Tav3!C19 -> 0 | E28: =+RAPPR_Tav3!D19 -> 0 | F28: =+RAPPR_Tav3!E19 -> 0 | G28: =+RAPPR_Tav3!F19 -> 0 | H28: =+RAPPR_Tav3!G19 -> 0 | I28: =+RAPPR_Tav3!H19 -> 0 | J28: =+RAPPR_Tav3!I19 -> 0 | K28: =+RAPPR_Tav3!J19 -> 0 | ... Q28: =+RAPPR_Tav3!P19 -> 0
B29: connesse con indice azionario | D29: =+RAPPR_Tav3!C20 -> 0 | E29: =+RAPPR_Tav3!D20 -> 0 | F29: =+RAPPR_Tav3!E20 -> 5418 | G29: =+RAPPR_Tav3!F20 -> 0 | H29: =+RAPPR_Tav3!G20 -> 0 | I29: =+RAPPR_Tav3!H20 -> 0 | J29: =+RAPPR_Tav3!I20 -> 0 | K29: =+RAPPR_Tav3!J20 -> 0 | ... Q29: =+RAPPR_Tav3!P20 -> 0.0069615803
B30: connesse con altro valore di riferimento | D30: =+RAPPR_Tav3!C21 -> 0 | E30: =+RAPPR_Tav3!D21 -> 0 | F30: =+RAPPR_Tav3!E21 -> 0 | G30: =+RAPPR_Tav3!F21 -> 0 | H30: =+RAPPR_Tav3!G21 -> 0 | I30: =+RAPPR_Tav3!H21 -> 0 | J30: =+RAPPR_Tav3!I21 -> 0 | K30: =+RAPPR_Tav3!J21 -> 0 | ... Q30: =+RAPPR_Tav3!P21 -> 0
B31: TOTALE INDIVIDUALI | D31: =+RAPPR_Tav3!C22 -> 5210 | E31: =+RAPPR_Tav3!D22 -> -0.15132758 | F31: =+RAPPR_Tav3!E22 -> 458415 | G31: =+RAPPR_Tav3!F22 -> -0.073398056 | H31: =+RAPPR_Tav3!G22 -> 321 | I31: =+RAPPR_Tav3!H22 -> 0.09556314 | J31: =+RAPPR_Tav3!I22 -> 7434 | K31: =+RAPPR_Tav3!J22 -> 0.037688442 | ... Q31: =+RAPPR_Tav3!P22 -> 0.61750432
B32: di cui: | C32: deriv. da trasf. di posiz. previd. a contr. ex art. 13, co. 1, lett. b), d.lgs. 252/05 | D32: =+RAPPR_Tav3!C23 -> 0 | E32: =+RAPPR_Tav3!D23 -> 0 | F32: =+RAPPR_Tav3!E23 -> 0 | G32: =+RAPPR_Tav3!F23 -> 0 | H32: =+RAPPR_Tav3!G23 -> 0 | I32: =+RAPPR_Tav3!H23 -> 0 | J32: =+RAPPR_Tav3!I23 -> 0 | K32: =+RAPPR_Tav3!J23 -> 0 | ... Q32: =+RAPPR_Tav3!P23 -> 0
B33: ASSICURAZIONI COLLETTIVE | D33: =+RAPPR_Tav3!C24 -> 0 | E33: =+RAPPR_Tav3!D24 -> 0 | F33: =+RAPPR_Tav3!E24 -> 0 | G33: =+RAPPR_Tav3!F24 -> 0 | H33: =+RAPPR_Tav3!G24 -> 0 | I33: =+RAPPR_Tav3!H24 -> 0 | J33: =+RAPPR_Tav3!I24 -> 0 | K33: =+RAPPR_Tav3!J24 -> 0 | ... Q33: =+RAPPR_Tav3!P24 -> 0
A34: TOTALE RAMO III | D34: =+RAPPR_Tav3!C25 -> 5210 | E34: =+RAPPR_Tav3!D25 -> -0.15132758 | F34: =+RAPPR_Tav3!E25 -> 458415 | G34: =+RAPPR_Tav3!F25 -> -0.073398056 | H34: =+RAPPR_Tav3!G25 -> 321 | I34: =+RAPPR_Tav3!H25 -> 0.09556314 | J34: =+RAPPR_Tav3!I25 -> 7434 | K34: =+RAPPR_Tav3!J25 -> 0.037688442 | ... Q34: =+RAPPR_Tav3!P25 -> 0.61750432
A35: TOTALE RAMO IV | D35: =+RAPPR_Tav3!C26 -> 0 | E35: =+RAPPR_Tav3!D26 -> 0 | F35: =+RAPPR_Tav3!E26 -> 0 | G35: =+RAPPR_Tav3!F26 -> 0 | H35: =+RAPPR_Tav3!G26 -> 0 | I35: =+RAPPR_Tav3!H26 -> 0 | J35: =+RAPPR_Tav3!I26 -> 0 | K35: =+RAPPR_Tav3!J26 -> 0 | ... Q35: =+RAPPR_Tav3!P26 -> 0
A36: RAMO V: | B36: OPER. DI CAPITALIZZ. INDIVIDUALI | D36: =+RAPPR_Tav3!C27 -> 0 | E36: =+RAPPR_Tav3!D27 -> 0 | F36: =+RAPPR_Tav3!E27 -> 0 | G36: =+RAPPR_Tav3!F27 -> 0 | H36: =+RAPPR_Tav3!G27 -> 0 | I36: =+RAPPR_Tav3!H27 -> 0 | J36: =+RAPPR_Tav3!I27 -> 0 | K36: =+RAPPR_Tav3!J27 -> 0 | ... Q36: =+RAPPR_Tav3!P27 -> 0
B37: di cui | C37: contratti ex art. 41 d.lgs. 209/05 | D37: =+RAPPR_Tav3!C28 -> 0 | E37: =+RAPPR_Tav3!D28 -> 0 | F37: =+RAPPR_Tav3!E28 -> 0 | G37: =+RAPPR_Tav3!F28 -> 0 | H37: =+RAPPR_Tav3!G28 -> 0 | I37: =+RAPPR_Tav3!H28 -> 0 | J37: =+RAPPR_Tav3!I28 -> 0 | K37: =+RAPPR_Tav3!J28 -> 0 | ... Q37: =+RAPPR_Tav3!P28 -> 0
C38: connessi con fondi interni | D38: =+RAPPR_Tav3!C29 -> 0 | E38: =+RAPPR_Tav3!D29 -> 0 | F38: =+RAPPR_Tav3!E29 -> 0 | G38: =+RAPPR_Tav3!F29 -> 0 | H38: =+RAPPR_Tav3!G29 -> 0 | I38: =+RAPPR_Tav3!H29 -> 0 | J38: =+RAPPR_Tav3!I29 -> 0 | K38: =+RAPPR_Tav3!J29 -> 0 | ... Q38: =+RAPPR_Tav3!P29 -> 0
C39: connessi con fondi esterni | D39: =+RAPPR_Tav3!C30 -> 0 | E39: =+RAPPR_Tav3!D30 -> 0 | F39: =+RAPPR_Tav3!E30 -> 0 | G39: =+RAPPR_Tav3!F30 -> 0 | H39: =+RAPPR_Tav3!G30 -> 0 | I39: =+RAPPR_Tav3!H30 -> 0 | J39: =+RAPPR_Tav3!I30 -> 0 | K39: =+RAPPR_Tav3!J30 -> 0 | ... Q39: =+RAPPR_Tav3!P30 -> 0
C40: connessi con indice azionario | D40: =+RAPPR_Tav3!C31 -> 0 | E40: =+RAPPR_Tav3!D31 -> 0 | F40: =+RAPPR_Tav3!E31 -> 0 | G40: =+RAPPR_Tav3!F31 -> 0 | H40: =+RAPPR_Tav3!G31 -> 0 | I40: =+RAPPR_Tav3!H31 -> 0 | J40: =+RAPPR_Tav3!I31 -> 0 | K40: =+RAPPR_Tav3!J31 -> 0 | ... Q40: =+RAPPR_Tav3!P31 -> 0
C41: connessi con altro valore di riferimento | D41: =+RAPPR_Tav3!C32 -> 0 | E41: =+RAPPR_Tav3!D32 -> 0 | F41: =+RAPPR_Tav3!E32 -> 0 | G41: =+RAPPR_Tav3!F32 -> 0 | H41: =+RAPPR_Tav3!G32 -> 0 | I41: =+RAPPR_Tav3!H32 -> 0 | J41: =+RAPPR_Tav3!I32 -> 0 | K41: =+RAPPR_Tav3!J32 -> 0 | ... Q41: =+RAPPR_Tav3!P32 -> 0
B42: OPER. DI CAPITALIZZ. COLLETTIVE | D42: =+RAPPR_Tav3!C33 -> 0 | E42: =+RAPPR_Tav3!D33 -> 0 | F42: =+RAPPR_Tav3!E33 -> 0 | G42: =+RAPPR_Tav3!F33 -> 0 | H42: =+RAPPR_Tav3!G33 -> 0 | I42: =+RAPPR_Tav3!H33 -> 0 | J42: =+RAPPR_Tav3!I33 -> 0 | K42: =+RAPPR_Tav3!J33 -> 0 | ... Q42: =+RAPPR_Tav3!P33 -> 0
B43: di cui: | C43: T.F.R. di legge | D43: =+RAPPR_Tav3!C34 -> 0 | E43: =+RAPPR_Tav3!D34 -> 0 | F43: =+RAPPR_Tav3!E34 -> 0 | G43: =+RAPPR_Tav3!F34 -> 0 | H43: =+RAPPR_Tav3!G34 -> 0 | I43: =+RAPPR_Tav3!H34 -> 0 | J43: =+RAPPR_Tav3!I34 -> 0 | K43: =+RAPPR_Tav3!J34 -> 0 | ... Q43: =+RAPPR_Tav3!P34 -> 0
A44: TOTALE RAMO V | D44: =+RAPPR_Tav3!C35 -> 0 | E44: =+RAPPR_Tav3!D35 -> 0 | F44: =+RAPPR_Tav3!E35 -> 0 | G44: =+RAPPR_Tav3!F35 -> 0 | H44: =+RAPPR_Tav3!G35 -> 0 | I44: =+RAPPR_Tav3!H35 -> 0 | J44: =+RAPPR_Tav3!I35 -> 0 | K44: =+RAPPR_Tav3!J35 -> 0 | ... Q44: =+RAPPR_Tav3!P35 -> 0
A45: TOTALE RAMO VI | D45: =+RAPPR_Tav3!C36 -> 0 | E45: =+RAPPR_Tav3!D36 -> 0 | F45: =+RAPPR_Tav3!E36 -> 0 | G45: =+RAPPR_Tav3!F36 -> 0 | H45: =+RAPPR_Tav3!G36 -> 0 | I45: =+RAPPR_Tav3!H36 -> 0 | J45: =+RAPPR_Tav3!I36 -> 0 | K45: =+RAPPR_Tav3!J36 -> 0 | ... Q45: =+RAPPR_Tav3!P36 -> 0
A46: ASSICURAZIONI COMPLEMENTARI | D46: =+RAPPR_Tav3!C37 -> 25043 | E46: =+RAPPR_Tav3!D37 -> 0.079253577 | F46: =+RAPPR_Tav3!E37 -> 455555 | G46: =+RAPPR_Tav3!F37 -> 0.095890246 | H46: =+RAPPR_Tav3!G37 -> 0 | I46: =+RAPPR_Tav3!H37 -> 0 | J46: =+RAPPR_Tav3!I37 -> 0 | K46: =+RAPPR_Tav3!J37 -> 0 | ... Q46: =+RAPPR_Tav3!P37 -> 0.0027526689
B47: di cui: | C47: ramo I | D47: =+RAPPR_Tav3!C38 -> 25043 | E47: =+RAPPR_Tav3!D38 -> 0.079253577 | F47: =+RAPPR_Tav3!E38 -> 455555 | G47: =+RAPPR_Tav3!F38 -> 0.095890246 | H47: =+RAPPR_Tav3!G38 -> 0 | I47: =+RAPPR_Tav3!H38 -> 0 | J47: =+RAPPR_Tav3!I38 -> 0 | K47: =+RAPPR_Tav3!J38 -> 0 | ... Q47: =+RAPPR_Tav3!P38 -> 0.0027526689
C48: ramo III | D48: =+RAPPR_Tav3!C39 -> 0 | E48: =+RAPPR_Tav3!D39 -> 0 | F48: =+RAPPR_Tav3!E39 -> 0 | G48: =+RAPPR_Tav3!F39 -> 0 | H48: =+RAPPR_Tav3!G39 -> 0 | I48: =+RAPPR_Tav3!H39 -> 0 | J48: =+RAPPR_Tav3!I39 -> 0 | K48: =+RAPPR_Tav3!J39 -> 0 | ... Q48: =+RAPPR_Tav3!P39 -> 0
C49: ramo V | D49: =+RAPPR_Tav3!C40 -> 0 | E49: =+RAPPR_Tav3!D40 -> 0 | F49: =+RAPPR_Tav3!E40 -> 0 | G49: =+RAPPR_Tav3!F40 -> 0 | H49: =+RAPPR_Tav3!G40 -> 0 | I49: =+RAPPR_Tav3!H40 -> 0 | J49: =+RAPPR_Tav3!I40 -> 0 | K49: =+RAPPR_Tav3!J40 -> 0 | ... Q49: =+RAPPR_Tav3!P40 -> 0
C50: ramo VI | D50: =+RAPPR_Tav3!C41 -> 0 | E50: =+RAPPR_Tav3!D41 -> 0 | F50: =+RAPPR_Tav3!E41 -> 0 | G50: =+RAPPR_Tav3!F41 -> 0 | H50: =+RAPPR_Tav3!G41 -> 0 | I50: =+RAPPR_Tav3!H41 -> 0 | J50: =+RAPPR_Tav3!I41 -> 0 | K50: =+RAPPR_Tav3!J41 -> 0 | ... Q50: =+RAPPR_Tav3!P41 -> 0
A51: TOTALE | D51: =+RAPPR_Tav3!C42 -> 549109 | E51: =+RAPPR_Tav3!D42 -> 0.090993441 | F51: =+RAPPR_Tav3!E42 -> 54117452 | G51: =+RAPPR_Tav3!F42 -> 0.025064344 | H51: =+RAPPR_Tav3!G42 -> 455 | I51: =+RAPPR_Tav3!H42 -> 0.27094972 | J51: =+RAPPR_Tav3!I42 -> 9079 | K51: =+RAPPR_Tav3!J42 -> 0.072914205 | ... Q51: =+RAPPR_Tav3!P42 -> 1
A52: Nuove teste assicurate su convenzioni in corso al 1° gennaio per polizze collettive | D52: =+RAPPR_Tav3!C44 -> 0 | E52: =+RAPPR_Tav3!D44 -> 0 | F52: =+RAPPR_Tav3!E44 -> 0 | G52: =+RAPPR_Tav3!F44 -> 0 | H52: =+RAPPR_Tav3!G44 -> 0 | I52: =+RAPPR_Tav3!H44 -> 0 | J52: =+RAPPR_Tav3!I44 -> 0 | K52: =+RAPPR_Tav3!J44 -> 0 | ... Q52: =+RAPPR_Tav3!P44 -> 0
A53: ="Numero nuove convenzioni emesse per polizze collettive a tutto il "&IF(MID(RAPPR_Tav3!C1,5,4)="0331","1°", IF(MID(RAPPR_Tav3!C1,5,4)="0630","2°", IF(MID(RAPPR_Tav3!C1,5,4)="0930","3°","4°")))&" trimestre "&MID(RAPPR_Tav3!C1,1,4) -> Numero nuove convenzioni emesse per polizze collettive a tutto il 1° trimestre 2026 | D53: =+RAPPR_Tav3!C43 -> 0 | E53: =+RAPPR_Tav3!D43 -> 0
A55: (a) Premi raccolti in Italia da rappresentanze di imprese dello Spazio Economico Europeo (il cui controllo è esercitato dalle Autorità di Vigilanza dei Paesi di origine) che hanno partecipato alla rilevazione.
A57: (b) Il concetto di nuova produzione emessa comporta che, per le polizze che prevedono una rateazione del premio, venga indicato l'intero importo di tariffa su base annua, comprensivo di eventuali sovrappremi e garanzie accessorie.

Sheet B - Tavola 4
A1: ASSICURAZIONI DANNI: RAPPRESENTANZE DI IMPRESE S.E.E. (a)
A2: Lavoro diretto
A3: ="Premi lordi contabilizzati "&IF(MID(RAPPR_Tav4_1!C1,5,4)="0331","1°", IF(MID(RAPPR_Tav4_1!C1,5,4)="0630","2°", IF(MID(RAPPR_Tav4_1!C1,5,4)="0930","3°","4°")))&" trimestre "&MID(RAPPR_Tav4_1!C1,1,4) -> Premi lordi contabilizzati 1° trimestre 2026
E4: Importi in migliaia di EURO
C5: raccolta | D5: variazione - anno precedente | E5: variazione a perim. omogeneo - anno precedente | F5: incidenza
A6: =+RAPPR_Tav4_1!B2 -> Infortuni | C6: =+RAPPR_Tav4_1!C2 -> 201590 | D6: =+RAPPR_Tav4_1!D2 -> 0.065446839 | E6: =+RAPPR_Tav4_1!E2 -> 0.065446839 | F6: =+RAPPR_Tav4_1!F2 -> 0.082351917
A7: =+RAPPR_Tav4_1!B3 -> Malattia | C7: =+RAPPR_Tav4_1!C3 -> 135899 | D7: =+RAPPR_Tav4_1!D3 -> 0.13111548 | E7: =+RAPPR_Tav4_1!E3 -> 0.13111548 | F7: =+RAPPR_Tav4_1!F3 -> 0.055516361
A8: =+RAPPR_Tav4_1!B4 -> Corpi di Veicoli Terrestri | C8: =+RAPPR_Tav4_1!C4 -> 181247 | D8: =+RAPPR_Tav4_1!D4 -> 0.15444684 | E8: =+RAPPR_Tav4_1!E4 -> 0.15444684 | F8: =+RAPPR_Tav4_1!F4 -> 0.07404156
A9: =+RAPPR_Tav4_1!B5 -> Corpi di veicoli Ferroviari | C9: =+RAPPR_Tav4_1!C5 -> 0 | D9: =+RAPPR_Tav4_1!D5 -> 0 | E9: =+RAPPR_Tav4_1!E5 -> 0 | F9: =+RAPPR_Tav4_1!F5 -> 0
A10: =+RAPPR_Tav4_1!B6 -> Corpi di Veicoli Aerei | C10: =+RAPPR_Tav4_1!C6 -> 1742 | D10: =+RAPPR_Tav4_1!D6 -> -0.21848362 | E10: =+RAPPR_Tav4_1!E6 -> -0.21848362 | F10: =+RAPPR_Tav4_1!F6 -> 0.00071162776
A11: =+RAPPR_Tav4_1!B7 -> Corpi di Veicoli Marittimi,Lacustri e Fluviali | C11: =+RAPPR_Tav4_1!C7 -> 16793 | D11: =+RAPPR_Tav4_1!D7 -> -0.56333047 | E11: =+RAPPR_Tav4_1!E7 -> -0.56333047 | F11: =+RAPPR_Tav4_1!F7 -> 0.0068601406
A12: =+RAPPR_Tav4_1!B8 -> Merci Trasportate | C12: =+RAPPR_Tav4_1!C8 -> 64998 | D12: =+RAPPR_Tav4_1!D8 -> -0.010293267 | E12: =+RAPPR_Tav4_1!E8 -> -0.010293267 | F12: =+RAPPR_Tav4_1!F8 -> 0.026552458
A13: =+RAPPR_Tav4_1!B9 -> Incendio Ed Elementi Naturali | C13: =+RAPPR_Tav4_1!C9 -> 146164 | D13: =+RAPPR_Tav4_1!D9 -> 0.10073199 | E13: =+RAPPR_Tav4_1!E9 -> 0.10073199 | F13: =+RAPPR_Tav4_1!F9 -> 0.059709736
A14: =+RAPPR_Tav4_1!B10 -> Altri Danni Ai Beni | C14: =+RAPPR_Tav4_1!C10 -> 195986 | D14: =+RAPPR_Tav4_1!D10 -> 0.02012284 | E14: =+RAPPR_Tav4_1!E10 -> 0.02012284 | F14: =+RAPPR_Tav4_1!F10 -> 0.080062617
A15: =+RAPPR_Tav4_1!B11 -> R.C. Autoveicoli Terrestri | C15: =+RAPPR_Tav4_1!C11 -> 496886 | D15: =+RAPPR_Tav4_1!D11 -> 0.057453994 | E15: =+RAPPR_Tav4_1!E11 -> 0.057453994 | F15: =+RAPPR_Tav4_1!F11 -> 0.20298385
A16: =+RAPPR_Tav4_1!B12 -> R.C. Aeromobili | C16: =+RAPPR_Tav4_1!C12 -> 2513 | D16: =+RAPPR_Tav4_1!D12 -> 0.0358615 | E16: =+RAPPR_Tav4_1!E12 -> 0.0358615 | F16: =+RAPPR_Tav4_1!F12 -> 0.0010265904
A17: =+RAPPR_Tav4_1!B13 -> R.C. Veicoli Marittimi, Lacustri E Fluviali | C17: =+RAPPR_Tav4_1!C13 -> 694 | D17: =+RAPPR_Tav4_1!D13 -> -0.73152805 | E17: =+RAPPR_Tav4_1!E13 -> -0.73152805 | F17: =+RAPPR_Tav4_1!F13 -> 0.00028350727
... A22: =+RAPPR_Tav4_1!B18 -> Tutela Legale | C22: =+RAPPR_Tav4_1!C18 -> 59149 | D22: =+RAPPR_Tav4_1!D18 -> 0.029161519 | E22: =+RAPPR_Tav4_1!E18 -> 0.029161519 | F22: =+RAPPR_Tav4_1!F18 -> 0.024163071
A23: Assistenza | C23: =+RAPPR_Tav4_1!C19 -> 60163 | D23: =+RAPPR_Tav4_1!D19 -> 0.050570136 | E23: =+RAPPR_Tav4_1!E19 -> 0.050570136 | F23: =+RAPPR_Tav4_1!F19 -> 0.024577303
A24: =+RAPPR_Tav4_1!B20 -> TOTALE | C24: =+RAPPR_Tav4_1!C20 -> 2447909 | D24: =+RAPPR_Tav4_1!D20 -> 0.0056500076 | E24: =+RAPPR_Tav4_1!E20 -> 0.0056500076 | F24: =+RAPPR_Tav4_1!F20 -> 1
A26: (a) Premi raccolti in Italia da rappresentanze di imprese dello Spazio Economico Europeo (il cui controllo è esercitato dalle Autorità di Vigilanza dei Paesi di origine) che hanno partecipato alla rilevazione.
A29: ="Distribuzione per canale distributivo dei premi lordi "&IF(MID(TOT_Tav4_2!C1,5,4)="0331","1°", IF(MID(TOT_Tav4_2!C1,5,4)="0630","2°", IF(MID(TOT_Tav4_2!C1,5,4)="0930","3°","4°")))&" trimestre "&MID(RAPPR_Tav4_1!C1,1,4) -> Distribuzione per canale distributivo dei premi lordi 1° trimestre 2026
H30: Importi in migliaia di EURO
C31: Totale rami danni | F31: R.c.autoveicoli terrestri
C32: raccolta | D32: variazione - anno precedente | E32: incidenza | F32: raccolta | G32: variazione - anno precedente | H32: incidenza
A33: =+RAPPR_Tav4_2!B2 -> Agenzie con mandato | C33: =+RAPPR_Tav4_2!C2 -> 1186098 | D33: =+RAPPR_Tav4_2!D2 -> 0.035441292 | E33: =+RAPPR_Tav4_2!E2 -> 0.48453517 | F33: =+RAPPR_Tav4_2!F2 -> 459246 | G33: =+RAPPR_Tav4_2!G2 -> 0.074139044 | H33: =+RAPPR_Tav4_2!H2 -> 0.92424822
A34: Consulenti finanziari | C34: =+RAPPR_Tav4_2!C3 -> 25035 | D34: =+RAPPR_Tav4_2!D3 -> 1.2332739 | E34: =+RAPPR_Tav4_2!E3 -> 0.010227096 | F34: =+RAPPR_Tav4_2!F3 -> 212 | G34: =+RAPPR_Tav4_2!G3 -> 0 | H34: =+RAPPR_Tav4_2!H3 -> 0.00042665722
A35: =+RAPPR_Tav4_2!B4 -> Sportelli bancari e postali | C35: =+RAPPR_Tav4_2!C4 -> 110085 | D35: =+RAPPR_Tav4_2!D4 -> 0.13673678 | E35: =+RAPPR_Tav4_2!E4 -> 0.044971034 | F35: =+RAPPR_Tav4_2!F4 -> 49 | G35: =+RAPPR_Tav4_2!G4 -> -0.02 | H35: =+RAPPR_Tav4_2!H4 -> 9.8614169e-05
A36: =+RAPPR_Tav4_2!B5 -> Brokers | C36: =+RAPPR_Tav4_2!C5 -> 991340 | D36: =+RAPPR_Tav4_2!D5 -> -0.042718173 | E36: =+RAPPR_Tav4_2!E5 -> 0.4049742 | F36: =+RAPPR_Tav4_2!F5 -> 34832 | G36: =+RAPPR_Tav4_2!G5 -> -0.068912056 | H36: =+RAPPR_Tav4_2!H5 -> 0.070100586
A37: =+RAPPR_Tav4_2!B6 -> Agenzie in economia e gerenze | C37: =+RAPPR_Tav4_2!C6 -> 43551 | D37: =+RAPPR_Tav4_2!D6 -> -0.13762104 | E37: =+RAPPR_Tav4_2!E6 -> 0.017791103 | F37: =+RAPPR_Tav4_2!F6 -> 2372 | G37: =+RAPPR_Tav4_2!G6 -> -0.21038615 | H37: =+RAPPR_Tav4_2!H6 -> 0.0047737308
A38: =+RAPPR_Tav4_2!B7 &" (b)" -> Altre forme di vendita diretta (b) | C38: =+RAPPR_Tav4_2!C7 -> 91800 | D38: =+RAPPR_Tav4_2!D7 -> -0.028818078 | E38: =+RAPPR_Tav4_2!E7 -> 0.037501394 | F38: =+RAPPR_Tav4_2!F7 -> 175 | G38: =+RAPPR_Tav4_2!G7 -> -0.90676612 | H38: =+RAPPR_Tav4_2!H7 -> 0.00035219346
A39: =+RAPPR_Tav4_2!B8 -> TOTALE | C39: =+RAPPR_Tav4_2!C8 -> 2447909 | D39: =+RAPPR_Tav4_2!D8 -> 0.0056500076 | E39: =+RAPPR_Tav4_2!E8 -> 1 | F39: =+RAPPR_Tav4_2!F8 -> 496886 | G39: =+RAPPR_Tav4_2!G8 -> 0.057453994 | H39: =+RAPPR_Tav4_2!H8 -> 1
A41: (b) Il dato comprende anche i premi acquisiti attraverso il canale telefonico e il canale internet
