Workbook
Name a: 'INDICE delle TAVOLE STATISTICHE'!$A$1:$A$13

Sheet INDICE delle TAVOLE STATISTICHE
A3: PRODUZIONE AL I° TIMESTRE 2026
A4: Portafoglio italiano - Lavoro diretto
A7: ASSICURAZIONI VITA | C7: ASSICURAZIONI DANNI
A9: TOTALE IMPRESE VIGILATE IVASS e RAPPRESENTANZE SEE (TOT)
A10: Premi lordi contabilizzati a tutto il I° trimestre 2026 | C10: Premi lordi contabilizzati a tutto il I° trimestre 2026
A11: Ripartizione per canale distributivo dei premi lordi contabilizzati a tutto il I° trimestre 2026 | C11: Ripartizione per canale distributivo dei premi lordi contabilizzati a tutto il I° trimestre 2026
A12: Nuova produzione emessa a tutto il I° trimestre 2026
A14: IMPRESE VIGILATE IVASS (A)*
A15: Premi lordi contabilizzati a tutto il I° trimestre 2026 | C15: Premi lordi contabilizzati a tutto il I° trimestre 2026
A16: Ripartizione per canale distributivo dei premi lordi contabilizzati a tutto il I° trimestre 2026 | C16: Ripartizione per canale distributivo dei premi lordi contabilizzati a tutto il I° trimestre 2026
A17: Nuova produzione emessa a tutto il I° trimestre 2026
A19: RAPPRESENTANZE SEE (B)**
A20: Premi lordi contabilizzati a tutto il I° trimestre 2026 | C20: Premi lordi contabilizzati a tutto il I° trimestre 2026
A21: Ripartizione per canale distributivo dei premi lordi contabilizzati a tutto il I° trimestre 2026 | C21: Ripartizione per canale distributivo dei premi lordi contabilizzati a tutto il I° trimestre 2026
A22: Nuova produzione emessa a tutto il I° trimestre 2026
A24: * Imprese di assicurazione nazionali e dalle Rappresentanze per l’Italia delle imprese di assicurazione extra S.E.E. (partecipanti: tutte le 83 imprese autorizzate)
A25: ** Rappresentanze per l’Italia delle imprese di assicurazione S.E.E. (partecipanti: 81 delle 84 imprese autorizzate)

Sheet TOT_Tav1
A1: POSIZ | B1: NOME | C1: 20260331_01 - Premi lordi contabilizzati - Annui | D1: 20260331_02 - Premi lordi contabilizzati - Unici | E1: 20260331_03 - Premi lordi contabilizzati - Ricorrenti | F1: 20260331_04 - Premi lordi contabilizzati - Totale | G1: 20260331_05 - Premi lordi contabilizzati - Di cui(**) di prima annualità | H1: varAnnua04 | I1: incidenza04
A2: 1 | B2: RAMO I - ASSICURAZIONI INDIVIDUALI - popolari, adeguabili e indicizzate | C2: 0 | D2: 1 | E2: 249 | F2: 250 | G2: 0 | I2: 7.6837924e-06
A3: 2 | B3: RAMO I - ASSICURAZIONI INDIVIDUALI - rivalutabili | C3: 395624 | D3: 15692198 | E3: 1485468 | F3: 17573290 | G3: 226970 | H3: -0.046615413 | I3: 0.54011805
A4: 3 | B4: RAMO I - ASSICURAZIONI INDIVIDUALI - rivalutabili - di cui: polizze in valuta | C4: 431 | D4: 3109 | E4: 2824 | F4: 6364 | G4: 58 | H4: 0.075363298 | I4: 0.00019559862
A5: 4 | B5: RAMO I - ASSICURAZIONI INDIVIDUALI - rivalutabili - di cui: contratti ex art. 13, comma 1, lett. b) d.lgs. 252/05 | C5: 1769 | D5: 0 | E5: 704291 | F5: 706060 | G5: 64401 | H5: -0.072864553 | I5: 0.021700874
A6: 5 | B6: RAMO I - ASSICURAZIONI INDIVIDUALI - temporanee di puro rischio | C6: 240314 | D6: 219817 | E6: 9183 | F6: 469314 | G6: 46355 | H6: 0.062082325 | I6: 0.014424445
A7: 6 | B7: RAMO I - ASSICURAZIONI INDIVIDUALI - altre | C7: 5966 | D7: 81343 | E7: 714 | F7: 88023 | G7: 482 | H7: 1.023936 | I7: 0.0027054018
A8: 7 | B8: RAMO I - ASSICURAZIONI INDIVIDUALI - TOTALE INDIVIDUALI | C8: 641904 | D8: 15993359 | E8: 1495614 | F8: 18130877 | G8: 273807 | H8: -0.041602129 | I8: 0.55725558
A9: 8 | B9: RAMO I - ASSICURAZIONI COLLETTIVE - T.F.R. di legge | C9: 583 | D9: 4059 | E9: 1620 | F9: 6262 | G9: 608 | H9: -0.2000511 | I9: 0.00019246363
A10: 9 | B10: RAMO I - ASSICURAZIONI COLLETTIVE - tempor. di gruppo e altre di rischio | C10: 160198 | D10: 347675 | E10: 16595 | F10: 524468 | G10: 58046 | H10: 0.081571333 | I10: 0.016119613
A11: 10 | B11: RAMO I - ASSICURAZIONI COLLETTIVE - previdenziali | C11: 283433 | D11: 230844 | E11: 66681 | F11: 580958 | G11: 17142 | H11: -0.049307057 | I11: 0.017855843
A12: 11 | B12: RAMO I - TOTALE COLLETTIVE | C12: 444214 | D12: 582578 | E12: 84896 | F12: 1111688 | G12: 75796 | H12: 0.0071188498 | I12: 0.034167919
A13: 12 | B13: TOTALE RAMO I | C13: 1086118 | D13: 16575937 | E13: 1580510 | F13: 19242565 | G13: 349603 | H13: -0.038916064 | I13: 0.5914235
A14: 13 | B14: TOTALE RAMO II | C14: 0 | D14: 0 | E14: 0 | F14: 0 | G14: 0 | I14: 0
A15: 14 | B15: RAMO III - ASSICURAZIONI INDIVIDUALI - connesse con fondi interni | C15: 16217 | D15: 4851196 | E15: 966307 | F15: 5833720 | G15: 222381 | H15: 0.078218787 | I15: 0.17930037
A16: 15 | B16: RAMO III - ASSICURAZIONI INDIVIDUALI - connesse con fondi interni - di cui: contratti ex art. 13, comma 1, lett. b) d.lgs. 252/05 | C16: 0 | D16: 0 | E16: 363863 | F16: 363863 | G16: 66559 | H16: 0.10397337 | I16: 0.011183391
A17: 16 | B17: RAMO III - ASSICURAZIONI INDIVIDUALI - connesse con quote di OICR | C17: 1428 | D17: 5011774 | E17: 604647 | F17: 5617849 | G17: 180193 | H17: 0.056150238 | I17: 0.17266554
A18: 17 | B18: RAMO III - ASSICURAZIONI INDIVIDUALI - connesse con quote di OICR - di cui: contratti ex art. 13, comma 1, lett. b) d.lgs. 252/05 | C18: 0 | D18: 0 | E18: 310375 | F18: 310375 | G18: 117802 | H18: 0.46529096 | I18: 0.0095394283
A19: 18 | B19: RAMO III - ASSICURAZIONI INDIVIDUALI - connesse con indice azionario | C19: 0 | D19: 5445 | E19: 0 | F19: 5445 | G19: 0 | I19: 0.000167353
A20: 19 | B20: RAMO III - ASSICURAZIONI INDIVIDUALI - connesse con altro valore di riferimento | C20: 0 | D20: 0 | E20: 0 | F20: 0 | G20: 0 | I20: 0
A21: 20 | B21: RAMO III - ASSICURAZIONI INDIVIDUALI - TOTALE INDIVIDUALI | C21: 17645 | D21: 9868415 | E21: 1570954 | F21: 11457014 | G21: 402574 | H21: 0.067785916 | I21: 0.35213327
A22: 21 | B22: RAMO III - ASSICURAZIONI COLLETTIVE | C22: 8239 | D22: 2808 | E22: 0 | F22: 11047 | G22: 507 | H22: 0.70189493 | I22: 0.00033953142
A23: 22 | B23: TOTALE RAMO III | C23: 25884 | D23: 9871223 | E23: 1570954 | F23: 11468061 | G23: 403081 | H23: 0.068169293 | I23: 0.3524728
A24: 23 | B24: TOTALE RAMO IV | C24: 80795 | D24: 16609 | E24: 1383 | F24: 98787 | G24: 19193 | H24: 0.16261033 | I24: 0.0030362352
A25: 24 | B25: RAMO V - OPER.DI CAPITALIZZAZIONE INDIVIDUALI | C25: 15 | D25: 218746 | E25: 33508 | F25: 252269 | G25: 465 | H25: -0.33107857 | I25: 0.0077535305
A26: 25 | B26: RAMO V - OPER.DI CAPITALIZZAZIONE INDIVIDUALI - di cui: contratti ex art. 41 d.lgs. 209/05 | C26: 0 | D26: 103 | E26: 56 | F26: 159 | G26: 0 | H26: -0.76090226 | I26: 4.886892e-06
A27: 26 | B27: RAMO V - OPER.DI CAPITALIZZAZIONE INDIVIDUALI - di cui: connessi con fondi interni | C27: 0 | D27: 103 | E27: 56 | F27: 159 | G27: 0 | H27: -0.080924855 | I27: 4.886892e-06
A28: 27 | B28: RAMO V - OPER.DI CAPITALIZZAZIONE INDIVIDUALI - di cui: connessi con quote di OICR | C28: 0 | D28: 0 | E28: 0 | F28: 0 | G28: 0 | I28: 0
A29: 28 | B29: RAMO V - OPER.DI CAPITALIZZAZIONE INDIVIDUALI - di cui: connessi con indice azionario | C29: 0 | D29: 0 | E29: 0 | F29: 0 | G29: 0 | I29: 0
A30: 29 | B30: RAMO V - OPER.DI CAPITALIZZAZIONE INDIVIDUALI - di cui: connessi con altro valore di riferimento | C30: 0 | D30: 0 | E30: 0 | F30: 0 | G30: 0 | H30: -1 | I30: 0
A31: 30 | B31: RAMO V - OPER.DI CAPITALIZZAZIONE COLLETTIVE | C31: 695 | D31: 233507 | E31: 10844 | F31: 245046 | G31: 104 | H31: 0.3955022 | I31: 0.0075315304
A32: 31 | B32: RAMO V - OPER.DI CAPITALIZZAZIONE COLLETTIVE - di cui: T.F.R. di legge | C32: 18 | D32: 30185 | E32: 821 | F32: 31024 | G32: 87 | H32: 0.53896523 | I32: 0.0009535279
A33: 32 | B33: TOTALE RAMO V | C33: 710 | D33: 452253 | E33: 44352 | F33: 497315 | G33: 569 | H33: -0.10024877 | I33: 0.015285061
A34: 33 | B34: TOTALE RAMO VI | C34: 534 | D34: 938553 | E34: 206175 | F34: 1145262 | G34: 5193 | H34: -0.19554751 | I34: 0.035199822
A35: 34 | B35: ASSICURAZIONI COMPLEMENTARI | C35: 17204 | D35: 11591 | E35: 55232 | F35: 84027 | G35: 11425 | H35: -0.18776039 | I35: 0.0025825841
A36: 35 | B36: ASSICURAZIONI COMPLEMENTARI - di cui: ramo I | C36: 17203 | D36: 7282 | E36: 49860 | F36: 74345 | G36: 9064 | H36: -0.17826313 | I36: 0.0022850062
A37: 36 | B37: ASSICURAZIONI COMPLEMENTARI - di cui: ramo III | C37: 0 | D37: 4309 | E37: 5370 | F37: 9679 | G37: 2360 | H37: -0.25402697 | I37: 0.00029748571
A38: 37 | B38: ASSICURAZIONI COMPLEMENTARI - di cui: ramo V | C38: 1 | D38: 0 | E38: 0 | F38: 1 | G38: 0 | H38: 0 | I38: 3.073517e-08
A39: 38 | B39: ASSICURAZIONI COMPLEMENTARI - di cui: ramo VI | C39: 0 | D39: 0 | E39: 2 | F39: 2 | G39: 1 | H39: 0 | I39: 6.1470339e-08
A40: 39 | B40: TOTALE | C40: 1211245 | D40: 27866166 | E40: 3458606 | F40: 32536017 | G40: 789064 | H40: -0.011745629 | I40: 1

Sheet TOT_Tav2
A1: POSIZ | B1: NOME | C1: 20260331_01 - Agenzie con mandato | D1: varAnnua01 | E1: 20260331_02 - Promotori finanziari | F1: varAnnua02 | G1: 20260331_03 - Sportelli bancari e postali | H1: varAnnua03 | I1: 20260331_04 - Brokers | J1: varAnnua04 | K1: 20260331_05 - Agenzie in economia e gerenze | L1: varAnnua05 | M1: 20260331_06 - Altre forme di vendita diretta | N1: varAnnua06 | O1: 20260331_07 - Totale | P1: varAnnua07 | Q1: incidenza07
A2: 1 | B2: SETTORE INDIVIDUALI - RAMO I | C2: 2541999 | D2: 0.096583507 | E2: 1686761 | F2: 0.010941531 | G2: 12276832 | H2: -0.068901193 | I2: 163308 | J2: 0.078894864 | K2: 1407504 | L2: -0.06116454 | M2: 54472 | N2: -0.4290446 | O2: 18130876 | P2: -0.041602182 | Q2: 0.55869843
A3: 2 | B3: SETTORE INDIVIDUALI - RAMO I - di cui contratti ex art. 13, comma 1, lett. b) d.lgs. 252/05 | C3: 227057 | D3: -0.021913123 | E3: 12257 | F3: -0.15322971 | G3: 254174 | H3: -0.050164799 | I3: 2193 | J3: -0.087010824 | K3: 200772 | L3: 0.018697327 | M3: 9607 | N3: -0.79920157 | O3: 706060 | P3: -0.072864553 | Q3: 0.021757063
A4: 3 | B4: SETTORE INDIVIDUALI - RAMO II | C4: 0 | E4: 0 | G4: 0 | I4: 0 | K4: 0 | M4: 0 | O4: 0 | Q4: 0
A5: 4 | B5: SETTORE INDIVIDUALI - RAMO III | C5: 790377 | D5: -0.1796388 | E5: 3425747 | F5: -0.055869324 | G5: 6610378 | H5: 0.20496285 | I5: 187974 | J5: 0.26734582 | K5: 431652 | L5: -0.11622784 | M5: 10886 | N5: -0.27782938 | O5: 11457014 | P5: 0.067785916 | Q5: 0.35304504
A6: 5 | B6: SETTORE INDIVIDUALI - RAMO III - di cui contratti ex art. 13, comma 1, lett. b) d.lgs. 252/05 | C6: 147657 | D6: 0.15132164 | E6: 373257 | F6: 0.33083157 | G6: 35079 | H6: -0.0007690993 | I6: 4837 | J6: 0.53312203 | K6: 104528 | L6: 0.273055 | M6: 8880 | N6: -0.27945472 | O6: 674238 | P6: 0.24533257 | Q6: 0.020776476
A7: 6 | B7: SETTORE INDIVIDUALI - RAMO IV | C7: 60507 | D7: 0.13696494 | E7: 296 | F7: 0.29257642 | G7: 9394 | H7: 0.029705141 | I7: 19 | J7: -0.05 | K7: 11658 | L7: 0.19753467 | M7: 1 | O7: 81875 | P7: 0.13204286 | Q7: 0.0025229578
A8: 7 | B8: SETTORE INDIVIDUALI - RAMO V | C8: 18347 | D8: -0.86962608 | E8: 198 | F8: 2.1935484 | G8: 110545 | H8: 4.6855938 | I8: 1759 | J8: 26.484375 | K8: 120118 | L8: -0.41400708 | M8: 1301 | N8: -0.89022023 | O8: 252268 | P8: -0.33108122 | Q8: 0.0077735757
A9: 8 | B9: SETTORE INDIVIDUALI - RAMO V - di cui contratti ex art. 41 d.lgs. 209/05 | C9: 159 | D9: -0.080924855 | E9: 0 | G9: 0 | H9: -1 | I9: 0 | K9: 0 | L9: -1 | M9: 0 | O9: 159 | P9: -0.76090226 | Q9: 4.8995455e-06
A10: 9 | B10: SETTORE INDIVIDUALI - RAMO VI | C10: 105740 | D10: 0.1369159 | E10: 106124 | F10: 0.28672584 | G10: 201210 | H10: 0.012499623 | I10: 1542 | J10: 0.27332783 | K10: 12624 | L10: 0.075023418 | M10: 778 | N10: -0.97446501 | O10: 428018 | P10: 0.024873692 | Q10: 0.013189268
A11: 10 | B11: TOTALE INDIVIDUALI | C11: 3516970 | D11: -0.01444245 | E11: 5219126 | F11: -0.029855166 | G11: 19208359 | H11: 0.0163923 | I11: 354602 | J11: 0.17815019 | K11: 1983556 | L11: -0.10411809 | M11: 67438 | N11: -0.55864606 | O11: 30350051 | P11: -0.0053949776 | Q11: 0.93522927
A12: 11 | B12: TOTALE INDIVIDUALI - di cui : premi annui | C12: 337274 | D12: 0.0048443608 | E12: 18466 | F12: 0.0028784011 | G12: 128410 | H12: 0.044425285 | I12: 8201 | J12: 0.10989308 | K12: 236805 | L12: -0.13373427 | M12: 5896 | N12: 0.14596696 | O12: 735052 | P12: -0.036510396 | Q12: 0.022650445
A13: 12 | B13: TOTALE INDIVIDUALI - di cui : premi unici | C13: 2396530 | D13: -0.036411257 | E13: 4639624 | F13: -0.047891062 | G13: 17972812 | H13: 0.017154913 | I13: 328997 | J13: 0.17851642 | K13: 1136261 | L13: -0.15197188 | M13: 31021 | N13: -0.58994052 | O13: 26505245 | P13: -0.0082032675 | Q13: 0.81675253
A14: 13 | B14: TOTALE INDIVIDUALI - di cui : premi ricorrenti | C14: 783166 | D14: 0.05014133 | E14: 561036 | F14: 0.14888938 | G14: 1107137 | H14: 0.0010913891 | I14: 17404 | J14: 0.20601483 | K14: 610490 | L14: 0.016072686 | M14: 30521 | N14: -0.57611488 | O14: 3109754 | P14: 0.02723749 | Q14: 0.095826296
A15: 14 | B15: SETTORE COLLETTIVE - RAMO I | C15: 193210 | D15: -0.02984625 | E15: 4254 | F15: 0.37982485 | G15: 240676 | H15: 0.034965276 | I15: 146935 | J15: 0.13910165 | K15: 496834 | L15: -0.028509192 | M15: 29780 | N15: 0.039731862 | O15: 1111689 | P15: 0.0071197558 | Q15: 0.03425642
A16: 15 | B16: SETTORE COLLETTIVE - RAMO II | C16: 0 | E16: 0 | G16: 0 | I16: 0 | K16: 0 | M16: 0 | O16: 0 | Q16: 0
A17: 16 | B17: SETTORE COLLETTIVE - RAMO III | C17: 0 | E17: 0 | G17: 0 | I17: 0 | K17: 10943 | L17: 0.91110723 | M17: 104 | N17: -0.86405229 | O17: 11047 | P17: 0.70189493 | Q17: 0.00034041056
A18: 17 | B18: SETTORE COLLETTIVE - RAMO IV | C18: 6234 | D18: 0.1332485 | E18: 6 | G18: 1202 | H18: 25.130435 | I18: 4080 | J18: 0.044279498 | K18: 5388 | L18: 0.68955786 | M18: 2 | N18: 0 | O18: 16912 | P18: 0.33744563 | Q18: 0.00052113907
A19: 18 | B19: SETTORE COLLETTIVE - RAMO V | C19: 41761 | D19: 0.068712253 | E19: 9308 | F19: 50.425414 | G19: 1044 | H19: -0.081794195 | I19: 11701 | J19: -0.6072831 | K19: 171738 | L19: 0.76648838 | M19: 9495 | N19: 0.15962384 | O19: 245047 | P19: 0.3955079 | Q19: 0.0075510624
A20: 19 | B20: SETTORE COLLETTIVE - RAMO VI | C20: 69654 | D20: 0.17071449 | E20: 29422 | F20: 0.36074369 | G20: 30816 | H20: 0.024161654 | I20: 8352 | J20: -0.14827657 | K20: 501402 | L20: -0.43345047 | M20: 77598 | O20: 717244 | P20: -0.28705081 | Q20: 0.022101695
A21: 20 | B21: TOTALE COLLETTIVE | C21: 310859 | D21: 0.025165882 | E21: 42990 | F21: 0.7274773 | G21: 273738 | H21: 0.037605613 | I21: 171068 | J21: -0.0083014493 | K21: 1186305 | L21: -0.21047693 | M21: 116979 | N21: 2.1113919 | O21: 2101939 | P21: -0.087932458 | Q21: 0.064770727
A22: 21 | B22: T O T A L E | C22: 3827829 | D22: -0.011340391 | E22: 5262116 | F22: -0.026367972 | G22: 19482097 | H22: 0.016684353 | I22: 525670 | J22: 0.11022172 | K22: 3169861 | L22: -0.14711671 | M22: 184417 | N22: -0.031397883 | O22: 32451990 | P22: -0.011190805 | Q22: 1

Sheet TOT_Tav3
A1: POSIZ | B1: NOME | C1: 20260331_01 - Assicurazioni di capitali - Numero polizze/teste | D1: varAnnua01 | E1: 20260331_02 - Assicurazioni di capitali - Somme assicurate | F1: varAnnua02 | G1: 20260331_03 - Assicurazioni di rendite - Numero polizze/teste | H1: varAnnua03 | I1: 20260331_04 - Assicurazioni di tendite - Somme assicurate | J1: varAnnua04 | K1: 20260331_05 - Premi di tariffa - Annui | L1: 20260331_06 - Premi di tariffa - Unici | M1: 20260331_07 - Premi di tariffa - Ricorrenti | N1: 20260331_08 - Premi di tariffa - Totale | O1: varAnnua08 | P1: incidenza08
A2: 1 | B2: RAMO I - ASSICURAZIONI INDIVIDUALI - rivalutabili | C2: 302281 | D2: -0.080346223 | E2: 13544367 | F2: -0.015728586 | G2: 31624 | H2: -0.19095375 | I2: 26589 | J2: -0.60298926 | K2: 19681 | L2: 13419671 | M2: 242625 | N2: 13681977 | O2: -0.019392088 | P2: 0.57745754
A3: 2 | B3: RAMO I - ASSICURAZIONI INDIVIDUALI - rivalutabili - di cui: Polizze in valuta | C3: 102 | D3: -0.40697674 | E3: 3353 | F3: 0.42257106 | G3: 0 | I3: 0 | J3: -1 | K3: 0 | L3: 3364 | M3: 0 | N3: 3364 | O3: 0.41761483 | P3: 0.00014198001
A4: 3 | B4: RAMO I - ASSICURAZIONI INDIVIDUALI - rivalutabili - di cui: contratti ex art. 13, comma 1, lett. b) d.lgs. 252/05 | C4: 0 | E4: 0 | G4: 31467 | H4: -0.19249127 | I4: 19456 | J4: -0.69674865 | K4: 0 | L4: 0 | M4: 112116 | N4: 112116 | O4: -0.10156982 | P4: 0.0047319353
A5: 4 | B5: RAMO I - ASSICURAZIONI INDIVIDUALI - temporanee di puro rischio | C5: 244688 | D5: 0.0021666209 | E5: 19015358 | F5: 0.027986827 | G5: 5 | H5: 4 | I5: 5 | J5: 4 | K5: 44438 | L5: 250374 | M5: 616 | N5: 295428 | O5: 0.034140194 | P5: 0.012468748
A6: 5 | B6: RAMO I - ASSICURAZIONI INDIVIDUALI - altre | C6: 3194 | D6: 2.6295455 | E6: 259417 | F6: 2.1545047 | G6: 0 | I6: 0 | K6: 467 | L6: 103423 | M6: 1102 | N6: 104992 | O6: 1.326074 | P6: 0.0044312618
A7: 6 | B7: RAMO I - ASSICURAZIONI INDIVIDUALI - TOTALE INDIVIDUALI | C7: 550163 | D7: -0.041075142 | E7: 32819142 | F7: 0.014793522 | G7: 31629 | H7: -0.19084653 | I7: 26594 | J7: -0.60292054 | K7: 64586 | L7: 13773468 | M7: 244343 | N7: 14082397 | O7: -0.014069591 | P7: 0.59435755
A8: 7 | B8: RAMO I - ASSICURAZIONI INDIVIDUALI - TOTALE INDIVIDUALI - di cui: deriv. da trasformazione | C8: 6831 | D8: 3.7110345 | E8: 408954 | F8: 1.4981155 | G8: 0 | I8: 0 | K8: 1033 | L8: 246563 | M8: 5 | N8: 247601 | O8: 5.0455367 | P8: 0.010450176
A9: 8 | B9: RAMO I - ASSICURAZIONI INDIVIDUALI - TOTALE INDIVIDUALI - di cui: deriv. da trasferimenti di posiz. previd. a contratti ex art. 13, co. 1, lett. b), d.lgs. 252/05 | C9: 0 | E9: 0 | G9: 293 | H9: 0.11406844 | I9: 5588 | J9: 5.2575588 | K9: 0 | L9: 19205 | M9: 0 | N9: 19205 | O9: 0.061694953 | P9: 0.00081056065
A10: 9 | B10: RAMO I - ASSICURAZIONI COLLETTIVE - T.F.R. di legge | C10: 387504 | D10: 997.72165 | E10: 1605761 | F10: 1435.28 | G10: 0 | I10: 0 | K10: 1984 | L10: 47247 | M10: 0 | N10: 49231 | O10: 38.196656 | P10: 0.0020778293
A11: 10 | B11: RAMO I - ASSICURAZIONI COLLETTIVE - tempor. di gruppo e altre di rischio | C11: 682016 | D11: -0.34464767 | E11: 87925856 | F11: -0.040302923 | G11: 18801 | H11: 1.6196182 | I11: 90685 | J11: 0.86200029 | K11: 35904 | L11: 270685 | M11: 0 | N11: 306589 | O11: -0.070068853 | P11: 0.012939806
A12: 11 | B12: RAMO I - ASSICURAZIONI COLLETTIVE - previdenziali | C12: 18684 | D12: -0.43097305 | E12: 184557 | F12: -0.054838297 | G12: 10118 | H12: -0.080516176 | I12: 385 | J12: -0.17025862 | K12: 48689 | L12: 33221 | M12: 0 | N12: 81910 | O12: -0.17804783 | P12: 0.0034570696
A13: 12 | B13: RAMO I - ASSICURAZIONI COLLETTIVE - TOTALE COLLETTIVE | C13: 1088204 | D13: 0.013311184 | E13: 89716174 | F13: -0.022856377 | G13: 28919 | H13: 0.59061658 | I13: 91070 | J13: 0.85225863 | K13: 86577 | L13: 351153 | M13: 0 | N13: 437730 | O13: 0.016560652 | P13: 0.018474705
A14: 13 | B14: TOTALE RAMO I | C14: 1638367 | D14: -0.0056268428 | E14: 122535316 | F14: -0.013049119 | G14: 60548 | H14: 0.057237646 | I14: 117664 | J14: 0.013113371 | K14: 151163 | L14: 14124621 | M14: 244343 | N14: 14520127 | O14: -0.013173207 | P14: 0.61283226
A15: 14 | B15: TOTALE RAMO II | C15: 0 | E15: 0 | G15: 0 | I15: 0 | K15: 0 | L15: 0 | M15: 0 | N15: 0 | P15: 0
A16: 15 | B16: RAMO III - ASSICURAZIONI INDIVIDUALI - connesse con fondi interni | C16: 105469 | D16: 0.15714348 | E16: 4008421 | F16: 0.26273025 | G16: 34482 | H16: -0.063218235 | I16: 28642 | J16: 0.011941775 | K16: 5248 | L16: 3873053 | M16: 286057 | N16: 4164358 | O16: 0.26274171 | P16: 0.17575968
A17: 16 | B17: RAMO III - ASSICURAZIONI INDIVIDUALI - connesse con fondi interni - di cui: art. 13, comma 1, lett. b) d.lgs. 252/05 | C17: 0 | E17: 0 | G17: 33812 | H17: -0.067718099 | I17: 24038 | J17: -0.14495073 | K17: 0 | L17: 0 | M17: 77331 | N17: 77331 | O17: 0.041565089 | P17: 0.0032638097
A18: 17 | B18: RAMO III - ASSICURAZIONI INDIVIDUALI - connesse con quote di OICR | C18: 59324 | D18: 0.006446797 | E18: 4255949 | F18: -0.07421508 | G18: 17536 | H18: 1.1003713 | I18: 43249 | J18: 0.51718936 | K18: 289 | L18: 4307771 | M18: 115837 | N18: 4423897 | O18: -0.059488723 | P18: 0.18671371
A19: 18 | B19: RAMO III - ASSICURAZIONI INDIVIDUALI - connesse con quote di OICR - di cui: art. 13, comma 1, lett. b) d.lgs. 252/05 | C19: 0 | E19: 0 | G19: 17536 | H19: 1.1003713 | I19: 43249 | J19: 0.51718936 | K19: 0 | L19: 0 | M19: 43489 | N19: 43489 | O19: 0.51900105 | P19: 0.0018354841
A20: 19 | B20: RAMO III - ASSICURAZIONI INDIVIDUALI - connesse con indice azionario | C20: 0 | E20: 5418 | G20: 0 | I20: 0 | K20: 0 | L20: 5445 | M20: 0 | N20: 5445 | P20: 0.00022981009
A21: 20 | B21: RAMO III - ASSICURAZIONI INDIVIDUALI - connesse con altro valore di riferimento | C21: 0 | E21: 0 | G21: 0 | I21: 0 | K21: 0 | L21: 0 | M21: 0 | N21: 0 | P21: 0
A22: 21 | B22: RAMO III - TOTALE INDIVIDUALI | C22: 164793 | D22: 0.097961223 | E22: 8269788 | F22: 0.064112833 | G22: 52018 | H22: 0.15191107 | I22: 71891 | J22: 0.26546383 | K22: 5537 | L22: 8186269 | M22: 401894 | N22: 8593700 | O22: 0.073999714 | P22: 0.3627032
A23: 22 | B23: RAMO III - TOTALE INDIVIDUALI - ASSICURAZIONI INDIVIDUALI - di cui: deriv. da trasferimenti di posiz. previd. a contratti ex art. 9-ter d.lgs. 124/93 | C23: 0 | E23: 0 | G23: 2385 | H23: 0.63692519 | I23: 35881 | J23: 0.55456869 | K23: 0 | L23: 50302 | M23: 0 | N23: 50302 | O23: 0.21867429 | P23: 0.0021230316
A24: 23 | B24: RAMO III - ASSICURAZIONI COLLETTIVE | C24: 226 | D24: 0.93162393 | E24: 142 | F24: -0.77531646 | G24: 0 | H24: -1 | I24: 0 | J24: -1 | K24: 142 | L24: 104 | M24: 0 | N24: 246 | O24: -0.70853081 | P24: 1.0382604e-05
A25: 24 | B25: TOTALE RAMO III | C25: 165019 | D25: 0.098610584 | E25: 8269930 | F25: 0.064044574 | G25: 52018 | H25: 0.14840162 | I25: 71891 | J25: 0.26521885 | K25: 5679 | L25: 8186373 | M25: 401894 | N25: 8593946 | O25: 0.073917182 | P25: 0.36271359
A26: 25 | B26: TOTALE RAMO IV | C26: 46408 | D26: 32.315147 | E26: 224786 | F26: 4.562633 | G26: 1068708 | H26: 1.7279034 | I26: 15636773 | J26: 3.032237 | K26: 23962 | L26: 9040 | M26: 293 | N26: 33295 | O26: 0.19710207 | P26: 0.0014052391
A27: 26 | B27: RAMO V - OPER.DI CAPITALIZZAZIONE INDIVIDUALI | C27: 419 | D27: 2.4344262 | E27: 96813 | F27: -0.33309683 | G27: 0 | I27: 0 | K27: 0 | L27: 133239 | M27: 0 | N27: 133239 | O27: -0.080780694 | P27: 0.0056234465
A28: 27 | B28: RAMO V - OPER.DI CAPITALIZZAZIONE INDIVIDUALI - di cui: contratti ex art. 41 d.lgs. 209/05 | C28: 0 | D28: -1 | E28: 0 | F28: -1 | G28: 0 | I28: 0 | K28: 0 | L28: 0 | M28: 0 | N28: 0 | O28: -1 | P28: 0
A29: 28 | B29: RAMO V - OPER.DI CAPITALIZZAZIONE INDIVIDUALI - di cui: connessi con fondi interni | C29: 0 | E29: 0 | G29: 0 | I29: 0 | K29: 0 | L29: 0 | M29: 0 | N29: 0 | P29: 0
A30: 29 | B30: RAMO V - OPER.DI CAPITALIZZAZIONE INDIVIDUALI - di cui: connessi con quote di OICR | C30: 0 | E30: 0 | G30: 0 | I30: 0 | K30: 0 | L30: 0 | M30: 0 | N30: 0 | P30: 0
A31: 30 | B31: RAMO V - OPER.DI CAPITALIZZAZIONE INDIVIDUALI - di cui: connessi con indice azionario | C31: 0 | E31: 0 | G31: 0 | I31: 0 | K31: 0 | L31: 0 | M31: 0 | N31: 0 | P31: 0
A32: 31 | B32: RAMO V - OPER.DI CAPITALIZZAZIONE INDIVIDUALI - di cui: connessi con altro valore di riferimento | C32: 0 | D32: -1 | E32: 0 | F32: -1 | G32: 0 | I32: 0 | K32: 0 | L32: 0 | M32: 0 | N32: 0 | O32: -1 | P32: 0
A33: 32 | B33: RAMO V - OPER.DI CAPITALIZZAZIONE COLLETTIVE | C33: 1145 | D33: 0.043755697 | E33: 285750 | F33: 0.33489986 | G33: 0 | I33: 0 | K33: 0 | L33: 176600 | M33: 0 | N33: 176600 | O33: 0.84621818 | P33: 0.0074535282
A34: 33 | B34: RAMO V - OPER.DI CAPITALIZZAZIONE COLLETTIVE - di cui: T.F.R. di legge | C34: 800 | D34: 0.070950469 | E34: 2572 | F34: 1.1505017 | G34: 0 | I34: 0 | K34: 0 | L34: 2631 | M34: 0 | N34: 2631 | O34: 1.1425081 | P34: 0.00011104322
A35: 34 | B35: TOTALE RAMO V | C35: 1564 | D35: 0.28301887 | E35: 382563 | F35: 0.06495578 | G35: 0 | I35: 0 | K35: 0 | L35: 309839 | M35: 0 | N35: 309839 | O35: 0.28776034 | P35: 0.013076975
A36: 35 | B36: TOTALE RAMO VI | C36: 41796 | D36: -0.62459919 | E36: 181199 | F36: -0.67729819 | G36: 19287 | H36: 0.18441415 | I36: 14935 | J36: -0.051625603 | K36: 144 | L36: 204731 | M36: 7822 | N36: 212697 | O36: -0.64329342 | P36: 0.0089770277
A37: 36 | B37: ASSICURAZIONI COMPLEMENTARI | C37: 70891 | D37: -0.24178316 | E37: 1539651 | F37: -0.35428131 | G37: 0 | I37: 0 | K37: 1719 | L37: 13346 | M37: 8508 | N37: 23573 | O37: -0.46860981 | P37: 0.00099491518
A38: 37 | B38: ASSICURAZIONI COMPLEMENTARI - di cui: ramo I | C38: 70884 | D38: -0.24124126 | E38: 1538289 | F38: -0.35310996 | G38: 0 | I38: 0 | K38: 1705 | L38: 9093 | M38: 6019 | N38: 16817 | O38: -0.46941158 | P38: 0.00070977341
A39: 38 | B39: ASSICURAZIONI COMPLEMENTARI - di cui: ramo III | C39: 4 | D39: -0.94366197 | E39: 905 | F39: -0.85422036 | G39: 0 | I39: 0 | K39: 14 | L39: 4253 | M39: 2488 | N39: 6755 | O39: -0.46668246 | P39: 0.00028509957
A40: 39 | B40: ASSICURAZIONI COMPLEMENTARI - di cui: ramo V | C40: 0 | D40: -1 | E40: 0 | F40: -1 | G40: 0 | I40: 0 | K40: 0 | L40: 0 | M40: 0 | N40: 0 | P40: 0
...

Sheet TOT_Tav4_1
A1: POSIZ | B1: NOME | C1: 20260331_01 - PREMI | D1: varAnnua01 | E1: incidenza01
A2: 1 | B2: Infortuni | C2: 1177744 | D2: 0.034347267 | E2: 0.085622973
A3: 2 | B3: Malattia | C3: 1756090 | D3: 0.11612154 | E3: 0.12766921
A4: 3 | B4: Corpi di Veicoli Terrestri | C4: 1512076 | D4: 0.070541 | E4: 0.10992919
A5: 4 | B5: Corpi di veicoli Ferroviari | C5: 756 | D5: -0.41213064 | E5: 5.4961832e-05
A6: 5 | B6: Corpi di Veicoli Aerei | C6: 7922 | D6: -0.13647264 | E6: 0.00057593602
A7: 6 | B7: Corpi di Veicoli Marittimi,Lacustri e Fluviali | C7: 80546 | D7: -0.35032546 | E7: 0.0058557615
A8: 7 | B8: Merci Trasportate | C8: 127335 | D8: -0.041195428 | E8: 0.009257361
A9: 8 | B9: Incendio Ed Elementi Naturali | C9: 1161838 | D9: 0.067161561 | E9: 0.084466594
A10: 9 | B10: Altri Danni Ai Beni | C10: 1128005 | D10: 0.010659363 | E10: 0.082006907
A11: 10 | B11: R.C. Autoveicoli Terrestri | C11: 3877231 | D11: 0.036870768 | E11: 0.28187794
A12: 11 | B12: R.C. Aeromobili | C12: 4837 | D12: 0.21869489 | E12: 0.00035165394
A13: 12 | B13: R.C. Veicoli Marittimi, Lacustri E Fluviali | C13: 6240 | D13: -0.21341233 | E13: 0.00045365322
... A20: 19 | B20: TOTALE | C20: 13755000 | D20: 0.037518494 | E20: 1

Sheet TOT_Tav4_2
A1: POSIZ | B1: NOME | C1: 20260331_01 - Totale rami danni | D1: varAnnua01 | E1: incidenza01 | F1: 20260331_02 - di: R.C. Autoveicoli terrestri | G1: varAnnua02 | H1: incidenza02
A2: 1 | B2: Agenzie con mandato | C2: 8986182 | D2: 0.039460167 | E2: 0.65330294 | F2: 3336322 | G2: 0.026879738 | H2: 0.8604909
A3: 2 | B3: Promotori finanziari | C3: 81238 | D3: 0.34089296 | E3: 0.0059060705 | F3: 212 | H3: 5.4678197e-05
A4: 3 | B4: Sportelli bancari e postali | C4: 1300903 | D4: 0.093952372 | E4: 0.094576736 | F4: 82533 | G4: 0.018473271 | H4: 0.021286583
A5: 4 | B5: Brokers | C5: 2167918 | D5: -0.042197057 | E5: 0.15760945 | F5: 210201 | G5: 0.0022457445 | H5: 0.054214206
A6: 5 | B6: Agenzie in economia e gerenze | C6: 734105 | D6: 0.24772247 | E6: 0.053370047 | F6: 58892 | G6: 1.7805477 | H6: 0.01518919
A7: 6 | B7: Altre forme di vendita diretta | C7: 484654 | D7: -0.051561442 | E7: 0.035234751 | F7: 189071 | G7: 0.059684344 | H7: 0.04876444
A8: 7 | B8: TOTALE | C8: 13755000 | D8: 0.037518494 | E8: 1 | F8: 3877231 | G8: 0.036870768 | H8: 1

Sheet TOT - Tavola 1
A1: ASSICURAZIONI VITA: TOTALE IMPRESE VIGILATE IVASS e RAPPRESENTANZE SEE (a)
A2: Lavoro diretto
A3: ="Premi lordi contabilizzati a tutto il "&IF(MID(TOT_Tav1!C1,5,4)="0331","1°", IF(MID(TOT_Tav1!C1,5,4)="0630","2°", IF(MID(TOT_Tav1!C1,5,4)="0930","3°","4°")))&" trimestre "&MID(TOT_Tav1!C1,1,4) -> Premi lordi contabilizzati a tutto il 1° trimestre 2026
J4: Importi in migliaia di EURO
A5: CATEGORIE | D5: Premi e rate di premi
D6: Annui | E6: Unici | F6: Ricorrenti | G6: Di cui di prima annualità (b) | H6: Totale | I6: variazione - anno precedente | J6: incidenza
A8: RAMO I: | B8: ASSICURAZIONI INDIVIDUALI
B9: popolari, adeguabili e indicizzate | D9: =+TOT_Tav1!C2 -> 0 | E9: =+TOT_Tav1!D2 -> 1 | F9: =+TOT_Tav1!E2 -> 249 | G9: =+TOT_Tav1!G2 -> 0 | H9: =+TOT_Tav1!F2 -> 250 | I9: =+TOT_Tav1!H2 -> 0 | J9: =+TOT_Tav1!I2 -> 7.6837924e-06
B10: rivalutabili | D10: =+TOT_Tav1!C3 -> 395624 | E10: =+TOT_Tav1!D3 -> 15692198 | F10: =+TOT_Tav1!E3 -> 1485468 | G10: =+TOT_Tav1!G3 -> 226970 | H10: =+TOT_Tav1!F3 -> 17573290 | I10: =+TOT_Tav1!H3 -> -0.046615413 | J10: =+TOT_Tav1!I3 -> 0.54011805
B11: di cui: | C11: polizze in valuta | D11: =+TOT_Tav1!C4 -> 431 | E11: =+TOT_Tav1!D4 -> 3109 | F11: =+TOT_Tav1!E4 -> 2824 | G11: =+TOT_Tav1!G4 -> 58 | H11: =+TOT_Tav1!F4 -> 6364 | I11: =+TOT_Tav1!H4 -> 0.075363298 | J11: =+TOT_Tav1!I4 -> 0.00019559862
C12: art. 13, co. 1, lett. b), d.lgs. 252/05 | D12: =+TOT_Tav1!C5 -> 1769 | E12: =+TOT_Tav1!D5 -> 0 | F12: =+TOT_Tav1!E5 -> 704291 | G12: =+TOT_Tav1!G5 -> 64401 | H12: =+TOT_Tav1!F5 -> 706060 | I12: =+TOT_Tav1!H5 -> -0.072864553 | J12: =+TOT_Tav1!I5 -> 0.021700874
B13: temporanee di puro rischio | D13: =+TOT_Tav1!C6 -> 240314 | E13: =+TOT_Tav1!D6 -> 219817 | F13: =+TOT_Tav1!E6 -> 9183 | G13: =+TOT_Tav1!G6 -> 46355 | H13: =+TOT_Tav1!F6 -> 469314 | I13: =+TOT_Tav1!H6 -> 0.062082325 | J13: =+TOT_Tav1!I6 -> 0.014424445
B14: altre | D14: =+TOT_Tav1!C7 -> 5966 | E14: =+TOT_Tav1!D7 -> 81343 | F14: =+TOT_Tav1!E7 -> 714 | G14: =+TOT_Tav1!G7 -> 482 | H14: =+TOT_Tav1!F7 -> 88023 | I14: =+TOT_Tav1!H7 -> 1.023936 | J14: =+TOT_Tav1!I7 -> 0.0027054018
B15: TOTALE INDIVIDUALI | D15: =+TOT_Tav1!C8 -> 641904 | E15: =+TOT_Tav1!D8 -> 15993359 | F15: =+TOT_Tav1!E8 -> 1495614 | G15: =+TOT_Tav1!G8 -> 273807 | H15: =+TOT_Tav1!F8 -> 18130877 | I15: =+TOT_Tav1!H8 -> -0.041602129 | J15: =+TOT_Tav1!I8 -> 0.55725558
B16: ASSICURAZIONI COLLETTIVE
B17: T.F.R. di legge | D17: =+TOT_Tav1!C9 -> 583 | E17: =+TOT_Tav1!D9 -> 4059 | F17: =+TOT_Tav1!E9 -> 1620 | G17: =+TOT_Tav1!G9 -> 608 | H17: =+TOT_Tav1!F9 -> 6262 | I17: =+TOT_Tav1!H9 -> -0.2000511 | J17: =+TOT_Tav1!I9 -> 0.00019246363
B18: temporanee di gruppo e altre di rischio | D18: =+TOT_Tav1!C10 -> 160198 | E18: =+TOT_Tav1!D10 -> 347675 | F18: =+TOT_Tav1!E10 -> 16595 | G18: =+TOT_Tav1!G10 -> 58046 | H18: =+TOT_Tav1!F10 -> 524468 | I18: =+TOT_Tav1!H10 -> 0.081571333 | J18: =+TOT_Tav1!I10 -> 0.016119613
B19: previdenziali | D19: =+TOT_Tav1!C11 -> 283433 | E19: =+TOT_Tav1!D11 -> 230844 | F19: =+TOT_Tav1!E11 -> 66681 | G19: =+TOT_Tav1!G11 -> 17142 | H19: =+TOT_Tav1!F11 -> 580958 | I19: =+TOT_Tav1!H11 -> -0.049307057 | J19: =+TOT_Tav1!I11 -> 0.017855843
B20: TOTALE COLLETTIVE | D20: =+TOT_Tav1!C12 -> 444214 | E20: =+TOT_Tav1!D12 -> 582578 | F20: =+TOT_Tav1!E12 -> 84896 | G20: =+TOT_Tav1!G12 -> 75796 | H20: =+TOT_Tav1!F12 -> 1111688 | I20: =+TOT_Tav1!H12 -> 0.0071188498 | J20: =+TOT_Tav1!I12 -> 0.034167919
A21: TOTALE RAMO I | D21: =+TOT_Tav1!C13 -> 1086118 | E21: =+TOT_Tav1!D13 -> 16575937 | F21: =+TOT_Tav1!E13 -> 1580510 | G21: =+TOT_Tav1!G13 -> 349603 | H21: =+TOT_Tav1!F13 -> 19242565 | I21: =+TOT_Tav1!H13 -> -0.038916064 | J21: =+TOT_Tav1!I13 -> 0.5914235
A22: TOTALE RAMO II | D22: =+TOT_Tav1!C14 -> 0 | E22: =+TOT_Tav1!D14 -> 0 | F22: =+TOT_Tav1!E14 -> 0 | G22: =+TOT_Tav1!G14 -> 0 | H22: =+TOT_Tav1!F14 -> 0 | I22: - | J22: -
A23: RAMO III: | B23: ASSICURAZIONI INDIVIDUALI
B24: connesse con fondi interni | D24: =+TOT_Tav1!C15 -> 16217 | E24: =+TOT_Tav1!D15 -> 4851196 | F24: =+TOT_Tav1!E15 -> 966307 | G24: =+TOT_Tav1!G15 -> 222381 | H24: =+TOT_Tav1!F15 -> 5833720 | I24: =+TOT_Tav1!H15 -> 0.078218787 | J24: =+TOT_Tav1!I15 -> 0.17930037
B25: di cui: | C25: art. 13, co. 1, lett. b), d.lgs. 252/05 | D25: =+TOT_Tav1!C16 -> 0 | E25: =+TOT_Tav1!D16 -> 0 | F25: =+TOT_Tav1!E16 -> 363863 | G25: =+TOT_Tav1!G16 -> 66559 | H25: =+TOT_Tav1!F16 -> 363863 | I25: =+TOT_Tav1!H16 -> 0.10397337 | J25: =+TOT_Tav1!I16 -> 0.011183391
B26: connesse con fondi esterni | D26: =+TOT_Tav1!C17 -> 1428 | E26: =+TOT_Tav1!D17 -> 5011774 | F26: =+TOT_Tav1!E17 -> 604647 | G26: =+TOT_Tav1!G17 -> 180193 | H26: =+TOT_Tav1!F17 -> 5617849 | I26: =+TOT_Tav1!H17 -> 0.056150238 | J26: =+TOT_Tav1!I17 -> 0.17266554
B27: di cui: | C27: art. 13, co. 1, lett. b), d.lgs. 252/05 | D27: =+TOT_Tav1!C18 -> 0 | E27: =+TOT_Tav1!D18 -> 0 | F27: =+TOT_Tav1!E18 -> 310375 | G27: =+TOT_Tav1!G18 -> 117802 | H27: =+TOT_Tav1!F18 -> 310375 | I27: =+TOT_Tav1!H18 -> 0.46529096 | J27: =+TOT_Tav1!I18 -> 0.0095394283
B28: connesse con indice azionario | D28: =+TOT_Tav1!C19 -> 0 | E28: =+TOT_Tav1!D19 -> 5445 | F28: =+TOT_Tav1!E19 -> 0 | G28: =+TOT_Tav1!G19 -> 0 | H28: =+TOT_Tav1!F19 -> 5445 | I28: - | J28: -
B29: connesse con altro valore di riferimento | D29: =+TOT_Tav1!C20 -> 0 | E29: =+TOT_Tav1!D20 -> 0 | F29: =+TOT_Tav1!E20 -> 0 | G29: =+TOT_Tav1!G20 -> 0 | H29: =+TOT_Tav1!F20 -> 0 | I29: =+TOT_Tav1!H20 -> 0 | J29: =+TOT_Tav1!I20 -> 0
B30: TOTALE INDIVIDUALI | D30: =+TOT_Tav1!C21 -> 17645 | E30: =+TOT_Tav1!D21 -> 9868415 | F30: =+TOT_Tav1!E21 -> 1570954 | G30: =+TOT_Tav1!G21 -> 402574 | H30: =+TOT_Tav1!F21 -> 11457014 | I30: =+TOT_Tav1!H21 -> 0.067785916 | J30: =+TOT_Tav1!I21 -> 0.35213327
B31: ASSICURAZIONI COLLETTIVE | D31: =+TOT_Tav1!C22 -> 8239 | E31: =+TOT_Tav1!D22 -> 2808 | F31: =+TOT_Tav1!E22 -> 0 | G31: =+TOT_Tav1!G22 -> 507 | H31: =+TOT_Tav1!F22 -> 11047 | I31: =+TOT_Tav1!H22 -> 0.70189493 | J31: =+TOT_Tav1!I22 -> 0.00033953142
A32: TOTALE RAMO III | D32: =+TOT_Tav1!C23 -> 25884 | E32: =+TOT_Tav1!D23 -> 9871223 | F32: =+TOT_Tav1!E23 -> 1570954 | G32: =+TOT_Tav1!G23 -> 403081 | H32: =+TOT_Tav1!F23 -> 11468061 | I32: =+TOT_Tav1!H23 -> 0.068169293 | J32: =+TOT_Tav1!I23 -> 0.3524728
A33: TOTALE RAMO IV | D33: =+TOT_Tav1!C24 -> 80795 | E33: =+TOT_Tav1!D24 -> 16609 | F33: =+TOT_Tav1!E24 -> 1383 | G33: =+TOT_Tav1!G24 -> 19193 | H33: =+TOT_Tav1!F24 -> 98787 | I33: =+TOT_Tav1!H24 -> 0.16261033 | J33: =+TOT_Tav1!I24 -> 0.0030362352
A34: RAMO V: | B34: OPER. DI CAPITALIZZ. INDIVIDUALI | D34: =+TOT_Tav1!C25 -> 15 | E34: =+TOT_Tav1!D25 -> 218746 | F34: =+TOT_Tav1!E25 -> 33508 | G34: =+TOT_Tav1!G25 -> 465 | H34: =+TOT_Tav1!F25 -> 252269 | I34: =+TOT_Tav1!H25 -> -0.33107857 | J34: =+TOT_Tav1!I25 -> 0.0077535305
B35: di cui: | C35: contratti art. 41 d.lgs. 209/05 | D35: =+TOT_Tav1!C26 -> 0 | E35: =+TOT_Tav1!D26 -> 103 | F35: =+TOT_Tav1!E26 -> 56 | G35: =+TOT_Tav1!G26 -> 0 | H35: =+TOT_Tav1!F26 -> 159 | I35: =+TOT_Tav1!H26 -> -0.76090226 | J35: =+TOT_Tav1!I26 -> 4.886892e-06
C36: connessi con fondi interni | D36: =+TOT_Tav1!C27 -> 0 | E36: =+TOT_Tav1!D27 -> 103 | F36: =+TOT_Tav1!E27 -> 56 | G36: =+TOT_Tav1!G27 -> 0 | H36: =+TOT_Tav1!F27 -> 159 | I36: =+TOT_Tav1!H27 -> -0.080924855 | J36: =+TOT_Tav1!I27 -> 4.886892e-06
C37: connessi con fondi esterni | D37: =+TOT_Tav1!C28 -> 0 | E37: =+TOT_Tav1!D28 -> 0 | F37: =+TOT_Tav1!E28 -> 0 | G37: =+TOT_Tav1!G28 -> 0 | H37: =+TOT_Tav1!F28 -> 0 | I37: - | J37: -
C38: connessi con indice azionario | D38: =+TOT_Tav1!C29 -> 0 | E38: =+TOT_Tav1!D29 -> 0 | F38: =+TOT_Tav1!E29 -> 0 | G38: =+TOT_Tav1!G29 -> 0 | H38: =+TOT_Tav1!F29 -> 0 | I38: - | J38: -
C39: connessi con altro valore di riferimento | D39: =+TOT_Tav1!C30 -> 0 | E39: =+TOT_Tav1!D30 -> 0 | F39: =+TOT_Tav1!E30 -> 0 | G39: =+TOT_Tav1!G30 -> 0 | H39: =+TOT_Tav1!F30 -> 0 | I39: - | J39: -
B40: OPER. DI CAPITALIZZ. COLLETTIVE | D40: =+TOT_Tav1!C31 -> 695 | E40: =+TOT_Tav1!D31 -> 233507 | F40: =+TOT_Tav1!E31 -> 10844 | G40: =+TOT_Tav1!G31 -> 104 | H40: =+TOT_Tav1!F31 -> 245046 | I40: =+TOT_Tav1!H31 -> 0.3955022 | J40: =+TOT_Tav1!I31 -> 0.0075315304
B41: di cui: | C41: T.F.R. di legge | D41: =+TOT_Tav1!C32 -> 18 | E41: =+TOT_Tav1!D32 -> 30185 | F41: =+TOT_Tav1!E32 -> 821 | G41: =+TOT_Tav1!G32 -> 87 | H41: =+TOT_Tav1!F32 -> 31024 | I41: =+TOT_Tav1!H32 -> 0.53896523 | J41: =+TOT_Tav1!I32 -> 0.0009535279
...

Sheet TOT - Tavola 2
A1: ASSICURAZIONI VITA: TOTALE IMPRESE VIGILATE IVASS e RAPPRESENTANZE SEE (a)
A2: Lavoro diretto
A3: ="Ripartizione per canale distributivo dei premi lordi contabilizzati a tutto il "&IF(MID(TOT_Tav2!C1,5,4)="0331","1°", IF(MID(TOT_Tav2!C1,5,4)="0630","2°", IF(MID(TOT_Tav2!C1,5,4)="0930","3°","4°")))&" trimestre "&MID(TOT_Tav2!C1,1,4) -> Ripartizione per canale distributivo dei premi lordi contabilizzati a tutto il 1° trimestre 2026
P4: Importi in migliaia di EURO
B5: Agenzie con mandato | D5: Consulenti finanziari | F5: Sportelli bancari e postali | H5: Brokers | J5: Agenzie in economia e gerenze | L5: Altre forme di vendita diretta | N5: Totale
B6: raccolta | C6: variazione - anno prec. | D6: raccolta | E6: variazione - anno prec. | F6: raccolta | G6: variazione - anno prec. | H6: raccolta | I6: variazione - anno prec. | J6: raccolta | K6: variazione - anno prec. | L6: raccolta | M6: variazione - anno prec. | N6: raccolta | O6: variazione - anno precedente | P6: incidenza
A7: SETTORE INDIVIDUALI
A8: RAMO I | B8: =+TOT_Tav2!C2 -> 2541999 | C8: =+TOT_Tav2!D2 -> 0.096583507 | D8: =+TOT_Tav2!E2 -> 1686761 | E8: =+TOT_Tav2!F2 -> 0.010941531 | F8: =+TOT_Tav2!G2 -> 12276832 | G8: =+TOT_Tav2!H2 -> -0.068901193 | H8: =+TOT_Tav2!I2 -> 163308 | I8: =+TOT_Tav2!J2 -> 0.078894864 | ... P8: =+TOT_Tav2!Q2 -> 0.55869843
A9: di cui art. 13, c. 1, lett. b) d.lgs. 252/05 | B9: =+TOT_Tav2!C3 -> 227057 | C9: =+TOT_Tav2!D3 -> -0.021913123 | D9: =+TOT_Tav2!E3 -> 12257 | E9: =+TOT_Tav2!F3 -> -0.15322971 | F9: =+TOT_Tav2!G3 -> 254174 | G9: =+TOT_Tav2!H3 -> -0.050164799 | H9: =+TOT_Tav2!I3 -> 2193 | I9: =+TOT_Tav2!J3 -> -0.087010824 | ... P9: =+TOT_Tav2!Q3 -> 0.021757063
A10: RAMO II | B10: =+TOT_Tav2!C4 -> 0 | C10: =+TOT_Tav2!D4 -> 0 | D10: =+TOT_Tav2!E4 -> 0 | E10: =+TOT_Tav2!F4 -> 0 | F10: =+TOT_Tav2!G4 -> 0 | G10: =+TOT_Tav2!H4 -> 0 | H10: =+TOT_Tav2!I4 -> 0 | I10: =+TOT_Tav2!J4 -> 0 | ... P10: =+TOT_Tav2!Q4 -> 0
A11: RAMO III | B11: =+TOT_Tav2!C5 -> 790377 | C11: =+TOT_Tav2!D5 -> -0.1796388 | D11: =+TOT_Tav2!E5 -> 3425747 | E11: =+TOT_Tav2!F5 -> -0.055869324 | F11: =+TOT_Tav2!G5 -> 6610378 | G11: =+TOT_Tav2!H5 -> 0.20496285 | H11: =+TOT_Tav2!I5 -> 187974 | I11: =+TOT_Tav2!J5 -> 0.26734582 | ... P11: =+TOT_Tav2!Q5 -> 0.35304504
A12: di cui art. 13, c. 1, lett. b) d.lgs. 252/05 | B12: =+TOT_Tav2!C6 -> 147657 | C12: =+TOT_Tav2!D6 -> 0.15132164 | D12: =+TOT_Tav2!E6 -> 373257 | E12: =+TOT_Tav2!F6 -> 0.33083157 | F12: =+TOT_Tav2!G6 -> 35079 | G12: =+TOT_Tav2!H6 -> -0.0007690993 | H12: =+TOT_Tav2!I6 -> 4837 | I12: =+TOT_Tav2!J6 -> 0.53312203 | ... P12: =+TOT_Tav2!Q6 -> 0.020776476
A13: RAMO IV | B13: =+TOT_Tav2!C7 -> 60507 | C13: =+TOT_Tav2!D7 -> 0.13696494 | D13: =+TOT_Tav2!E7 -> 296 | E13: =+TOT_Tav2!F7 -> 0.29257642 | F13: =+TOT_Tav2!G7 -> 9394 | G13: =+TOT_Tav2!H7 -> 0.029705141 | H13: =+TOT_Tav2!I7 -> 19 | I13: =+TOT_Tav2!J7 -> -0.05 | ... P13: =+TOT_Tav2!Q7 -> 0.0025229578
A14: RAMO V | B14: =+TOT_Tav2!C8 -> 18347 | C14: =+TOT_Tav2!D8 -> -0.86962608 | D14: =+TOT_Tav2!E8 -> 198 | E14: =+TOT_Tav2!F8 -> 2.1935484 | F14: =+TOT_Tav2!G8 -> 110545 | G14: =+TOT_Tav2!H8 -> 4.6855938 | H14: =+TOT_Tav2!I8 -> 1759 | I14: =+TOT_Tav2!J8 -> 26.484375 | ... P14: =+TOT_Tav2!Q8 -> 0.0077735757
A15: di cui art. 41 d.lgs. 209/05 | B15: =+TOT_Tav2!C9 -> 159 | C15: =+TOT_Tav2!D9 -> -0.080924855 | D15: =+TOT_Tav2!E9 -> 0 | E15: =+TOT_Tav2!F9 -> 0 | F15: =+TOT_Tav2!G9 -> 0 | G15: =+TOT_Tav2!H9 -> -1 | H15: =+TOT_Tav2!I9 -> 0 | I15: =+TOT_Tav2!J9 -> 0 | ... P15: =+TOT_Tav2!Q9 -> 4.8995455e-06
A16: RAMO VI | B16: =+TOT_Tav2!C10 -> 105740 | C16: =+TOT_Tav2!D10 -> 0.1369159 | D16: =+TOT_Tav2!E10 -> 106124 | E16: =+TOT_Tav2!F10 -> 0.28672584 | F16: =+TOT_Tav2!G10 -> 201210 | G16: =+TOT_Tav2!H10 -> 0.012499623 | H16: =+TOT_Tav2!I10 -> 1542 | I16: =+TOT_Tav2!J10 -> 0.27332783 | ... P16: =+TOT_Tav2!Q10 -> 0.013189268
A17: TOTALE INDIVIDUALI | B17: =+TOT_Tav2!C11 -> 3516970 | C17: =+TOT_Tav2!D11 -> -0.01444245 | D17: =+TOT_Tav2!E11 -> 5219126 | E17: =+TOT_Tav2!F11 -> -0.029855166 | F17: =+TOT_Tav2!G11 -> 19208359 | G17: =+TOT_Tav2!H11 -> 0.0163923 | H17: =+TOT_Tav2!I11 -> 354602 | I17: =+TOT_Tav2!J11 -> 0.17815019 | ... P17: =+TOT_Tav2!Q11 -> 0.93522927
A18: di cui:
A19: premi annui | B19: =+TOT_Tav2!C12 -> 337274 | C19: =+TOT_Tav2!D12 -> 0.0048443608 | D19: =+TOT_Tav2!E12 -> 18466 | E19: =+TOT_Tav2!F12 -> 0.0028784011 | F19: =+TOT_Tav2!G12 -> 128410 | G19: =+TOT_Tav2!H12 -> 0.044425285 | H19: =+TOT_Tav2!I12 -> 8201 | I19: =+TOT_Tav2!J12 -> 0.10989308 | ... P19: =+TOT_Tav2!Q12 -> 0.022650445
A20: premi unici | B20: =+TOT_Tav2!C13 -> 2396530 | C20: =+TOT_Tav2!D13 -> -0.036411257 | D20: =+TOT_Tav2!E13 -> 4639624 | E20: =+TOT_Tav2!F13 -> -0.047891062 | F20: =+TOT_Tav2!G13 -> 17972812 | G20: =+TOT_Tav2!H13 -> 0.017154913 | H20: =+TOT_Tav2!I13 -> 328997 | I20: =+TOT_Tav2!J13 -> 0.17851642 | ... P20: =+TOT_Tav2!Q13 -> 0.81675253
A21: premi ricorrenti | B21: =+TOT_Tav2!C14 -> 783166 | C21: =+TOT_Tav2!D14 -> 0.05014133 | D21: =+TOT_Tav2!E14 -> 561036 | E21: =+TOT_Tav2!F14 -> 0.14888938 | F21: =+TOT_Tav2!G14 -> 1107137 | G21: =+TOT_Tav2!H14 -> 0.0010913891 | H21: =+TOT_Tav2!I14 -> 17404 | I21: =+TOT_Tav2!J14 -> 0.20601483 | ... P21: =+TOT_Tav2!Q14 -> 0.095826296
B22: =B19+B20+B21 -> 3516970 | D22: =D19+D20+D21 -> 5219126 | F22: =F19+F20+F21 -> 19208359 | H22: =H19+H20+H21 -> 354602 | J22: =J19+J20+J21 -> 1983556 | L22: =L19+L20+L21 -> 67438 | N22: =N19+N20+N21 -> 30350051 | O22: =O19+O20+O21 -> -0.017476173 | P22: =P19+P20+P21 -> 0.93522927
A23: SETTORE COLLETTIVE
A24: RAMO I | B24: =+TOT_Tav2!C15 -> 193210 | C24: =+TOT_Tav2!D15 -> -0.02984625 | D24: =+TOT_Tav2!E15 -> 4254 | E24: =+TOT_Tav2!F15 -> 0.37982485 | F24: =+TOT_Tav2!G15 -> 240676 | G24: =+TOT_Tav2!H15 -> 0.034965276 | H24: =+TOT_Tav2!I15 -> 146935 | I24: =+TOT_Tav2!J15 -> 0.13910165 | ... P24: =+TOT_Tav2!Q15 -> 0.03425642
A25: RAMO II | B25: =+TOT_Tav2!C16 -> 0 | C25: =+TOT_Tav2!D16 -> 0 | D25: =+TOT_Tav2!E16 -> 0 | E25: =+TOT_Tav2!F16 -> 0 | F25: =+TOT_Tav2!G16 -> 0 | G25: =+TOT_Tav2!H16 -> 0 | H25: =+TOT_Tav2!I16 -> 0 | I25: =+TOT_Tav2!J16 -> 0 | ... P25: =+TOT_Tav2!Q16 -> 0
A26: RAMO III | B26: =+TOT_Tav2!C17 -> 0 | C26: =+TOT_Tav2!D17 -> 0 | D26: =+TOT_Tav2!E17 -> 0 | E26: =+TOT_Tav2!F17 -> 0 | F26: =+TOT_Tav2!G17 -> 0 | G26: =+TOT_Tav2!H17 -> 0 | H26: =+TOT_Tav2!I17 -> 0 | I26: =+TOT_Tav2!J17 -> 0 | ... P26: =+TOT_Tav2!Q17 -> 0.00034041056
A27: RAMO IV | B27: =+TOT_Tav2!C18 -> 6234 | C27: =+TOT_Tav2!D18 -> 0.1332485 | D27: =+TOT_Tav2!E18 -> 6 | E27: =+TOT_Tav2!F18 -> 0 | F27: =+TOT_Tav2!G18 -> 1202 | G27: =+TOT_Tav2!H18 -> 25.130435 | H27: =+TOT_Tav2!I18 -> 4080 | I27: =+TOT_Tav2!J18 -> 0.044279498 | ... P27: =+TOT_Tav2!Q18 -> 0.00052113907
A28: RAMO V | B28: =+TOT_Tav2!C19 -> 41761 | C28: =+TOT_Tav2!D19 -> 0.068712253 | D28: =+TOT_Tav2!E19 -> 9308 | E28: =+TOT_Tav2!F19 -> 50.425414 | F28: =+TOT_Tav2!G19 -> 1044 | G28: =+TOT_Tav2!H19 -> -0.081794195 | H28: =+TOT_Tav2!I19 -> 11701 | I28: =+TOT_Tav2!J19 -> -0.6072831 | ... P28: =+TOT_Tav2!Q19 -> 0.0075510624
A29: RAMO VI | B29: =+TOT_Tav2!C20 -> 69654 | C29: =+TOT_Tav2!D20 -> 0.17071449 | D29: =+TOT_Tav2!E20 -> 29422 | E29: =+TOT_Tav2!F20 -> 0.36074369 | F29: =+TOT_Tav2!G20 -> 30816 | G29: =+TOT_Tav2!H20 -> 0.024161654 | H29: =+TOT_Tav2!I20 -> 8352 | I29: =+TOT_Tav2!J20 -> -0.14827657 | ... P29: =+TOT_Tav2!Q20 -> 0.022101695
A30: TOTALE COLLETTIVE | B30: =+TOT_Tav2!C21 -> 310859 | C30: =+TOT_Tav2!D21 -> 0.025165882 | D30: =+TOT_Tav2!E21 -> 42990 | E30: =+TOT_Tav2!F21 -> 0.7274773 | F30: =+TOT_Tav2!G21 -> 273738 | G30: =+TOT_Tav2!H21 -> 0.037605613 | H30: =+TOT_Tav2!I21 -> 171068 | I30: =+TOT_Tav2!J21 -> -0.0083014493 | ... P30: =+TOT_Tav2!Q21 -> 0.064770727
A31: TOTALE IMPRESE NAZIONALI E RAPPR. DI IMPRESE EXTRA S.E.E. E S.E.E. (a)
B32: =+TOT_Tav2!C22 -> 3827829 | C32: =+TOT_Tav2!D22 -> -0.011340391 | D32: =+TOT_Tav2!E22 -> 5262116 | E32: =+TOT_Tav2!F22 -> -0.026367972 | F32: =+TOT_Tav2!G22 -> 19482097 | G32: =+TOT_Tav2!H22 -> 0.016684353 | H32: =+TOT_Tav2!I22 -> 525670 | I32: =+TOT_Tav2!J22 -> 0.11022172 | ... P32: =+TOT_Tav2!Q22 -> 1
A34: NOTA: sono esclusi i premi relativi alle assicurazioni complementari.
A35: (a) Il totale comprende quindi anche i premi raccolti in Italia dalle rappresentanze di imprese dello Spazio Economico Europeo (il cui controllo è esercitato dalle Autorità di vigilanza dei Paesi di origine) che hanno partecipato alla rilevazione.

Sheet TOT - Tavola 3
A1: ASSICURAZIONI VITA: TOTALE IMPRESE VIGILATE IVASS e RAPPRESENTANZE SEE (a)
A2: Lavoro diretto
A3: ="Nuova produzione emessa a tutto il "&IF(MID(TOT_Tav3!C1,5,4)="0331","1°", IF(MID(TOT_Tav3!C1,5,4)="0630","2°", IF(MID(TOT_Tav3!C1,5,4)="0930","3°","4°")))&" trimestre "&MID(TOT_Tav3!C1,1,4)&" (b)" -> Nuova produzione emessa a tutto il 1° trimestre 2026 (b)
Q4: Importi in migliaia di EURO
A5: CATEGORIE | D5: Assicurazioni di capitali | H5: Assicurazioni di rendite | L5: Premi di tariffa
D6: Numero polizze/teste | F6: Somme assicurate | H6: Numero polizze/teste | J6: Somme assicurate | L6: Annui | M6: Unici | N6: Ricorrenti | O6: Totale
D7: numero | E7: variazione - anno prec. | F7: importo | G7: variazione - anno prec. | H7: numero | I7: variazione - anno prec. | J7: importo | K7: variazione - anno prec. | O7: raccolta | P7: variazione - anno prec. | Q7: incidenza
A8: RAMO I: | B8: ASSICURAZIONI INDIVIDUALI
B9: rivalutabili | D9: =+TOT_Tav3!C2 -> 302281 | E9: =+TOT_Tav3!D2 -> -0.080346223 | F9: =+TOT_Tav3!E2 -> 13544367 | G9: =+TOT_Tav3!F2 -> -0.015728586 | H9: =+TOT_Tav3!G2 -> 31624 | I9: =+TOT_Tav3!H2 -> -0.19095375 | J9: =+TOT_Tav3!I2 -> 26589 | K9: =+TOT_Tav3!J2 -> -0.60298926 | ... Q9: =+TOT_Tav3!P2 -> 0.57745754
B10: di cui: | C10: polizze in valuta | D10: =+TOT_Tav3!C3 -> 102 | E10: =+TOT_Tav3!D3 -> -0.40697674 | F10: =+TOT_Tav3!E3 -> 3353 | G10: =+TOT_Tav3!F3 -> 0.42257106 | H10: =+TOT_Tav3!G3 -> 0 | I10: =+TOT_Tav3!H3 -> 0 | J10: =+TOT_Tav3!I3 -> 0 | K10: =+TOT_Tav3!J3 -> -1 | ... Q10: =+TOT_Tav3!P3 -> 0.00014198001
C11: ex art. 13, co.1, lett. b), d.lgs. 252/05 | D11: =+TOT_Tav3!C4 -> 0 | E11: =+TOT_Tav3!D4 -> 0 | F11: =+TOT_Tav3!E4 -> 0 | G11: =+TOT_Tav3!F4 -> 0 | H11: =+TOT_Tav3!G4 -> 31467 | I11: =+TOT_Tav3!H4 -> -0.19249127 | J11: =+TOT_Tav3!I4 -> 19456 | K11: =+TOT_Tav3!J4 -> -0.69674865 | ... Q11: =+TOT_Tav3!P4 -> 0.0047319353
B12: temporanee di puro rischio | D12: =+TOT_Tav3!C5 -> 244688 | E12: =+TOT_Tav3!D5 -> 0.0021666209 | F12: =+TOT_Tav3!E5 -> 19015358 | G12: =+TOT_Tav3!F5 -> 0.027986827 | H12: =+TOT_Tav3!G5 -> 5 | I12: =+TOT_Tav3!H5 -> 4 | J12: =+TOT_Tav3!I5 -> 5 | K12: =+TOT_Tav3!J5 -> 4 | ... Q12: =+TOT_Tav3!P5 -> 0.012468748
B13: altre | D13: =+TOT_Tav3!C6 -> 3194 | E13: =+TOT_Tav3!D6 -> 2.6295455 | F13: =+TOT_Tav3!E6 -> 259417 | G13: =+TOT_Tav3!F6 -> 2.1545047 | H13: =+TOT_Tav3!G6 -> 0 | I13: =+TOT_Tav3!H6 -> 0 | J13: =+TOT_Tav3!I6 -> 0 | K13: =+TOT_Tav3!J6 -> 0 | ... Q13: =+TOT_Tav3!P6 -> 0.0044312618
B14: TOTALE INDIVIDUALI | D14: =+TOT_Tav3!C7 -> 550163 | E14: =+TOT_Tav3!D7 -> -0.041075142 | F14: =+TOT_Tav3!E7 -> 32819142 | G14: =+TOT_Tav3!F7 -> 0.014793522 | H14: =+TOT_Tav3!G7 -> 31629 | I14: =+TOT_Tav3!H7 -> -0.19084653 | J14: =+TOT_Tav3!I7 -> 26594 | K14: =+TOT_Tav3!J7 -> -0.60292054 | ... Q14: =+TOT_Tav3!P7 -> 0.59435755
B15: di cui: | C15: derivanti da trasformazione | D15: =+TOT_Tav3!C8 -> 6831 | E15: =+TOT_Tav3!D8 -> 3.7110345 | F15: =+TOT_Tav3!E8 -> 408954 | G15: =+TOT_Tav3!F8 -> 1.4981155 | H15: =+TOT_Tav3!G8 -> 0 | I15: =+TOT_Tav3!H8 -> 0 | J15: =+TOT_Tav3!I8 -> 0 | K15: =+TOT_Tav3!J8 -> 0 | ... Q15: =+TOT_Tav3!P8 -> 0.010450176
C16: deriv. da trasf. di posiz. previd. a contr. ex art. 13, co. 1, lett. b), d.lgs. 252/05 | D16: =+TOT_Tav3!C9 -> 0 | E16: =+TOT_Tav3!D9 -> 0 | F16: =+TOT_Tav3!E9 -> 0 | G16: =+TOT_Tav3!F9 -> 0 | H16: =+TOT_Tav3!G9 -> 293 | I16: =+TOT_Tav3!H9 -> 0.11406844 | J16: =+TOT_Tav3!I9 -> 5588 | K16: =+TOT_Tav3!J9 -> 5.2575588 | ... Q16: =+TOT_Tav3!P9 -> 0.00081056065
B17: ASSICURAZIONI COLLETTIVE
B18: T.F.R. di legge | D18: =+TOT_Tav3!C10 -> 387504 | E18: =+TOT_Tav3!D10 -> 997.72165 | F18: =+TOT_Tav3!E10 -> 1605761 | G18: =+TOT_Tav3!F10 -> 1435.28 | H18: =+TOT_Tav3!G10 -> 0 | I18: =+TOT_Tav3!H10 -> 0 | J18: =+TOT_Tav3!I10 -> 0 | K18: =+TOT_Tav3!J10 -> 0 | ... Q18: =+TOT_Tav3!P10 -> 0.0020778293
B19: temporanee di gruppo e altre di rischio | D19: =+TOT_Tav3!C11 -> 682016 | E19: =+TOT_Tav3!D11 -> -0.34464767 | F19: =+TOT_Tav3!E11 -> 87925856 | G19: =+TOT_Tav3!F11 -> -0.040302923 | H19: =+TOT_Tav3!G11 -> 18801 | I19: =+TOT_Tav3!H11 -> 1.6196182 | J19: =+TOT_Tav3!I11 -> 90685 | K19: =+TOT_Tav3!J11 -> 0.86200029 | ... Q19: =+TOT_Tav3!P11 -> 0.012939806
B20: previdenziali | D20: =+TOT_Tav3!C12 -> 18684 | E20: =+TOT_Tav3!D12 -> -0.43097305 | F20: =+TOT_Tav3!E12 -> 184557 | G20: =+TOT_Tav3!F12 -> -0.054838297 | H20: =+TOT_Tav3!G12 -> 10118 | I20: =+TOT_Tav3!H12 -> -0.080516176 | J20: =+TOT_Tav3!I12 -> 385 | K20: =+TOT_Tav3!J12 -> -0.17025862 | ... Q20: =+TOT_Tav3!P12 -> 0.0034570696
B21: TOTALE COLLETTIVE | D21: =+TOT_Tav3!C13 -> 1088204 | E21: =+TOT_Tav3!D13 -> 0.013311184 | F21: =+TOT_Tav3!E13 -> 89716174 | G21: =+TOT_Tav3!F13 -> -0.022856377 | H21: =+TOT_Tav3!G13 -> 28919 | I21: =+TOT_Tav3!H13 -> 0.59061658 | J21: =+TOT_Tav3!I13 -> 91070 | K21: =+TOT_Tav3!J13 -> 0.85225863 | ... Q21: =+TOT_Tav3!P13 -> 0.018474705
A22: TOTALE RAMO I | D22: =+TOT_Tav3!C14 -> 1638367 | E22: =+TOT_Tav3!D14 -> -0.0056268428 | F22: =+TOT_Tav3!E14 -> 122535316 | G22: =+TOT_Tav3!F14 -> -0.013049119 | H22: =+TOT_Tav3!G14 -> 60548 | I22: =+TOT_Tav3!H14 -> 0.057237646 | J22: =+TOT_Tav3!I14 -> 117664 | K22: =+TOT_Tav3!J14 -> 0.013113371 | ... Q22: =+TOT_Tav3!P14 -> 0.61283226
A23: TOTALE RAMO II | D23: =+TOT_Tav3!C15 -> 0 | E23: =+TOT_Tav3!D15 -> 0 | F23: =+TOT_Tav3!E15 -> 0 | G23: =+TOT_Tav3!F15 -> 0 | H23: =+TOT_Tav3!G15 -> 0 | I23: =+TOT_Tav3!H15 -> 0 | J23: =+TOT_Tav3!I15 -> 0 | K23: =+TOT_Tav3!J15 -> 0 | ... Q23: =+TOT_Tav3!P15 -> 0
A24: RAMO III: | B24: ASSICURAZIONI INDIVIDUALI
B25: connesse con fondi interni | D25: =+TOT_Tav3!C16 -> 105469 | E25: =+TOT_Tav3!D16 -> 0.15714348 | F25: =+TOT_Tav3!E16 -> 4008421 | G25: =+TOT_Tav3!F16 -> 0.26273025 | H25: =+TOT_Tav3!G16 -> 34482 | I25: =+TOT_Tav3!H16 -> -0.063218235 | J25: =+TOT_Tav3!I16 -> 28642 | K25: =+TOT_Tav3!J16 -> 0.011941775 | ... Q25: =+TOT_Tav3!P16 -> 0.17575968
B26: di cui: | C26: ex art. 13, co. 1, lett. b), d. lgs. 252/05 | D26: =+TOT_Tav3!C17 -> 0 | E26: =+TOT_Tav3!D17 -> 0 | F26: =+TOT_Tav3!E17 -> 0 | G26: =+TOT_Tav3!F17 -> 0 | H26: =+TOT_Tav3!G17 -> 33812 | I26: =+TOT_Tav3!H17 -> -0.067718099 | J26: =+TOT_Tav3!I17 -> 24038 | K26: =+TOT_Tav3!J17 -> -0.14495073 | ... Q26: =+TOT_Tav3!P17 -> 0.0032638097
B27: connesse con fondi esterni | D27: =+TOT_Tav3!C18 -> 59324 | E27: =+TOT_Tav3!D18 -> 0.006446797 | F27: =+TOT_Tav3!E18 -> 4255949 | G27: =+TOT_Tav3!F18 -> -0.07421508 | H27: =+TOT_Tav3!G18 -> 17536 | I27: =+TOT_Tav3!H18 -> 1.1003713 | J27: =+TOT_Tav3!I18 -> 43249 | K27: =+TOT_Tav3!J18 -> 0.51718936 | ... Q27: =+TOT_Tav3!P18 -> 0.18671371
B28: di cui: | C28: ex art. 13, co. 1, lett. b), d. lgs. 252/05 | D28: =+TOT_Tav3!C19 -> 0 | E28: =+TOT_Tav3!D19 -> 0 | F28: =+TOT_Tav3!E19 -> 0 | G28: =+TOT_Tav3!F19 -> 0 | H28: =+TOT_Tav3!G19 -> 17536 | I28: =+TOT_Tav3!H19 -> 1.1003713 | J28: =+TOT_Tav3!I19 -> 43249 | K28: =+TOT_Tav3!J19 -> 0.51718936 | ... Q28: =+TOT_Tav3!P19 -> 0.0018354841
B29: connesse con indice azionario | D29: =+TOT_Tav3!C20 -> 0 | E29: =+TOT_Tav3!D20 -> 0 | F29: =+TOT_Tav3!E20 -> 5418 | G29: =+TOT_Tav3!F20 -> 0 | H29: =+TOT_Tav3!G20 -> 0 | I29: =+TOT_Tav3!H20 -> 0 | J29: =+TOT_Tav3!I20 -> 0 | K29: =+TOT_Tav3!J20 -> 0 | ... Q29: =+TOT_Tav3!P20 -> 0.00022981009
B30: connesse con altro valore di riferimento | D30: =+TOT_Tav3!C21 -> 0 | E30: =+TOT_Tav3!D21 -> 0 | F30: =+TOT_Tav3!E21 -> 0 | G30: =+TOT_Tav3!F21 -> 0 | H30: =+TOT_Tav3!G21 -> 0 | I30: =+TOT_Tav3!H21 -> 0 | J30: =+TOT_Tav3!I21 -> 0 | K30: =+TOT_Tav3!J21 -> 0 | ... Q30: =+TOT_Tav3!P21 -> 0
B31: TOTALE INDIVIDUALI | D31: =+TOT_Tav3!C22 -> 164793 | E31: =+TOT_Tav3!D22 -> 0.097961223 | F31: =+TOT_Tav3!E22 -> 8269788 | G31: =+TOT_Tav3!F22 -> 0.064112833 | H31: =+TOT_Tav3!G22 -> 52018 | I31: =+TOT_Tav3!H22 -> 0.15191107 | J31: =+TOT_Tav3!I22 -> 71891 | K31: =+TOT_Tav3!J22 -> 0.26546383 | ... Q31: =+TOT_Tav3!P22 -> 0.3627032
B32: di cui: | C32: deriv. da trasf. di posiz. previd. a contr. ex art. 13, co. 1, lett. b), d.lgs. 252/05 | D32: =+TOT_Tav3!C23 -> 0 | E32: =+TOT_Tav3!D23 -> 0 | F32: =+TOT_Tav3!E23 -> 0 | G32: =+TOT_Tav3!F23 -> 0 | H32: =+TOT_Tav3!G23 -> 2385 | I32: =+TOT_Tav3!H23 -> 0.63692519 | J32: =+TOT_Tav3!I23 -> 35881 | K32: =+TOT_Tav3!J23 -> 0.55456869 | ... Q32: =+TOT_Tav3!P23 -> 0.0021230316
B33: ASSICURAZIONI COLLETTIVE | D33: =+TOT_Tav3!C24 -> 226 | E33: =+TOT_Tav3!D24 -> 0.93162393 | F33: =+TOT_Tav3!E24 -> 142 | G33: =+TOT_Tav3!F24 -> -0.77531646 | H33: =+TOT_Tav3!G24 -> 0 | I33: =+TOT_Tav3!H24 -> -1 | J33: =+TOT_Tav3!I24 -> 0 | K33: =+TOT_Tav3!J24 -> -1 | ... Q33: =+TOT_Tav3!P24 -> 1.0382604e-05
A34: TOTALE RAMO III | D34: =+TOT_Tav3!C25 -> 165019 | E34: =+TOT_Tav3!D25 -> 0.098610584 | F34: =+TOT_Tav3!E25 -> 8269930 | G34: =+TOT_Tav3!F25 -> 0.064044574 | H34: =+TOT_Tav3!G25 -> 52018 | I34: =+TOT_Tav3!H25 -> 0.14840162 | J34: =+TOT_Tav3!I25 -> 71891 | K34: =+TOT_Tav3!J25 -> 0.26521885 | ... Q34: =+TOT_Tav3!P25 -> 0.36271359
A35: TOTALE RAMO IV | D35: =+TOT_Tav3!C26 -> 46408 | E35: =+TOT_Tav3!D26 -> 32.315147 | F35: =+TOT_Tav3!E26 -> 224786 | G35: =+TOT_Tav3!F26 -> 4.562633 | H35: =+TOT_Tav3!G26 -> 1068708 | I35: =+TOT_Tav3!H26 -> 1.7279034 | J35: =+TOT_Tav3!I26 -> 15636773 | K35: =+TOT_Tav3!J26 -> 3.032237 | ... Q35: =+TOT_Tav3!P26 -> 0.0014052391
A36: RAMO V: | B36: OPER. DI CAPITALIZZ. INDIVIDUALI | D36: =+TOT_Tav3!C27 -> 419 | E36: =+TOT_Tav3!D27 -> 2.4344262 | F36: =+TOT_Tav3!E27 -> 96813 | G36: =+TOT_Tav3!F27 -> -0.33309683 | H36: =+TOT_Tav3!G27 -> 0 | I36: =+TOT_Tav3!H27 -> 0 | J36: =+TOT_Tav3!I27 -> 0 | K36: =+TOT_Tav3!J27 -> 0 | ... Q36: =+TOT_Tav3!P27 -> 0.0056234465
B37: di cui | C37: contratti ex art. 41 d.lgs. 209/05 | D37: =+TOT_Tav3!C28 -> 0 | E37: =+TOT_Tav3!D28 -> -1 | F37: =+TOT_Tav3!E28 -> 0 | G37: =+TOT_Tav3!F28 -> -1 | H37: =+TOT_Tav3!G28 -> 0 | I37: =+TOT_Tav3!H28 -> 0 | J37: =+TOT_Tav3!I28 -> 0 | K37: =+TOT_Tav3!J28 -> 0 | ... Q37: =+TOT_Tav3!P28 -> 0
C38: connessi con fondi interni | D38: =+TOT_Tav3!C29 -> 0 | E38: =+TOT_Tav3!D29 -> 0 | F38: =+TOT_Tav3!E29 -> 0 | G38: =+TOT_Tav3!F29 -> 0 | H38: =+TOT_Tav3!G29 -> 0 | I38: =+TOT_Tav3!H29 -> 0 | J38: =+TOT_Tav3!I29 -> 0 | K38: =+TOT_Tav3!J29 -> 0 | ... Q38: =+TOT_Tav3!P29 -> 0
C39: connessi con fondi esterni | D39: =+TOT_Tav3!C30 -> 0 | E39: =+TOT_Tav3!D30 -> 0 | F39: =+TOT_Tav3!E30 -> 0 | G39: =+TOT_Tav3!F30 -> 0 | H39: =+TOT_Tav3!G30 -> 0 | I39: =+TOT_Tav3!H30 -> 0 | J39: =+TOT_Tav3!I30 -> 0 | K39: =+TOT_Tav3!J30 -> 0 | ... Q39: =+TOT_Tav3!P30 -> 0
C40: connessi con indice azionario | D40: =+TOT_Tav3!C31 -> 0 | E40: =+TOT_Tav3!D31 -> 0 | F40: =+TOT_Tav3!E31 -> 0 | G40: =+TOT_Tav3!F31 -> 0 | H40: =+TOT_Tav3!G31 -> 0 | I40: =+TOT_Tav3!H31 -> 0 | J40: =+TOT_Tav3!I31 -> 0 | K40: =+TOT_Tav3!J31 -> 0 | ... Q40: =+TOT_Tav3!P31 -> 0
...

Sheet TOT - Tavola 4
A1: ASSICURAZIONI DANNI: TOTALE IMPRESE VIGILATE IVASS e RAPPRESENTANZE SEE (a)
A2: Lavoro diretto
A3: ="Premi lordi contabilizzati "&IF(MID(TOT_Tav4_1!C1,5,4)="0331","1°", IF(MID(TOT_Tav4_1!C1,5,4)="0630","2°", IF(MID(TOT_Tav4_1!C1,5,4)="0930","3°","4°")))&" trimestre "&MID(TOT_Tav4_1!C1,1,4) -> Premi lordi contabilizzati 1° trimestre 2026
E4: Importi in migliaia di EURO
C5: raccolta | D5: variazione - anno precedente | E5: incidenza
A6: =+TOT_Tav4_1!B2 -> Infortuni | C6: =+TOT_Tav4_1!C2 -> 1177744 | D6: =+TOT_Tav4_1!D2 -> 0.034347267 | E6: =+TOT_Tav4_1!E2 -> 0.085622973
A7: =+TOT_Tav4_1!B3 -> Malattia | C7: =+TOT_Tav4_1!C3 -> 1756090 | D7: =+TOT_Tav4_1!D3 -> 0.11612154 | E7: =+TOT_Tav4_1!E3 -> 0.12766921
A8: =+TOT_Tav4_1!B4 -> Corpi di Veicoli Terrestri | C8: =+TOT_Tav4_1!C4 -> 1512076 | D8: =+TOT_Tav4_1!D4 -> 0.070541 | E8: =+TOT_Tav4_1!E4 -> 0.10992919
A9: =+TOT_Tav4_1!B5 -> Corpi di veicoli Ferroviari | C9: =+TOT_Tav4_1!C5 -> 756 | D9: =+TOT_Tav4_1!D5 -> -0.41213064 | E9: =+TOT_Tav4_1!E5 -> 5.4961832e-05
A10: =+TOT_Tav4_1!B6 -> Corpi di Veicoli Aerei | C10: =+TOT_Tav4_1!C6 -> 7922 | D10: =+TOT_Tav4_1!D6 -> -0.13647264 | E10: =+TOT_Tav4_1!E6 -> 0.00057593602
A11: =+TOT_Tav4_1!B7 -> Corpi di Veicoli Marittimi,Lacustri e Fluviali | C11: =+TOT_Tav4_1!C7 -> 80546 | D11: =+TOT_Tav4_1!D7 -> -0.35032546 | E11: =+TOT_Tav4_1!E7 -> 0.0058557615
A12: =+TOT_Tav4_1!B8 -> Merci Trasportate | C12: =+TOT_Tav4_1!C8 -> 127335 | D12: =+TOT_Tav4_1!D8 -> -0.041195428 | E12: =+TOT_Tav4_1!E8 -> 0.009257361
A13: =+TOT_Tav4_1!B9 -> Incendio Ed Elementi Naturali | C13: =+TOT_Tav4_1!C9 -> 1161838 | D13: =+TOT_Tav4_1!D9 -> 0.067161561 | E13: =+TOT_Tav4_1!E9 -> 0.084466594
A14: =+TOT_Tav4_1!B10 -> Altri Danni Ai Beni | C14: =+TOT_Tav4_1!C10 -> 1128005 | D14: =+TOT_Tav4_1!D10 -> 0.010659363 | E14: =+TOT_Tav4_1!E10 -> 0.082006907
A15: =+TOT_Tav4_1!B11 -> R.C. Autoveicoli Terrestri | C15: =+TOT_Tav4_1!C11 -> 3877231 | D15: =+TOT_Tav4_1!D11 -> 0.036870768 | E15: =+TOT_Tav4_1!E11 -> 0.28187794
A16: =+TOT_Tav4_1!B12 -> R.C. Aeromobili | C16: =+TOT_Tav4_1!C12 -> 4837 | D16: =+TOT_Tav4_1!D12 -> 0.21869489 | E16: =+TOT_Tav4_1!E12 -> 0.00035165394
A17: =+TOT_Tav4_1!B13 -> R.C. Veicoli Marittimi, Lacustri E Fluviali | C17: =+TOT_Tav4_1!C13 -> 6240 | D17: =+TOT_Tav4_1!D13 -> -0.21341233 | E17: =+TOT_Tav4_1!E13 -> 0.00045365322
... A22: =+TOT_Tav4_1!B18 -> Tutela Legale | C22: =+TOT_Tav4_1!C18 -> 215121 | D22: =+TOT_Tav4_1!D18 -> 0.050303196 | E22: =+TOT_Tav4_1!E18 -> 0.015639477
A23: Assistenza | C23: =+TOT_Tav4_1!C19 -> 364983 | D23: =+TOT_Tav4_1!D19 -> 0.073236355 | E23: =+TOT_Tav4_1!E19 -> 0.026534569
A24: =+TOT_Tav4_1!B20 -> TOTALE | C24: =+TOT_Tav4_1!C20 -> 13755000 | D24: =+TOT_Tav4_1!D20 -> 0.037518494 | E24: =+TOT_Tav4_1!E20 -> 1
A26: (a) Il totale comprende quindi anche i premi raccolti in Italia da rappresentanze di imprese dello Spazio Economico Europeo (il cui controllo è esercitato dalle Autorità di Vigilanza dei Paesi di origine) che hanno partecipato alla rilevazione.
A29: ="Distribuzione per canale distributivo dei premi lordi "&IF(MID(TOT_Tav4_2!C1,5,4)="0331","1°", IF(MID(TOT_Tav4_2!C1,5,4)="0630","2°", IF(MID(TOT_Tav4_2!C1,5,4)="0930","3°","4°")))&" trimestre "&MID(TOT_Tav4_1!C1,1,4) &" (b)" -> Distribuzione per canale distributivo dei premi lordi 1° trimestre 2026 (b)
H30: Importi in migliaia di EURO
C31: Totale rami danni | F31: R.c.autoveicoli terrestri
C32: raccolta | D32: variazione - anno precedente | E32: incidenza | F32: raccolta | G32: variazione - anno precedente | H32: incidenza
A33: =+TOT_Tav4_2!B2 -> Agenzie con mandato | C33: =+TOT_Tav4_2!C2 -> 8986182 | D33: =+TOT_Tav4_2!D2 -> 0.039460167 | E33: =+TOT_Tav4_2!E2 -> 0.65330294 | F33: =+TOT_Tav4_2!F2 -> 3336322 | G33: =+TOT_Tav4_2!G2 -> 0.026879738 | H33: =+TOT_Tav4_2!H2 -> 0.8604909
A34: Consulenti finanziari | C34: =+TOT_Tav4_2!C3 -> 81238 | D34: =+TOT_Tav4_2!D3 -> 0.34089296 | E34: =+TOT_Tav4_2!E3 -> 0.0059060705 | F34: =+TOT_Tav4_2!F3 -> 212 | G34: =+TOT_Tav4_2!G3 -> 0 | H34: =+TOT_Tav4_2!H3 -> 5.4678197e-05
A35: =+TOT_Tav4_2!B4 -> Sportelli bancari e postali | C35: =+TOT_Tav4_2!C4 -> 1300903 | D35: =+TOT_Tav4_2!D4 -> 0.093952372 | E35: =+TOT_Tav4_2!E4 -> 0.094576736 | F35: =+TOT_Tav4_2!F4 -> 82533 | G35: =+TOT_Tav4_2!G4 -> 0.018473271 | H35: =+TOT_Tav4_2!H4 -> 0.021286583
A36: =+TOT_Tav4_2!B5 -> Brokers | C36: =+TOT_Tav4_2!C5 -> 2167918 | D36: =+TOT_Tav4_2!D5 -> -0.042197057 | E36: =+TOT_Tav4_2!E5 -> 0.15760945 | F36: =+TOT_Tav4_2!F5 -> 210201 | G36: =+TOT_Tav4_2!G5 -> 0.0022457445 | H36: =+TOT_Tav4_2!H5 -> 0.054214206
A37: =+TOT_Tav4_2!B6 -> Agenzie in economia e gerenze | C37: =+TOT_Tav4_2!C6 -> 734105 | D37: =+TOT_Tav4_2!D6 -> 0.24772247 | E37: =+TOT_Tav4_2!E6 -> 0.053370047 | F37: =+TOT_Tav4_2!F6 -> 58892 | G37: =+TOT_Tav4_2!G6 -> 1.7805477 | H37: =+TOT_Tav4_2!H6 -> 0.01518919
A38: =+TOT_Tav4_2!B7 &" (b)" -> Altre forme di vendita diretta (b) | C38: =+TOT_Tav4_2!C7 -> 484654 | D38: =+TOT_Tav4_2!D7 -> -0.051561442 | E38: =+TOT_Tav4_2!E7 -> 0.035234751 | F38: =+TOT_Tav4_2!F7 -> 189071 | G38: =+TOT_Tav4_2!G7 -> 0.059684344 | H38: =+TOT_Tav4_2!H7 -> 0.04876444
A39: =+TOT_Tav4_2!B8 -> TOTALE | C39: =+TOT_Tav4_2!C8 -> 13755000 | D39: =+TOT_Tav4_2!D8 -> 0.037518494 | E39: =+TOT_Tav4_2!E8 -> 1 | F39: =+TOT_Tav4_2!F8 -> 3877231 | G39: =+TOT_Tav4_2!G8 -> 0.036870768 | H39: =+TOT_Tav4_2!H8 -> 1
A41: (b) Il dato comprende anche i premi acquisiti attraverso il canale telefonico e il canale internet

Sheet VIG_Tav1
